{"text_format":"1","workbook":"xlsx","n_sheets":9,"sheets":["使用法","score","member","rireki","スコア報告","組合せ報告","MVP","HDCP","HDCP_old"],"not_rendered":{"charts":0,"images":3,"macros":1,"external_links":0,"defined_names":4,"comments":2,"pivot_tables":0},"unopened":[],"bounds":{"document_bytes":16777216,"sheet_cells":100000,"rows_first":2000,"rows_last":500,"rows_between":2000,"halvings":0,"cell_chars":16384,"cell_head_chars":4096},"cells_cut":0,"cells_raw":0,"read":"whole","date_system":"1900"}

{"sheet":"使用法","index":0,"n_rows":30,"n_cols":2,"rows_kept":30,"cut":false,"hidden":false,"merged":[]}
[]
["本Excelの使用方法"]
[]
["Ⅰ．毎回の使用方法"]
[]
[null,"１．スコアの入力と報告"]
[null,"①「score」シートを選択し、水色の部分（プレー日、コース、各人のスコア）を入力した後、「集計開始」のボタンを押す。"]
[null,"→日付が「rireki」シートに既にある場合は、「日付はこのままで良いですか」と聞いてくるのでOKを押す。"]
[null,"この場合、同じ日付のデータに上書きされます"]
[null,"②「スコア報告」シートに報告用の成績が作成されるので、これをメールに貼り付ける"]
[null,"③同時に「MVP」シートに月間MVPの集計が作成される"]
[null,"→月が新しくなったら、このシートを削除又は名前を変え、「MVP-新規」シートをコピーし、「MVP」と名前を変える"]
[]
[null,"２．次回の組合せ作成"]
[null,"①「score」シートを選択し、黄色の部分（64行目の組合せ日）を入力し、「次回組合せ作成開始」ボタンを押す。"]
[null,"②「参加予定ファイルを指定してください」というファイル選択画面が出るので、予定日の参加予定が入っている参加予定ファイルを選択する。"]
[null,"→参加予定ファイルとは、次回プレイ月の参加予定とコースの予約表が入っているファイル：添付ファイルと同じ形のもの。"]
[null,"→sanka.xls、sanka0905.xlsなどファイル名は何でも良い"]
[]
[null,"③「組合せ報告」シートに次回組合せが作成されるので、これをコピーしてメールに貼り付ける"]
[null,"＊マッチプレイの時は、③の結果を元に、対戦を考えて人手で修正する"]
[]
["*上記1と２を実行すると、このExcelがあるフォルダに「メール報告」というテキストファイルができる。"]
["このファイルの中身をメールに張り付ければ、簡単にスコア報告と次回組合せができる"]
[]
["Ⅱ．ハンディキャップの計算"]
[]
[null,"①「HDCP」シートを選択し、水色の部分（基準日、その日までのスコアでHDCPを計算）を入力後、「HDCP計算開始」ボタンを押す。"]
[null,"②自動計算されるが、前回順位のカット率などをその後に変更することもできる。"]
[null,"（マクロで計算されるのは、最近の１０回のスコアを表に埋めるところまでで、その後の計算はExcelに埋め込まれた式によって計算される）"]

{"sheet":"score","index":1,"n_rows":64,"n_cols":9,"rows_kept":64,"cut":false,"hidden":false,"merged":[]}
["１．スコア報告作成"]
[null,null,"の欄を入力後、下の「集計開始」ボタンを押して下さい。"]
[null,"日付は4/18のように入力して下さい"]
["エメラルド",1,"プレー日",null,null,null,null,"エメラルド",71]
["ダイヤモンド",0,"2025-12-19","←間違えないように！",null,null,null,"ダイヤモンド",72]
["コース",0,null,"OUT","IN","Total","HDCP","Net","参加"]
[1,{"$f":"VLOOKUP(A7,namelist,2)","v":"あべ"},{"$f":"VLOOKUP(A7,namelist,3)","v":"阿部三郎"},51,48,{"$f":"SUM(D7:E7)","v":99},{"$f":"member!D4","v":16.899999999999999},{"$f":"+IF(F7>0,+F7-G7,\"\")","v":82.1},{"$f":"+IF(F7>0,1,\" \")","v":1}]
[2,0,0,null,null,{"$f":"SUM(D8:E8)","v":0},{"$f":"member!D5","v":31.5},{"$f":"+IF(F8>0,+F8-G8,\"\")","v":""}," "]
[3,"いちげ","市毛弘文",null,null,{"$f":"SUM(D9:E9)","v":0},{"$f":"member!D6","v":36.4},""," "]
[4,"いわもと","岩本　隆",null,null,0,{"$f":"member!D7","v":14},""," "]
[5,0,0,null,null,0,{"$f":"member!D8","v":26.7},""," "]
[6,"おおやま","大山光男",null,null,0,{"$f":"member!D9","v":27.1},""," "]
[7,{"$f":"VLOOKUP(A13,namelist,2)","v":0},0,null,null,0,{"$f":"member!D10","v":32.6},""," "]
[8,{"$f":"VLOOKUP(A14,namelist,2)","v":"まつのぶ"},{"$f":"VLOOKUP(A14,namelist,3)","v":"松延洋昭"},39,37,76,{"$f":"member!D11","v":4.8},71.2,1]
[9,0,0,null,null,0,{"$f":"member!D12","v":16.100000000000001},""," "]
[10,{"$f":"VLOOKUP(A16,namelist,2)","v":0},{"$f":"VLOOKUP(A16,namelist,3)","v":0},null,null,0,{"$f":"member!D13","v":0},""," "]
[11,{"$f":"VLOOKUP(A17,namelist,2)","v":"たなべ"},{"$f":"VLOOKUP(A17,namelist,3)","v":"田辺庄司"},37,39,76,{"$f":"member!D14","v":7},69,1]
[12,0,0,null,null,0,{"$f":"member!D15","v":24},""," "]
[13,"すじゃく","朱雀　健",46,48,94,{"$f":"member!D16","v":17.7},76.3,1]
[14,"たかぎ","高木克三",49,54,103,{"$f":"member!D17","v":20.5},82.5,1]
[15,"なかおか","中岡　信",50,46,96,{"$f":"member!D18","v":18.2},77.8,1]
[16,{"$f":"VLOOKUP(A22,namelist,2)","v":"さとう"},{"$f":"VLOOKUP(A22,namelist,3)","v":"佐藤瑠美"},null,null,0,{"$f":"member!D19","v":40.4},""," "]
[17,"さとう","佐藤英彦",45,48,93,{"$f":"member!D20","v":15.9},77.099999999999994,1]
[18,"さかい","酒井里子",42,47,89,{"$f":"member!D21","v":15.9},73.099999999999994,1]
[19,0,0,null,null,0,{"$f":"member!D22","v":20.399999999999999},""," "]
[20,0,0,null,null,0,{"$f":"member!D23","v":25.2},""," "]
[21,0,0,null,null,0,{"$f":"member!D24","v":25},""," "]
[22,"よねはら","米原　治",null,null,0,{"$f":"member!D25","v":36.4},""," "]
[23,"むらかみ","村上欣永",null,null,0,{"$f":"member!D26","v":36.4},""," "]
[24,0,0,null,null,{"$f":"SUM(D30:E30)","v":0},{"$f":"member!D27","v":20.5},{"$f":"+IF(F30>0,+F30-G30,\"\")","v":""},{"$f":"+IF(F30>0,1,\" \")","v":" "}]
[25,{"$f":"VLOOKUP(A31,namelist,2)","v":"おのもと"},{"$f":"VLOOKUP(A31,namelist,3)","v":"尾野本哲廣"},null,null,{"$f":"SUM(D31:E31)","v":0},{"$f":"member!D28","v":17.100000000000001},""," "]
[26,{"$f":"VLOOKUP(A32,namelist,2)","v":0},{"$f":"VLOOKUP(A32,namelist,3)","v":0},null,null,0,{"$f":"member!D29","v":27.1},""," "]
[27,"つのだ","角田啓三郎",null,null,0,{"$f":"member!D30","v":12.9},""," "]
[28,"いわはし","岩橋みどり",null,null,0,{"$f":"member!D31","v":11.1},{"$f":"+IF(F34>0,+F34-G34,\"\")","v":""},{"$f":"+IF(F34>0,1,\" \")","v":" "}]
[29,"いわはし","岩橋　厚",41,40,81,{"$f":"member!D32","v":12.3},68.7,1]
[30,"ほしやま","星山　隆",null,null,0,{"$f":"member!D33","v":14.2},""," "]
[31,"たかお","高雄　徹",38,44,82,{"$f":"member!D34","v":6.3},{"$f":"+IF(F37>0,+F37-G37,\"\")","v":75.7},{"$f":"+IF(F37>0,1,\" \")","v":1}]
[32,"かいはら","海原範隆",null,null,{"$f":"SUM(D38:E38)","v":0},{"$f":"member!D35","v":31.7},{"$f":"+IF(F38>0,+F38-G38,\"\")","v":""},{"$f":"+IF(F38>0,1,\" \")","v":" "}]
[33,{"$f":"VLOOKUP(A39,namelist,2)","v":"ごとう"},{"$f":"VLOOKUP(A39,namelist,3)","v":"後藤聡志"},null,null,{"$f":"SUM(D39:E39)","v":0},{"$f":"member!D36","v":21.4},{"$f":"+IF(F39>0,+F39-G39,\"\")","v":""},{"$f":"+IF(F39>0,1,\" \")","v":" "}]
[34,null,null,null,null,0,{"$f":"member!D37","v":0},""," "]
[35,{"$f":"VLOOKUP(A41,namelist,2)","v":0},{"$f":"VLOOKUP(A41,namelist,3)","v":0},null,null,0,null,""]
[36,0,0,null,null,0,null,""]
[37,0,0,null,null,0,null,""]
[38,0,0,null,null,0,null,""]
[39,0,0,null,null,0,null,""]
[40,0,0,null,null,0,null,""]
[41,0,0,null,null,0,null,""]
[42,0,0,null,null,0,null,""]
[43,0,0,null,null,0,null,""]
[44,0,0,null,null,0,null,""]
[45,0,0,null,null,0,null,""]
[46,0,0,null,null,0,null,""]
[47,0,0,null,null,0,null,""]
[48,0,0,null,null,0,null,""]
[49,0,0,null,null,0,null,""]
[50,0,0,null,null,0,null,""]
[]
[null,null,"参加人数",null,null,null,null,null,{"$f":"+COUNT(I7:I57)","v":10}]
[]
["２．次回組合せ作成"]
[null,null,"の欄（日付）を入力後、下の「次回組合せ作成開始」ボタンを押して下さい。"]
[null,null,"日付は4/18のように入力して下さい。但し来年の日付を入れる場合は2019/1/5のように入力下さい。"]
[]
[null,"組合せ日","2025-12-27"]

{"sheet":"member","index":2,"n_rows":53,"n_cols":9,"rows_kept":53,"cut":false,"hidden":false,"merged":[]}
[null,"現状会員ID数",34,"名"]
[]
["ID","ふりがな","姓名","HDCP","最新プレー日","最新スコア"]
[1,"あべ","阿部三郎",16.899999999999999,"2025-12-19",99]
[2,null,null,31.5,"2020-11-28",108]
[3,"いちげ","市毛弘文",36.4,"2025-04-26",118,"GoldTie使用、上限規定"]
[4,"いわもと","岩本　隆",14,"2025-12-06",91,"６月SP戦優勝で10％カット"]
[5,null,null,26.7,"2019-11-30",101]
[6,"おおやま","大山光男",27.1,"2025-12-06",108]
[7,null,null,32.6,"2020-08-22",120]
[8,"まつのぶ","松延洋昭",4.8,"2025-12-19",76,"GT使用"]
[9,null,null,16.100000000000001,"2019-11-18",99]
[10,null,null,0,"00:00:00",0]
[11,"たなべ","田辺庄司",7,"2025-12-19",76,"GT使用"]
[12,null,null,24,"2020-11-09",92]
[13,"すじゃく","朱雀　健",17.7,"2025-12-19",94,"12月SP戦で優勝20%カット"]
[14,"たかぎ","高木克三",20.5,"2025-12-19",103]
[15,"なかおか","中岡　信",18.2,"2025-12-19",96,"GT使用"]
[16,"さとう","佐藤瑠美",40.4,"2018-05-26",136,"上限規定による"]
[17,"さとう","佐藤英彦",15.9,"2025-12-19",93,"12月MP戦で優勝10%カット"]
[18,"さかい","酒井里子",15.9,"2025-12-19",89]
[19,null,null,20.399999999999999,"2021-03-06",97]
[20,null,null,25.2,"2021-04-17",117]
[21,null,null,25,"2020-12-07",113]
[22,"よねはら","米原　治",36.4,"2025-12-06",112,"GoldTie使用、上限規定"]
[23,"むらかみ","村上欣永",36.4,"2025-04-05",107,"GoldTie使用、上限規定"]
[24,null,null,20.5,"2020-12-26",100]
[25,"おのもと","尾野本哲廣",17.100000000000001,"2025-12-13",93,"12/6よりGT使用により2.5調整(19.6→17.1)"]
[26,null,null,27.1,"2021-02-27",97]
[27,"つのだ","角田啓三郎",12.9,"2025-12-06",94]
[28,"いわはし","岩橋みどり",11.1,"2025-12-13",78]
[29,"いわはし","岩橋　厚",12.3,"2025-12-19",81]
[30,"ほしやま","星山　隆",14.2,"2025-12-13",88]
[31,"たかお","高雄　徹",6.3,"2025-12-19",82]
[32,"かいはら","海原範隆",31.7,"2025-11-29",106,"11/29で6","回参加","暫定HDCP"]
[33,"ごとう","後藤聡志",21.4,"2025-12-13",105,"11/29で6","回参加","暫定HDCP"]
[34,null,null,0,"00:00:00",0]
[35,null,null,{"$error":"#NUM!"}]
[36,null,null,{"$error":"#NUM!"}]
[37,null,null,{"$error":"#NUM!"}]
[38,null,null,{"$error":"#NUM!"}]
[39,null,null,{"$error":"#NUM!"}]
[40,null,null,{"$error":"#NUM!"}]
[41,null,null,{"$error":"#NUM!"}]
[42,null,null,{"$error":"#NUM!"}]
[43,null,null,{"$error":"#NUM!"}]
[44,null,null,{"$error":"#NUM!"}]
[45,null,null,{"$error":"#NUM!"}]
[46,null,null,{"$error":"#NUM!"}]
[47,null,null,{"$error":"#NUM!"}]
[48,null,null,{"$error":"#NUM!"}]
[49,null,null,{"$error":"#NUM!"}]
[50,null,null,{"$error":"#NUM!"}]

{"sheet":"rireki","index":3,"n_rows":919,"n_cols":53,"rows_kept":919,"cut":false,"hidden":false,"merged":[]}
[null,"コース","ID",1,2,3,4,5,6,7,8,9,10,11,12,13,14,15,16,17,18,19,20,21,22,23,24,25,26,27,28,29,30,31,32,33,34,35,36,37,38,39,40,41,42,43,44,45,46,47,48,49,50]
["回数",null,null,{"$f":"VLOOKUP(D1,namelist,2)","v":"あべ"},0,"いちげ","いわもと",0,"おおやま",{"$f":"VLOOKUP(J1,namelist,2)","v":0},"まつのぶ",0,0,{"$f":"VLOOKUP(N1,namelist,2)","v":"たなべ"},0,"すじゃく","たかぎ","なかおか","さとう","さとう",{"$f":"VLOOKUP(U1,namelist,2)","v":"さかい"},0,0,0,"よねはら","むらかみ",0,"おのもと",0,"つのだ","いわはし","いわはし","ほしやま","たかお","かいはら",{"$f":"VLOOKUP(AJ1,namelist,2)","v":"ごとう"},0,0,0,0,0,0,0,0,0,0,0,0,0,0,0,0,0]
[917,null,null,{"$f":"VLOOKUP(D1,namelist,3)","v":"阿部三郎"},0,"市毛弘文","岩本　隆",0,"大山光男",{"$f":"VLOOKUP(J1,namelist,3)","v":0},"松延洋昭",0,0,{"$f":"VLOOKUP(N1,namelist,3)","v":"田辺庄司"},0,"朱雀　健","高木克三","中岡　信","佐藤瑠美","佐藤英彦",{"$f":"VLOOKUP(U1,namelist,3)","v":"酒井里子"},0,0,0,"米原　治","村上欣永",0,"尾野本哲廣",0,"角田啓三郎","岩橋みどり","岩橋　厚","星山　隆","高雄　徹","海原範隆",{"$f":"VLOOKUP(AJ1,namelist,3)","v":"後藤聡志"},0,0,0,0,0,0,0,0,0,0,0,0,0,0,0,0,0]
[917,0,"2025-12-19",99,0,0,0,0,0,0,76,0,0,76,0,94,103,96,0,93,89,0,0,0,0,0,0,0,0,0,0,81,0,82,0,0,0,0,0,0,0,0,0,0,0,0,0,0,0,0,0,0,0]
[916,1,"2025-12-13",102,0,0,0,0,0,0,88,0,0,79,0,104,0,106,0,0,94,0,0,0,0,0,0,93,0,0,78,0,88,89,0,105,0,0,0,0,0,0,0,0,0,0,0,0,0,0,0,0,0]
[915,1,"2025-12-06",90,0,0,91,0,108,0,83,0,0,78,0,89,99,110,0,87,0,0,0,0,112,0,0,90,0,94,0,91,0,89,0,0,0,0,0,0,0,0,0,0,0,0,0,0,0,0,0,0,0]
[914,1,"2025-11-29",102,0,0,0,0,110,0,84,0,0,83,0,118,0,0,0,95,0,0,0,0,0,0,0,93,0,0,91,0,93,87,106,100,0,0,0,0,0,0,0,0,0,0,0,0,0,0,0,0,0]
[913,0,"2025-11-21",96,0,0,0,0,0,0,86,0,0,80,0,0,104,103,0,97,0,0,0,0,125,0,0,96,0,0,0,0,0,95,0,0,0,0,0,0,0,0,0,0,0,0,0,0,0,0,0,0,0]
[912,1,"2025-11-15",92,0,0,95,0,0,0,79,0,0,80,0,0,102,0,0,0,0,0,0,0,0,0,0,98,0,96,0,0,101,79,0,96,0,0,0,0,0,0,0,0,0,0,0,0,0,0,0,0,0]
[911,1,"2025-11-08",94,0,0,91,0,0,0,80,0,0,0,0,103,0,119,0,90,0,0,0,0,106,0,0,106,0,84,0,0,0,85,106,0,0,0,0,0,0,0,0,0,0,0,0,0,0,0,0,0,0]
[910,1,"2025-11-01",97,0,0,93,0,0,0,0,0,0,84,0,0,95,102,0,0,0,0,0,0,0,0,0,104,0,94,0,0,86,80,0,0,0,0,0,0,0,0,0,0,0,0,0,0,0,0,0,0,0]
[909,1,"2025-10-25",0,0,0,0,0,0,0,0,0,0,79,0,0,0,0,0,0,0,0,0,0,0,0,0,0,0,0,84,0,0,89,0,89,0,0,0,0,0,0,0,0,0,0,0,0,0,0,0,0,0]
[908,0,"2025-10-17",97,0,0,91,0,100,0,85,0,0,78,0,0,96,104,0,0,95,0,0,0,0,0,0,106,0,0,0,86,93,84,0,0,0,0,0,0,0,0,0,0,0,0,0,0,0,0,0,0,0]
[907,1,"2025-10-11",0,0,0,0,0,0,0,0,0,0,0,0,0,98,90,0,0,0,0,0,0,0,0,0,0,0,0,87,86,89,78,0,102,0,0,0,0,0,0,0,0,0,0,0,0,0,0,0,0,0]
[906,1,"2025-10-04",98,0,0,0,0,0,0,76,0,0,0,0,97,90,103,0,97,0,0,0,0,0,0,0,93,0,91,0,80,93,78,104,99,0,0,0,0,0,0,0,0,0,0,0,0,0,0,0,0,0]
[905,1,"2025-09-27",87,0,0,0,0,0,0,73,0,0,77,0,0,0,106,0,93,85,0,0,0,0,0,0,95,0,0,83,0,0,76,106,95,0,0,0,0,0,0,0,0,0,0,0,0,0,0,0,0,0]
[904,0,"2025-09-19",93,0,0,89,0,97,0,82,0,0,84,0,100,99,0,0,95,93,0,0,0,0,0,0,0,0,0,0,0,87,84,0,0,0,0,0,0,0,0,0,0,0,0,0,0,0,0,0,0,0]
[903,1,"2025-09-13",0,0,0,93,0,0,0,77,0,0,0,0,104,0,92,0,0,0,0,0,0,0,0,0,0,0,94,0,0,0,84,102,0,0,0,0,0,0,0,0,0,0,0,0,0,0,0,0,0,0]
[902,1,"2025-09-06",88,0,0,0,0,0,0,75,0,0,78,0,0,98,94,0,93,0,0,0,0,0,0,0,94,0,85,91,88,88,75,0,0,0,0,0,0,0,0,0,0,0,0,0,0,0,0,0,0,0]
[901,1,"2025-08-30",94,0,0,91,0,0,0,0,0,0,77,0,111,0,96,0,95,0,0,0,0,0,0,0,0,0,0,81,0,0,0,0,0,0,0,0,0,0,0,0,0,0,0,0,0,0,0,0,0,0]
[900,1,"2025-08-23",90,0,0,86,0,0,0,78,0,0,79,0,0,0,104,0,83,94,0,0,0,0,0,0,98,0,0,86,0,88,77,0,0,0,0,0,0,0,0,0,0,0,0,0,0,0,0,0,0,0]
[899,0,"2025-08-15",97,0,0,88,0,0,0,82,0,0,80,0,0,91,0,0,89,94,0,0,0,0,0,0,98,0,0,0,86,82,84,0,0,0,0,0,0,0,0,0,0,0,0,0,0,0,0,0,0,0]
[898,1,"2025-08-09",100,0,0,85,0,0,0,77,0,0,79,0,0,92,103,0,0,85,0,0,0,0,0,0,94,0,86,0,0,82,83,0,0,0,0,0,0,0,0,0,0,0,0,0,0,0,0,0,0,0]
[897,1,"2025-08-02",93,0,0,92,0,102,0,81,0,0,84,0,0,0,92,0,91,0,0,0,0,0,0,0,100,0,82,83,0,92,83,0,0,0,0,0,0,0,0,0,0,0,0,0,0,0,0,0,0,0]
[896,1,"2025-07-26",91,0,0,88,0,0,0,83,0,0,74,0,0,0,0,0,95,0,0,0,0,0,0,0,94,0,0,82,0,0,81,0,0,null,0,0,0,0,0,0,0,0,0,0,0,0,0,0,0,0]
[895,0,"2025-07-18",78,0,0,94,0,0,0,0,0,0,79,0,98,98,0,0,0,0,0,0,0,0,0,0,96,0,0,0,0,88,78,0,0,0,0,0,0,0,0,0,0,0,0,0,0,0,0,0,0,0]
[894,1,"2025-07-12",76,0,0,0,0,0,0,78,0,0,77,0,94,95,93,0,0,0,0,0,0,0,0,0,95,0,85,84,0,85,78,0,0,0,0,0,0,0,0,0,0,0,0,0,0,0,0,0,0,0]
[893,1,"2025-07-05",91,0,0,0,0,0,0,84,0,0,73,0,87,99,98,0,0,0,0,0,0,0,0,0,93,0,87,84,0,84,0,0,0,0,0,0,0,0,0,0,0,0,0,0,0,0,0,0,0,0]
[892,1,"2025-06-28",90,0,0,101,0,0,0,77,0,0,80,0,95,95,99,0,0,0,0,0,0,0,0,0,103,0,0,0,0,90,0,0,0,0,0,0,0,0,0,0,0,0,0,0,0,0,0,0,0,0]
[891,0,"2025-06-20",85,0,0,0,0,0,0,88,0,0,79,0,98,94,101,0,90,0,0,0,0,0,0,0,95,0,0,0,90,92,78,112,0,0,0,0,0,0,0,0,0,0,0,0,0,0,0,0,0,0]
[890,1,"2025-06-14",83,0,0,0,0,0,0,84,0,0,82,0,0,101,97,0,92,0,0,0,0,0,0,0,0,0,91,0,0,91,80,0,0,0,0,0,0,0,0,0,0,0,0,0,0,0,0,0,0,0]
[889,1,"2025-06-07",88,0,0,85,0,101,0,83,0,0,77,0,108,98,99,0,96,0,0,0,0,109,0,0,97,0,88,0,0,91,95,0,0,0,0,0,0,0,0,0,0,0,0,0,0,0,0,0,0,0]
[888,1,"2025-05-24",93,0,0,0,0,0,0,85,0,0,76,0,92,98,0,0,87,87,0,0,0,112,0,0,101,0,0,0,0,89,0,0,0,0,0,0,0,0,0,0,0,0,0,0,0,0,0,0,0,0]
[887,0,"2025-05-16",103,0,0,0,0,0,0,85,0,0,82,0,0,0,106,0,0,90,0,0,0,0,0,0,101,0,0,0,88,88,87,0,0,0,0,0,0,0,0,0,0,0,0,0,0,0,0,0,0,0]
[886,1,"2025-05-10",0,0,0,0,0,0,0,0,0,0,0,0,102,0,90,0,90,0,0,0,0,0,0,0,0,0,0,0,0,0,82,0,0,0,0,0,0,0,0,0,0,0,0,0,0,0,0,0,0,0]
[885,1,"2025-04-26",101,0,118,98,0,102,0,77,0,0,83,0,102,96,104,0,0,0,0,0,0,0,0,0,94,0,0,0,0,0,82,0,0,0,0,0,0,0,0,0,0,0,0,0,0,0,0,0,0,0]
[884,0,"2025-04-18",100,0,0,96,0,109,0,83,0,0,77,0,0,100,95,0,91,0,0,0,0,0,0,0,88,0,0,0,0,98,84,0,0,0,0,0,0,0,0,0,0,0,0,0,0,0,0,0,0,0]
[883,1,"2025-04-12",88,0,0,94,0,0,0,87,0,0,82,0,0,0,100,0,0,0,0,0,0,0,0,0,0,0,94,0,0,0,88,0,0,0,0,0,0,0,0,0,0,0,0,0,0,0,0,0,0,0]
[882,1,"2025-04-05",87,0,0,0,0,0,0,83,0,0,80,0,97,91,109,0,89,0,0,0,0,0,107,0,91,0,94,0,0,0,0,0,0,0,0,0,0,0,0,0,0,0,0,0,0,0,0,0,0,0]
[881,0,"2025-03-21",99,0,0,96,0,0,0,86,0,0,87,0,95,0,94,0,102,93,0,0,0,0,115,0,96,0,0,0,0,0,0,0,0,0,0,0,0,0,0,0,0,0,0,0,0,0,0,0,0,0]
[880,1,"2025-03-15",101,0,0,96,0,0,0,0,0,0,80,0,107,108,0,0,98,0,0,0,0,110,119,0,95,0,92,0,0,87,90,0,0,0,0,0,0,0,0,0,0,0,0,0,0,0,0,0,0,0]
[879,1,"2025-03-08",102,0,0,0,0,0,0,79,0,0,83,0,0,0,108,0,92,0,0,0,0,0,136,0,98,0,99,0,0,94,88,0,0,0,0,0,0,0,0,0,0,0,0,0,0,0,0,0,0,0]
[878,1,"2025-03-01",95,0,116,0,0,0,0,90,0,0,77,0,92,102,101,0,90,0,0,0,0,0,120,0,94,0,0,0,0,97,0,0,0,0,0,0,0,0,0,0,0,0,0,0,0,0,0,0,0,0]
[877,0,"2025-02-21",99,0,112,0,0,0,0,94,0,0,79,0,103,0,102,0,99,0,0,0,0,0,0,0,98,0,0,0,0,98,86,0,0,0,0,0,0,0,0,0,0,0,0,0,0,0,0,0,0,0]
[876,1,"2025-02-14",97,0,0,0,0,0,0,0,0,0,0,0,95,96,93,0,92,0,0,0,0,0,0,0,100,0,0,0,0,0,81,0,0,0,0,0,0,0,0,0,0,0,0,0,0,0,0,0,0,0]
[875,1,"2025-02-08",100,0,0,0,0,0,0,81,0,0,85,0,99,0,102,0,97,0,0,0,0,0,0,0,95,0,98,0,0,0,0,0,0,0,0,0,0,0,0,0,0,0,0,0,0,0,0,0,0,0]
[874,1,"2025-02-01",94,0,122,0,0,0,0,83,0,0,86,0,93,99,96,0,90,0,0,0,0,0,0,0,94,0,91,0,0,94,0,0,0,0,0,0,0,0,0,0,0,0,0,0,0,0,0,0,0,0]
[873,1,"2025-01-25",89,0,127,0,0,0,0,89,0,0,87,0,88,96,98,0,0,94,0,0,0,0,0,0,91,0,0,0,0,94,84,0,0,0,0,0,0,0,0,0,0,0,0,0,0,0,0,0,0,0]
[872,0,"2025-01-17",98,0,0,0,0,0,0,86,0,0,0,0,102,0,0,0,91,0,0,0,0,0,0,0,99,0,0,0,0,92,85,0,0,0,0,0,0,0,0,0,0,0,0,0,0,0,0,0,0,0]
[871,1,"2025-01-11",99,0,0,0,0,0,0,81,0,0,88,0,0,99,101,0,0,0,0,0,0,0,0,0,99,0,87,0,0,98,0,0,0,0,0,0,0,0,0,0,0,0,0,0,0,0,0,0,0,0]
[870,1,"2025-01-04",0,0,0,0,0,0,0,76,0,0,90,0,91,0,0,0,99,0,0,0,0,0,0,0,0,0,81,0,0,85,0,0,0,0,0,0,0,0,0,0,0,0,0,0,0,0,0,0,0,0]
[869,1,"2024-12-28",94,0,0,0,0,0,0,86,0,0,89,0,100,105,108,0,90,95,0,0,0,0,0,0,92,0,0,0,0,95,86,0,0,0,0,0,0,0,0,0,0,0,0,0,0,0,0,0,0,0]
[868,0,"2024-12-20",89,0,0,97,0,0,0,0,0,0,0,0,102,96,0,0,0,0,0,0,0,0,0,0,96,0,0,0,0,91,87,0,0,0,0,0,0,0,0,0,0,0,0,0,0,0,0,0,0,0]
[867,1,"2024-12-14",103,0,0,0,0,0,0,81,0,0,83,0,94,98,112,0,0,0,0,0,0,0,0,0,91,0,88,0,97,87,85,0,0,0,0,0,0,0,0,0,0,0,0,0,0,0,0,0,0,0]
[866,1,"2024-12-07",103,0,0,0,0,107,0,88,0,0,82,0,120,89,108,0,91,96,0,0,0,132,125,0,91,0,86,0,95,0,0,0,0,0,0,0,0,0,0,0,0,0,0,0,0,0,0,0,0,0]
[865,1,"2024-11-30",91,0,0,95,0,111,0,88,0,0,92,0,94,0,110,0,0,0,0,0,0,120,0,0,0,0,0,0,83,97,83,0,0,0,0,0,0,0,0,0,0,0,0,0,0,0,0,0,0,0]
[864,0,"2024-11-15",94,0,0,98,0,0,0,0,0,0,0,0,103,101,110,0,90,0,0,0,0,0,118,0,101,0,0,0,87,96,82,0,0,0,0,0,0,0,0,0,0,0,0,0,0,0,0,0,0,0]
[863,1,"2024-11-09",94,0,0,0,0,0,0,92,0,0,92,0,0,0,112,0,94,0,0,0,0,116,123,0,95,0,97,102,95,96,0,0,0,0,0,0,0,0,0,0,0,0,0,0,0,0,0,0,0,0]
[862,1,"2024-10-26",85,0,0,0,0,0,0,86,0,0,81,0,97,96,102,0,86,0,0,0,0,0,0,0,0,0,0,0,0,90,86,0,0,0,0,0,0,0,0,0,0,0,0,0,0,0,0,0,0,0]
[861,0,"2024-10-18",89,0,112,0,0,0,0,0,0,0,89,0,99,103,112,0,0,0,0,0,0,0,126,0,96,0,0,0,86,88,81,0,0,0,0,0,0,0,0,0,0,0,0,0,0,0,0,0,0,0]
[860,1,"2024-10-12",93,0,107,96,0,0,0,94,0,0,86,0,100,0,93,0,95,0,0,0,0,0,120,0,91,0,85,0,87,78,86,0,0,0,0,0,0,0,0,0,0,0,0,0,0,0,0,0,0,0]
[859,1,"2024-10-05",0,0,115,0,0,0,0,90,0,0,85,0,0,99,0,0,93,0,0,0,0,0,0,0,0,0,88,95,85,0,0,0,0,0,0,0,0,0,0,0,0,0,0,0,0,0,0,0,0,0]
[858,1,"2024-09-28",95,0,0,0,0,0,0,84,0,0,79,0,100,102,101,0,89,88,0,0,0,0,117,0,96,0,0,0,0,87,82,0,0,0,0,0,0,0,0,0,0,0,0,0,0,0,0,0,0,0]
[857,0,"2024-09-20",95,0,0,108,0,0,0,92,0,0,88,0,0,115,0,0,94,0,0,0,0,0,0,0,100,0,0,0,88,85,88,0,0,0,0,0,0,0,0,0,0,0,0,0,0,0,0,0,0,0]
[856,1,"2024-09-14",98,0,102,101,0,0,0,80,0,0,85,0,95,100,95,0,93,89,0,0,0,0,118,0,0,0,0,0,81,90,82,0,0,0,0,0,0,0,0,0,0,0,0,0,0,0,0,0,0,0]
[855,1,"2024-09-07",99,0,118,0,0,0,0,87,0,0,88,0,97,0,111,0,88,0,0,0,0,0,105,0,93,0,86,0,90,87,0,0,0,0,0,0,0,0,0,0,0,0,0,0,0,0,0,0,0,0]
[854,1,"2024-08-24",91,0,0,99,0,0,0,82,0,0,81,0,0,0,101,0,87,0,0,0,0,0,115,0,90,0,0,0,0,0,84,0,0,0,0,0,0,0,0,0,0,0,0,0,0,0,0,0,0,0]
[853,1,"2024-08-10",82,0,0,0,0,0,0,88,0,0,0,0,92,0,108,0,90,0,0,0,0,0,105,0,98,0,94,0,0,0,79,0,0,0,0,0,0,0,0,0,0,0,0,0,0,0,0,0,0,0]
[852,1,"2024-08-03",100,0,0,0,0,0,0,85,0,0,87,0,98,0,101,0,0,0,0,0,0,0,0,0,99,0,84,0,0,0,81,0,0,0,0,0,0,0,0,0,0,0,0,0,0,0,0,0,0,0]
[851,1,"2024-07-27",83,0,0,96,0,98,0,80,0,0,80,0,91,89,102,0,96,0,0,0,0,0,0,0,88,0,0,0,0,90,82,0,0,0,0,0,0,0,0,0,0,0,0,0,0,0,0,0,0,0]
[850,0,"2024-07-19",93,0,0,99,0,0,0,85,0,0,87,0,104,104,116,0,95,0,0,0,0,0,0,0,100,0,0,0,87,84,80,0,0,0,0,0,0,0,0,0,0,0,0,0,0,0,0,0,0,0]
[849,1,"2024-07-13",92,0,115,0,0,0,0,77,0,0,81,0,93,0,109,0,93,0,0,0,0,0,106,0,96,0,88,0,0,83,85,0,0,0,0,0,0,0,0,0,0,0,0,0,0,0,0,0,0,0]
[848,1,"2024-07-06",90,0,0,0,0,0,0,91,0,0,79,0,0,0,105,0,0,91,0,0,0,0,104,0,103,0,85,0,89,86,0,0,0,0,0,0,0,0,0,0,0,0,0,0,0,0,0,0,0,0]
[847,1,"2024-06-29",89,0,0,99,0,0,0,90,0,0,82,0,93,96,0,0,90,91,0,0,0,0,108,0,97,0,0,0,0,89,83,0,0,0,0,0,0,0,0,0,0,0,0,0,0,0,0,0,0,0]
[846,1,"2024-06-22",88,0,125,97,0,101,0,85,0,0,82,0,0,0,0,0,0,92,0,0,0,0,0,0,0,0,0,0,0,0,81,0,0,0,0,0,0,0,0,0,0,0,0,0,0,0,0,0,0,0]
[845,1,"2024-06-15",88,0,0,90,0,0,0,92,0,0,93,0,91,99,103,0,95,0,0,0,0,0,111,0,95,0,94,0,0,91,0,0,0,0,0,0,0,0,0,0,0,0,0,0,0,0,0,0,0,0]
[844,1,"2024-06-08",95,0,110,0,0,0,0,87,0,0,88,0,96,0,101,0,88,0,0,0,0,0,112,0,89,0,0,0,81,86,81,0,0,0,0,0,0,0,0,0,0,0,0,0,0,0,0,0,0,0]
[843,1,"2024-06-01",92,0,109,100,0,104,0,92,0,0,0,0,89,104,104,0,91,98,0,0,0,0,116,0,94,0,88,0,0,87,81,0,0,0,0,0,0,0,0,0,0,0,0,0,0,0,0,0,0,0]
[842,1,"2024-05-25",86,0,0,89,0,0,0,89,0,0,85,0,0,91,101,0,96,88,0,0,0,0,113,0,0,0,0,0,0,85,82,0,0,0,0,0,0,0,0,0,0,0,0,0,0,0,0,0,0,0]
[841,1,"2024-05-18",101,0,122,0,0,0,0,93,0,0,0,0,0,0,0,0,0,0,0,0,0,0,0,0,89,0,92,0,87,92,0,0,0,0,0,0,0,0,0,0,0,0,0,0,0,0,0,0,0,0]
[840,1,"2024-05-11",89,0,110,0,0,106,0,90,0,0,86,0,96,101,110,0,96,0,0,0,0,0,108,0,93,0,0,0,0,0,87,0,0,0,0,0,0,0,0,0,0,0,0,0,0,0,0,0,0,0]
[839,1,"2024-04-27",92,0,0,99,0,0,0,90,0,0,88,0,0,0,113,0,0,91,0,0,0,0,0,0,0,0,0,0,79,0,87,0,0,0,0,0,0,0,0,0,0,0,0,0,0,0,0,0,0,0]
[838,1,"2024-04-20",100,0,110,0,0,104,0,86,0,0,0,0,101,96,0,0,97,0,0,0,0,0,118,0,91,0,0,0,0,92,0,0,0,0,0,0,0,0,0,0,0,0,0,0,0,0,0,0,0,0]
[837,1,"2024-04-13",0,0,0,94,0,0,0,0,0,0,82,0,102,0,104,0,88,0,0,0,0,115,0,0,0,0,93,0,82,0,86,0,0,0,0,0,0,0,0,0,0,0,0,0,0,0,0,0,0,0]
[836,1,"2024-04-06",0,0,115,97,0,0,0,87,0,0,90,0,99,100,109,0,91,0,0,0,0,0,121,0,87,0,88,0,0,93,0,0,0,0,0,0,0,0,0,0,0,0,0,0,0,0,0,0,0,0]
[835,1,"2024-03-30",0,0,120,0,0,0,0,84,0,0,88,0,95,0,106,0,0,0,0,0,0,0,118,0,89,0,0,0,0,93,81,0,0,0,0,0,0,0,0,0,0,0,0,0,0,0,0,0,0,0]
[834,1,"2024-03-16",0,0,0,104,0,0,0,94,0,0,89,0,109,104,0,0,84,0,0,0,0,0,0,0,0,0,96,0,0,98,0,0,0,0,0,0,0,0,0,0,0,0,0,0,0,0,0,0,0,0]
[833,1,"2024-03-09",90,0,0,0,0,0,0,94,0,0,80,0,99,102,104,0,90,0,0,0,0,0,124,0,104,0,0,0,0,101,85,0,0,0,0,0,0,0,0,0,0,0,0,0,0,0,0,0,0,0]
[832,1,"2024-03-02",95,0,124,0,0,0,0,93,0,0,0,0,0,105,109,0,102,100,0,0,0,0,0,0,98,0,0,0,0,0,0,0,0,0,0,0,0,0,0,0,0,0,0,0,0,0,0,0,0,0]
[831,1,"2024-02-24",99,0,118,0,0,0,0,92,0,0,95,0,106,102,109,0,101,92.8,0,0,0,0,0,0,0,0,0,0,0,96,96,0,0,0,0,0,0,0,0,0,0,0,0,0,0,0,0,0,0,0]
[830,1,"2024-02-17",91,0,0,0,0,0,0,92,0,0,0,0,95,0,0,0,92,0,0,0,0,0,0,0,102,0,0,0,0,100,0,0,0,0,0,0,0,0,0,0,0,0,0,0,0,0,0,0,0,0]
[829,1,"2024-02-10",88,0,121,0,0,0,0,88,0,0,82,0,100,105,107,0,86,0,0,0,0,0,0,0,97,0,84,0,0,92,0,0,0,0,0,0,0,0,0,0,0,0,0,0,0,0,0,0,0,0]
[828,1,"2024-02-03",94,0,113,0,0,0,0,95,0,0,0,0,0,0,112,0,0,0,0,0,0,0,0,0,99,0,89,0,0,96,0,0,0,0,0,0,0,0,0,0,0,0,0,0,0,0,0,0,0,0]
[827,1,"2024-01-27",86,0,102,0,0,0,0,85,0,0,89,0,94,0,111,0,90,0,0,0,0,0,0,0,96,0,0,0,0,87,89,0,0,0,0,0,0,0,0,0,0,0,0,0,0,0,0,0,0,0]
[826,1,"2024-01-20",89,0,0,0,0,0,0,88,0,0,0,0,95,0,0,0,92,0,0,0,0,0,0,0,101,0,0,0,0,91,0,0,0,0,0,0,0,0,0,0,0,0,0,0,0,0,0,0,0,0]
[825,1,"2024-01-13",88,0,0,0,0,0,0,84,0,0,90,0,94,100,104,0,91,0,0,0,0,0,114,0,0,0,92,0,0,0,79,0,0,0,0,0,0,0,0,0,0,0,0,0,0,0,0,0,0,0]
[824,1,"2024-01-06",91,0,113,0,0,0,0,87,0,0,90,0,98,100,0,0,91,0,0,0,0,0,112,0,93,0,0,0,0,0,0,0,0,0,0,0,0,0,0,0,0,0,0,0,0,0,0,0,0,0]
[823,1,"2023-12-30",0,0,112,0,0,0,0,0,0,0,86,0,0,108,0,0,0,0,0,0,0,0,124,0,0,0,0,0,0,100,0,0,0,0,0,0,0,0,0,0,0,0,0,0,0,0,0,0,0,0]
[822,1,"2023-12-23",91,0,0,100,0,0,0,85,0,0,95,0,0,0,0,0,0,0,0,0,0,0,0,0,90,0,0,0,0,0,0,0,0,0,0,0,0,0,0,0,0,0,0,0,0,0,0,0,0,0]
[821,1,"2023-12-16",95,0,111,0,0,0,0,82,0,0,0,0,100,106,109,0,0,0,0,0,0,0,102,0,100,0,0,0,0,0,0,0,0,0,0,0,0,0,0,0,0,0,0,0,0,0,0,0,0,0]
[820,1,"2023-12-09",100,0,114,97,0,0,0,90,0,0,89,0,0,0,0,0,101,0,0,0,0,128,114,0,98,0,0,0,0,0,0,0,0,0,0,0,0,0,0,0,0,0,0,0,0,0,0,0,0,0]
[819,1,"2023-12-02",92,0,0,91,0,0,0,96,0,0,91,0,98,96,111,0,93,102,0,0,0,121,0,0,100,0,0,0,91,92,0,0,0,0,0,0,0,0,0,0,0,0,0,0,0,0,0,0,0,0]
[818,1,"2023-11-25",94,0,0,88,0,0,0,87,0,0,84,0,94,0,0,0,90,90,0,0,0,0,124,0,91,0,0,0,87,103,0,0,0,0,0,0,0,0,0,0,0,0,0,0,0,0,0,0,0,0]
[817,1,"2023-11-18",101,0,114,102,0,0,0,86,0,0,0,0,97,101,0,0,0,0,0,0,0,0,0,0,0,0,96,0,95,99,0,0,0,0,0,0,0,0,0,0,0,0,0,0,0,0,0,0,0,0]
[816,1,"2023-11-11",88,0,0,0,0,0,0,88,0,0,79,0,0,0,109,0,85,0,0,0,0,115,114,0,94,0,89,0,0,92,0,0,0,0,0,0,0,0,0,0,0,0,0,0,0,0,0,0,0,0]
[815,1,"2023-11-04",96,0,0,0,0,0,0,81,0,0,84,0,0,98,113,0,92,0,0,0,0,116,112,0,88,0,87,0,0,0,0,0,0,0,0,0,0,0,0,0,0,0,0,0,0,0,0,0,0,0]
[814,1,"2023-10-27",93,0,111,0,0,0,0,91,0,0,92,0,101,0,0,0,0,0,0,0,0,0,0,0,93,0,0,0,0,81,0,0,0,0,0,0,0,0,0,0,0,0,0,0,0,0,0,0,0,0]
[813,1,"2023-10-21",93,0,0,98,0,0,0,86,0,0,90,0,113,107,111,0,98,0,0,0,0,114,0,0,92,0,89,0,0,95,0,0,0,0,0,0,0,0,0,0,0,0,0,0,0,0,0,0,0,0]
[812,1,"2023-10-14",90,0,105,0,0,101,0,84,0,0,0,0,0,99,0,0,89,0,0,0,0,110,105,0,110,0,94,0,0,84,0,0,0,0,0,0,0,0,0,0,0,0,0,0,0,0,0,0,0,0]
[811,1,"2023-10-07",92,0,116,0,0,0,0,87,0,0,86,0,94,101,0,0,91,0,0,0,0,0,105,0,0,0,86,0,0,0,0,0,0,0,0,0,0,0,0,0,0,0,0,0,0,0,0,0,0,0]
[810,1,"2023-09-30",84,0,116,90,0,97,0,88,0,0,87,0,0,0,0,0,96,0,0,0,0,0,109,0,92,0,0,0,0,87,0,0,0,0,0,0,0,0,0,0,0,0,0,0,0,0,0,0,0,0]
[809,1,"2023-09-16",96,0,0,85,0,0,0,90,0,0,84,0,96,110,0,0,0,0,0,0,0,0,116,0,91,0,88,0,84,89,0,0,0,0,0,0,0,0,0,0,0,0,0,0,0,0,0,0,0,0]
[808,1,"2023-09-09",88,0,113,0,0,0,0,89,0,0,81,0,97,0,0,0,0,0,0,0,0,0,0,0,91,0,99,0,0,92,0,0,0,0,0,0,0,0,0,0,0,0,0,0,0,0,0,0,0,0]
[807,1,"2023-09-02",94,0,0,84,0,100,0,81,0,0,82,0,0,101,96,0,88,0,0,0,0,0,0,0,100,0,0,0,0,88,0,0,0,0,0,0,0,0,0,0,0,0,0,0,0,0,0,0,0,0]
[806,1,"2023-08-26",88,0,108,93,0,0,0,0,0,0,81,0,94,110,107,0,86,0,0,0,0,0,0,0,0,0,0,0,0,0,0,0,0,0,0,0,0,0,0,0,0,0,0,0,0,0,0,0,0,0]
[805,1,"2023-08-19",90,0,0,0,0,0,0,0,0,0,81,0,0,0,0,0,99,96,0,0,0,0,0,0,94,0,0,0,78,0,0,0,0,0,0,0,0,0,0,0,0,0,0,0,0,0,0,0,0,0]
[804,1,"2023-08-12",86,0,0,90,0,0,0,81,0,0,81,0,0,89,104,0,84,0,0,0,0,0,0,0,101,0,82,0,0,0,0,0,0,0,0,0,0,0,0,0,0,0,0,0,0,0,0,0,0,0]
[803,1,"2023-08-05",92,0,114,95,0,0,0,88,0,0,0,0,93,91,100,0,91,0,0,0,0,0,106,0,93,0,92,0,0,0,0,0,0,0,0,0,0,0,0,0,0,0,0,0,0,0,0,0,0,0]
[802,1,"2023-07-29",91,0,113,0,0,0,0,83,0,0,77,0,101,101,98,0,95,0,0,0,0,0,0,0,92,0,0,0,0,0,0,0,0,0,0,0,0,0,0,0,0,0,0,0,0,0,0,0,0,0]
[801,1,"2023-07-22",85,0,0,0,0,0,0,81,0,0,84,0,91,0,0,0,0,0,0,0,0,0,118,0,93,0,0,0,0,0,0,0,0,0,0,0,0,0,0,0,0,0,0,0,0,0,0,0,0,0]
[800,1,"2023-07-15",90,0,0,94,0,0,0,77,0,0,0,0,105,99,0,0,89,93,0,0,0,0,0,0,0,0,0,0,78,0,0,0,0,0,0,0,0,0,0,0,0,0,0,0,0,0,0,0,0,0]
[799,1,"2023-07-08",87,0,113,0,0,0,0,90,0,0,86,0,98,98,102,0,0,0,0,0,0,0,0,0,0,0,94,0,0,0,0,0,0,0,0,0,0,0,0,0,0,0,0,0,0,0,0,0,0,0]
[798,1,"2023-06-24",83,0,0,0,0,0,0,83,0,0,88,0,99,0,0,0,0,90,0,0,0,109,98,0,86,0,0,0,88,0,0,0,0,0,0,0,0,0,0,0,0,0,0,0,0,0,0,0,0,0]
[797,1,"2023-06-17",84,0,109,90,0,0,0,85,0,0,0,0,0,0,104,0,92,0,0,0,0,0,120,0,90,0,0,null,0,0,0,0,0,0,0,0,0,0,0,0,0,0,0,0,0,0,0,0,0,0]
[796,1,"2023-06-10",94,0,110,0,0,0,0,82,0,0,85,0,0,108,106,0,90,0,0,0,0,121,0,0,89,0,91,null,0,0,0,0,0,0,0,0,0,0,0,0,0,0,0,0,0,0,0,0,0,0]
[795,1,"2023-05-27",90,0,0,100,0,0,0,84,0,0,0,0,0,93,111,0,92,0,0,0,0,98,0,0,0,0,0,null,0,0,0,0,0,0,0,0,0,0,0,0,0,0,0,0,0,0,0,0,0,0]
[794,1,"2023-05-20",94,0,0,96,0,0,0,94,0,0,0,0,0,0,0,0,91,100,0,0,0,0,0,0,91,0,91,null,0,0,0,0,0,0,0,0,0,0,0,0,0,0,0,0,0,0,0,0,0,0]
[793,1,"2023-05-13",90,0,0,0,0,0,0,90,0,0,88,0,102,0,109,0,90,0,0,0,0,0,0,0,101,0,0,null,0,0,0,0,0,0,0,0,0,0,0,0,0,0,0,0,0,0,0,0,0,0]
[792,1,"2023-05-06",87,0,115,98,0,0,0,83,0,0,92,0,94,103,106,0,0,0,0,0,0,122,117,0,99,0,0,null,0,0,0,0,0,0,0,0,0,0,0,0,0,0,0,0,0,0,0,0,0,0]
[791,1,"2023-04-22",85,0,0,93,0,0,0,81,0,0,90,0,92,101,119,0,90,94,0,0,0,110,0,0,88,0,90,null,0,0,0,0,0,0,0,0,0,0,0,0,0,0,0,0,0,0,0,0,0,0]
[790,1,"2023-04-08",91,0,112,0,0,0,0,88,0,0,86,0,99,0,113,0,90,0,0,0,0,0,123,0,0,0,0,null,0,0,0,0,0,0,0,0,0,0,0,0,0,0,0,0,0,0,0,0,0,0]
[789,1,"2023-04-01",97,0,106,109,0,0,0,86,0,0,86,0,103,103,103,0,91,91,0,0,0,113,127,0,93,0,93,null,0,0,0,0,0,0,0,0,0,0,0,0,0,0,0,0,0,0,0,0,0,0]
[788,1,"2023-03-11",86,0,113,0,0,0,0,93,0,0,85,0,102,0,107,0,93,0,0,0,0,121,115,0,97,0,95,null,0,0,0,0,0,0,0,0,0,0,0,0,0,0,0,0,0,0,0,0,0,0]
[787,1,"2023-03-04",96,0,114,0,0,0,0,91,0,0,86,0,106,103,0,0,93,0,0,0,0,121,108,0,95,0,94,null,0,0,0,0,0,0,0,0,0,0,0,0,0,0,0,0,0,0,0,0,0,0]
[786,1,"2023-02-25",94,0,0,0,0,0,0,89,0,0,89,0,98,0,0,0,99,89,0,0,0,0,112,0,106,0,0,null,0,0,0,0,0,0,0,0,0,0,0,0,0,0,0,0,0,0,0,0,0,0]
[785,1,"2023-02-18",90,0,109,0,0,0,0,86,0,0,0,0,100,112,0,0,92,104,0,0,0,0,0,0,92,0,0,null,0,0,0,0,0,0,0,0,0,0,0,0,0,0,0,0,0,0,0,0,0,0]
[784,1,"2023-02-04",91,0,108,0,0,0,0,89,0,0,0,0,112,92,112,0,92,0,0,0,0,0,0,0,103,0,0,null,0,0,0,0,0,0,0,0,0,0,0,0,0,0,0,0,0,0,0,0,0,0]
[783,1,"2023-01-28",99,0,113,0,0,0,0,0,0,0,0,0,97,0,0,0,92,93,0,0,0,0,0,0,0,0,0,null,0,0,0,0,0,0,0,0,0,0,0,0,0,0,0,0,0,0,0,0,0,0]
[782,1,"2023-01-21",0,0,0,0,0,0,0,88,0,0,89,0,93,107,105,0,0,0,0,0,0,110,0,0,95,0,87,null,0,0,0,0,0,0,0,0,0,0,0,0,0,0,0,0,0,0,0,0,0,0]
[781,1,"2023-01-07",90,0,108,0,0,0,0,92,0,0,89,0,100,0,0,0,94,0,0,0,0,0,0,0,0,0,96,null,0,0,0,0,0,0,0,0,0,0,0,0,0,0,0,0,0,0,0,0,0,0]
[780,1,"2022-12-24",0,0,0,0,0,0,0,85,0,0,0,0,95,0,108,0,0,0,0,0,0,0,0,0,101,0,0,null,0,0,0,0,0,0,0,0,0,0,0,0,0,0,0,0,0,0,0,0,0,0]
[779,1,"2022-12-17",90,0,105,92,0,0,0,88,0,0,89,0,95,0,0,0,0,0,0,0,0,0,0,0,93,0,0,null,0,0,0,0,0,0,0,0,0,0,0,0,0,0,0,0,0,0,0,0,0,0]
[778,1,"2022-12-10",90,0,109,0,0,0,0,82,0,0,0,0,0,103,0,0,95,0,0,0,0,103,112,0,98,0,0,null,0,0,0,0,0,0,0,0,0,0,0,0,0,0,0,0,0,0,0,0,0,0]
[777,1,"2022-12-03",91,0,0,95,0,0,0,85,0,0,97,0,95,100,100,0,98,104,0,0,0,0,0,0,97,0,85,null,0,0,0,0,0,0,0,0,0,0,0,0,0,0,0,0,0,0,0,0,0,0]
[776,1,"2022-11-19",90,0,0,91,0,0,0,0,0,0,0,0,105,90,105,0,87,89,0,0,0,105,0,0,98,0,90,null,0,0,0,0,0,0,0,0,0,0,0,0,0,0,0,0,0,0,0,0,0,0]
[775,1,"2022-11-12",93,0,109,0,0,0,0,95,0,0,82,0,0,0,0,0,84,0,0,0,0,0,109,0,0,0,91,null,0,0,0,0,0,0,0,0,0,0,0,0,0,0,0,0,0,0,0,0,0,0]
[774,1,"2022-11-05",95,0,0,97,0,0,0,79,0,0,92,0,87,94,0,0,92,93,0,0,0,113,0,0,98,0,82,null,0,0,0,0,0,0,0,0,0,0,0,0,0,0,0,0,0,0,0,0,0,0]
[773,1,"2022-10-29",89,0,108,0,0,0,0,83,0,0,93,0,0,0,107,0,94,94,0,0,0,0,110,0,0,0,0,null,0,0,0,0,0,0,0,0,0,0,0,0,0,0,0,0,0,0,0,0,0,0]
[772,1,"2022-10-22",82,0,108,101,0,0,0,81,0,0,91,0,0,102,0,0,0,0,0,0,0,0,0,0,92,0,93,null,0,0,0,0,0,0,0,0,0,0,0,0,0,0,0,0,0,0,0,0,0,0]
[771,1,"2022-10-15",87,0,110,86,0,0,0,86,0,0,92,0,95,95,113,0,87,90,0,0,0,0,0,0,92,0,95,null,0,0,0,0,0,0,0,0,0,0,0,0,0,0,0,0,0,0,0,0,0,0]
[770,1,"2022-10-08",93,0,115,0,0,0,0,87,0,0,88,0,0,108,103,0,95,0,0,0,0,0,114,0,96,0,91,null,0,0,0,0,0,0,0,0,0,0,0,0,0,0,0,0,0,0,0,0,0,0]
[769,1,"2022-10-01",99,0,103,0,0,0,0,0,0,0,88,0,91,0,108,0,0,0,0,0,0,0,0,0,95,0,82,null,0,0,0,0,0,0,0,0,0,0,0,0,0,0,0,0,0,0,0,0,0,0]
[768,1,"2022-09-17",92,0,107,94,0,0,0,85,0,0,0,0,93,90,0,0,0,0,0,0,0,0,0,0,0,0,89,null,0,0,0,0,0,0,0,0,0,0,0,0,0,0,0,0,0,0,0,0,0,0]
[767,1,"2022-09-10",89,0,107,0,0,0,0,93,0,0,99,0,96,102,0,0,88,0,0,0,0,0,111,0,95,0,96,null,0,0,0,0,0,0,0,0,0,0,0,0,0,0,0,0,0,0,0,0,0,0]
[766,1,"2022-09-03",0,0,110,0,0,0,0,85,0,0,92,0,98,0,105,0,98,0,0,0,0,0,0,0,94,0,92,null,0,0,0,0,0,0,0,0,0,0,0,0,0,0,0,0,0,0,0,0,0,0]
[765,1,"2022-08-27",92,0,0,0,0,0,0,87,0,0,85,0,98,0,0,0,90,0,0,0,0,0,112,0,99,0,0,null,0,0,0,0,0,0,0,0,0,0,0,0,0,0,0,0,0,0,0,0,0,0]
[764,1,"2022-08-20",97,0,0,92,0,0,0,84,0,0,0,0,0,109,109,0,94,0,0,0,0,0,102,0,0,0,89,null,0,0,0,0,0,0,0,0,0,0,0,0,0,0,0,0,0,0,0,0,0,0]
[763,1,"2022-08-06",89,0,0,102,0,0,0,80,0,0,82,0,98,108,0,0,85,0,0,0,0,122,0,0,100,0,91,null,0,0,0,0,0,0,0,0,0,0,0,0,0,0,0,0,0,0,0,0,0,0]
[762,1,"2022-07-30",85,0,0,97,0,0,0,84,0,0,0,0,0,0,0,0,0,0,0,0,0,0,0,0,97,0,0,null,0,0,0,0,0,0,0,0,0,0,0,0,0,0,0,0,0,0,0,0,0,0]
[761,1,"2022-07-23",92,0,0,0,0,0,0,78,0,0,83,0,89,98,0,0,95,0,0,0,0,0,0,0,95,0,81,null,0,0,0,0,0,0,0,0,0,0,0,0,0,0,0,0,0,0,0,0,0,0]
[760,1,"2022-07-09",91,0,104,0,0,0,0,86,0,0,89,0,93,102,0,0,87,0,0,0,0,0,0,0,0,0,93,null,0,0,0,0,0,0,0,0,0,0,0,0,0,0,0,0,0,0,0,0,0,0]
[759,1,"2022-07-02",80,0,104,0,0,0,0,88,0,0,90,0,0,0,103,0,0,94,0,0,0,108,0,0,94,0,103,null,0,0,0,0,0,0,0,0,0,0,0,0,0,0,0,0,0,0,0,0,0,0]
[758,1,"2022-06-25",86,0,110,0,0,0,0,83,0,0,83,0,94,0,106,0,84,0,0,0,0,0,0,0,96,0,0,null,0,0,0,0,0,0,0,0,0,0,0,0,0,0,0,0,0,0,0,0,0,0]
[757,1,"2022-06-18",92,0,0,0,0,0,0,87,0,0,81,0,88,99,0,0,93,0,0,0,0,106,0,0,0,0,0,null,0,0,0,0,0,0,0,0,0,0,0,0,0,0,0,0,0,0,0,0,0,0]
[756,1,"2022-06-11",92,0,109,0,0,0,0,83,0,0,77,0,0,0,0,0,90,97,0,0,0,0,0,0,99,0,89,null,0,0,0,0,0,0,0,0,0,0,0,0,0,0,0,0,0,0,0,0,0,0]
[755,1,"2022-06-04",88,0,112,101,0,0,0,85,0,0,80,0,108,98,96,0,95,95,0,0,0,106,117,0,95,0,95,null,0,0,0,0,0,0,0,0,0,0,0,0,0,0,0,0,0,0,0,0,0,0]
[754,1,"2022-05-28",82,0,106,96,0,0,0,89,0,0,84,0,108,0,110,0,85,96,0,0,0,103,115,0,92,0,86,null,0,0,0,0,0,0,0,0,0,0,0,0,0,0,0,0,0,0,0,0,0,0]
[753,1,"2022-05-21",84,0,0,0,0,0,0,84,0,0,0,0,91,0,0,0,86,0,0,0,0,0,0,0,90,0,92,null,0,0,0,0,0,0,0,0,0,0,0,0,0,0,0,0,0,0,0,0,0,0]
[752,1,"2022-05-14",0,0,0,0,0,0,0,89,0,0,0,0,94,0,0,0,0,98,0,0,0,0,0,0,0,0,0,null,0,0,0,0,0,0,0,0,0,0,0,0,0,0,0,0,0,0,0,0,0,0]
[751,1,"2022-05-07",97,0,108,0,0,0,0,86,0,0,94,0,90,106,96,0,92,94,0,0,0,0,109,0,94,0,0,null,0,0,0,0,0,0,0,0,0,0,0,0,0,0,0,0,0,0,0,0,0,0]
[750,1,"2022-04-30",0,0,112,98,0,0,0,88,0,0,95,0,96,0,0,0,105,99,0,0,0,0,119,0,92,0,87,null,0,0,0,0,0,0,0,0,0,0,0,0,0,0,0,0,0,0,0,0,0,0]
[749,1,"2022-04-23",86,0,0,92,0,0,0,82,0,0,87,0,90,95,0,0,97,95,0,0,0,112,0,0,94,0,0,null,0,0,0,0,0,0,0,0,0,0,0,0,0,0,0,0,0,0,0,0,0,0]
[748,1,"2022-04-16",99,0,100,91,0,0,0,85,0,0,0,0,95,0,107,0,94,96,0,0,0,0,109,0,99,0,96,null,0,0,0,0,0,0,0,0,0,0,0,0,0,0,0,0,0,0,0,0,0,0]
[747,1,"2022-04-09",91,0,106,0,0,0,0,86,0,0,84,0,102,102,104,0,93,94,0,0,0,0,115,0,0,0,98,null,0,0,0,0,0,0,0,0,0,0,0,0,0,0,0,0,0,0,0,0,0,0]
[746,1,"2022-04-02",89,0,109,100,0,0,0,84,0,0,92,0,0,97,93,0,96,96,0,0,0,113,111,0,94,0,95,null,0,0,0,0,0,0,0,0,0,0,0,0,0,0,0,0,0,0,0,0,0,0]
[745,1,"2022-03-26",96,0,0,95,0,0,0,0,0,0,85,0,93,0,99,0,104,105,0,0,0,0,115,0,101,0,0,null,0,0,0,0,0,0,0,0,0,0,0,0,0,0,0,0,0,0,0,0,0,0]
[744,1,"2022-03-19",91,0,107,93,0,0,0,91,0,0,0,0,93,95,0,0,96,98,0,0,0,0,119,0,97,0,92,null,0,0,0,0,0,0,0,0,0,0,0,0,0,0,0,0,0,0,0,0,0,0]
[743,1,"2022-03-12",89,0,109,0,0,0,0,88,0,0,88,0,95,98,94,0,94,94,0,0,0,120,109,0,94,0,89,null,0,0,0,0,0,0,0,0,0,0,0,0,0,0,0,0,0,0,0,0,0,0]
[742,1,"2022-03-05",95,0,109,97,0,0,0,85,0,0,89,0,104,0,0,0,99,97,0,0,0,0,111,0,92,0,92,null,0,0,0,0,0,0,0,0,0,0,0,0,0,0,0,0,0,0,0,0,0,0]
[741,1,"2022-02-26",0,0,0,0,0,0,0,86,0,0,93,0,98,97,0,0,96,0,0,0,0,0,0,0,94,0,91,null,0,0,0,0,0,0,0,0,0,0,0,0,0,0,0,0,0,0,0,0,0,0]
[740,1,"2022-02-19",0,0,111,0,0,0,0,85,0,0,0,0,0,102,110,0,96,95,0,0,0,0,0,0,91,0,0,null,0,0,0,0,0,0,0,0,0,0,0,0,0,0,0,0,0,0,0,0,0,0]
[739,1,"2022-02-12",0,0,0,0,0,0,0,90,0,0,88,0,111,0,93,0,99,95,0,0,0,0,0,0,94,0,0,null,0,0,0,0,0,0,0,0,0,0,0,0,0,0,0,0,0,0,0,0,0,0]
[738,1,"2022-02-05",91,0,0,0,0,0,0,0,0,0,92,0,97,0,94,0,93,0,0,0,0,0,0,0,92,0,0,null,0,0,0,0,0,0,0,0,0,0,0,0,0,0,0,0,0,0,0,0,0,0]
[737,1,"2022-01-29",91,0,0,0,0,0,0,92,0,0,84,0,101,0,0,0,88,94,0,0,0,0,0,0,99,0,0,null,0,0,0,0,0,0,0,0,0,0,0,0,0,0,0,0,0,0,0,0,0,0]
[736,1,"2022-01-22",90,0,0,0,0,0,0,89,0,0,90,0,100,0,106,0,96,101,0,0,0,0,0,0,0,0,103,null,0,0,0,0,0,0,0,0,0,0,0,0,0,0,0,0,0,0,0,0,0,0]
[735,1,"2022-01-15",0,0,0,0,0,0,0,87,0,0,87,0,90,102,0,0,96,0,0,0,0,0,0,0,93,0,0,null,0,0,0,0,0,0,0,0,0,0,0,0,0,0,0,0,0,0,0,0,0,0]
[734,1,"2021-12-25",95,0,0,0,0,0,0,93,0,0,84,0,0,102,108,0,0,0,0,0,0,113,118,0,96,0,0,null,0,0,0,0,0,0,0,0,0,0,0,0,0,0,0,0,0,0,0,0,0,0]
[733,1,"2021-12-18",88,0,97,0,0,0,0,86,0,0,0,0,117,104,0,0,97,0,0,0,0,0,124,0,93,0,0,null,0,0,0,0,0,0,0,0,0,0,0,0,0,0,0,0,0,0,0,0,0,0]
[732,1,"2021-12-11",85,0,96,96,0,0,0,87,0,0,85,0,112,92,101,0,88,0,0,0,0,0,115,0,97,0,91,null,0,0,0,0,0,0,0,0,0,0,0,0,0,0,0,0,0,0,0,0,0,0]
[731,0,"2021-12-06",85,0,100,0,0,98,0,0,0,0,98,0,93,0,0,0,0,0,0,0,0,112,108,0,0,0,0,null,0,0,0,0,0,0,0,0,0,0,0,0,0,0,0,0,0,0,0,0,0,0]
[730,1,"2021-11-27",91,0,104,93,0,0,0,88,0,0,87,0,99,107,93,0,89,0,0,0,0,110,0,0,95,0,96,null,0,0,0,0,0,0,0,0,0,0,0,0,0,0,0,0,0,0,0,0,0,0]
[729,1,"2021-11-20",89,0,0,0,0,0,0,87,0,0,0,0,0,95,0,0,99,0,0,0,0,0,113,0,103,0,94,null,0,0,0,0,0,0,0,0,0,0,0,0,0,0,0,0,0,0,0,0,0,0]
[728,1,"2021-11-13",85,0,0,92,0,91,0,97,0,0,90,0,94,99,0,0,90,0,0,0,0,0,121,0,93,0,101,null,0,0,0,0,0,0,0,0,0,0,0,0,0,0,0,0,0,0,0,0,0,0]
[727,0,"2021-11-08",83,0,0,0,0,0,0,93,0,0,93,0,0,0,110,0,94,0,0,0,0,0,118,0,0,0,0,null,0,0,0,0,0,0,0,0,0,0,0,0,0,0,0,0,0,0,0,0,0,0]
[726,1,"2021-10-30",87,0,93,88,0,0,0,86,0,0,81,0,0,0,108,0,99,0,0,0,0,0,0,0,93,0,89,null,0,0,0,0,0,0,0,0,0,0,0,0,0,0,0,0,0,0,0,0,0,0]
[725,1,"2021-10-23",86,0,0,0,0,97,0,88,0,0,84,0,99,93,0,0,0,0,0,0,0,0,0,0,93,0,0,null,0,0,0,0,0,0,0,0,0,0,0,0,0,0,0,0,0,0,0,0,0,0]
[724,1,"2021-10-16",88,0,99,91,0,0,0,81,0,0,81,0,94,0,0,0,102,0,0,0,0,0,121,0,97,0,98,null,0,0,0,0,0,0,0,0,0,0,0,0,0,0,0,0,0,0,0,0,0,0]
[723,1,"2021-10-09",80,0,0,90,0,101,0,82,0,0,83,0,0,103,96,0,92,91,0,0,0,0,106,0,104,0,91,null,0,0,0,0,0,0,0,0,0,0,0,0,0,0,0,0,0,0,0,0,0,0]
[722,0,"2021-10-04",89,0,0,96,0,0,0,88,0,0,90,0,100,0,0,0,0,0,0,0,0,0,107,0,0,0,0,null,0,0,0,0,0,0,0,0,0,0,0,0,0,0,0,0,0,0,0,0,0,0]
[721,1,"2021-09-25",94,0,0,0,0,0,0,91,0,0,87,0,95,102,0,0,101,0,0,0,0,0,110,0,97,0,93,null,0,0,0,0,0,0,0,0,0,0,0,0,0,0,0,0,0,0,0,0,0,0]
[720,1,"2021-09-11",84,0,102,84,0,0,0,83,0,0,81,0,95,98,109,0,91,93,0,0,0,0,117,0,0,0,85,null,0,0,0,0,0,0,0,0,0,0,0,0,0,0,0,0,0,0,0,0,0,0]
[719,0,"2021-09-06",93,0,0,99,0,0,0,86,0,0,91,0,102,0,0,0,95,0,0,0,0,114,113,0,109,0,0,null,0,0,0,0,0,0,0,0,0,0,0,0,0,0,0,0,0,0,0,0,0,0]
[718,1,"2021-08-28",83,0,100,86,0,0,0,86,0,0,86,0,105,0,107,0,101,99,0,0,0,0,120,0,93,0,0,null,0,0,0,0,0,0,0,0,0,0,0,0,0,0,0,0,0,0,0,0,0,0]
[717,1,"2021-08-21",91,0,100,90,0,0,0,84,0,0,0,0,0,95,100,0,90,0,0,0,0,0,109,0,94,0,0,null,0,0,0,0,0,0,0,0,0,0,0,0,0,0,0,0,0,0,0,0,0,0]
[716,0,"2021-08-16",0,0,0,92,0,0,0,90,0,0,85,0,0,0,0,0,92,0,0,0,0,0,0,0,0,0,0,null,0,0,0,0,0,0,0,0,0,0,0,0,0,0,0,0,0,0,0,0,0,0]
[715,1,"2021-08-07",95,0,101,92,0,0,0,0,0,0,83,0,0,99,106,0,88,0,0,0,0,0,116,0,97,0,0,null,0,0,0,0,0,0,0,0,0,0,0,0,0,0,0,0,0,0,0,0,0,0]
[714,1,"2021-07-31",80,0,107,90,0,98,0,81,0,0,88,0,95,86,93,0,0,0,0,0,0,0,111,0,91,0,0,null,0,0,0,0,0,0,0,0,0,0,0,0,0,0,0,0,0,0,0,0,0,0]
[713,1,"2021-07-24",93,0,103,94,0,103,0,84,0,0,83,0,101,0,0,0,93,0,0,0,0,0,0,0,0,0,87,null,0,0,0,0,0,0,0,0,0,0,0,0,0,0,0,0,0,0,0,0,0,0]
[712,1,"2021-07-17",79,0,97,86,0,0,0,84,0,0,0,0,93,102,0,0,92,0,0,0,0,0,103,0,93,0,0,null,0,0,0,0,0,0,0,0,0,0,0,0,0,0,0,0,0,0,0,0,0,0]
[711,1,"2021-07-10",91,0,94,96,0,0,0,84,0,0,87,0,100,0,103,0,94,0,0,0,0,0,106,0,96,0,86,null,0,0,0,0,0,0,0,0,0,0,0,0,0,0,0,0,0,0,0,0,0,0]
[710,0,"2021-07-05",0,0,0,0,0,0,0,87,0,0,85,0,0,111,0,0,0,0,0,0,0,0,0,0,0,0,0,null,0,0,0,0,0,0,0,0,0,0,0,0,0,0,0,0,0,0,0,0,0,0]
[709,1,"2021-06-26",83,0,99,89,0,0,0,90,0,0,0,0,93,93,101,0,91,0,0,0,0,113,113,0,97,0,0,null,0,0,0,0,0,0,0,0,0,0,0,0,0,0,0,0,0,0,0,0,0,0]
[708,1,"2021-06-12",82,0,0,89,0,86,0,80,0,0,85,0,0,0,102,0,97,0,0,0,0,0,0,0,0,0,90,null,0,0,0,0,0,0,0,0,0,0,0,0,0,0,0,0,0,0,0,0,0,0]
[707,0,"2021-06-07",88,0,0,90,0,0,0,87,0,0,87,0,86,0,0,0,0,92,0,0,0,0,110,0,0,0,0,null,0,0,0,0,0,0,0,0,0,0,0,0,0,0,0,0,0,0,0,0,0,0]
[706,1,"2021-05-29",85,0,106,92,0,0,0,92,0,0,86,0,106,94,93,0,92,94,0,0,0,118,111,0,96,0,0,null,0,0,0,0,0,0,0,0,0,0,0,0,0,0,0,0,0,0,0,0,0,0]
[705,1,"2021-05-22",89,0,0,92,0,0,0,82,0,0,90,0,105,95,0,0,95,98,0,0,0,0,112,0,0,0,0,null,0,0,0,0,0,0,0,0,0,0,0,0,0,0,0,0,0,0,0,0,0,0]
[704,1,"2021-05-15",85,0,100,91,0,98,0,81,0,0,0,0,96,92,91,0,91,86,0,0,0,0,100,0,98,0,0,null,0,0,0,0,0,0,0,0,0,0,0,0,0,0,0,0,0,0,0,0,0,0]
[703,0,"2021-05-10",83,0,0,0,0,0,0,81,0,0,90,0,92,0,0,0,97,92,0,0,0,108,107,0,0,0,0,null,0,0,0,0,0,0,0,0,0,0,0,0,0,0,0,0,0,0,0,0,0,0]
[702,1,"2021-05-01",88,0,103,92,0,0,0,84,0,0,96,0,104,0,99,0,99,97,0,0,0,0,117,0,97,0,0,null,0,0,0,0,0,0,0,0,0,0,0,0,0,0,0,0,0,0,0,0,0,0]
[701,1,"2021-04-24",89,0,0,86,0,0,0,84,0,0,0,0,105,98,0,0,101,0,0,0,0,0,0,0,100,0,0,null,0,0,0,0,0,0,0,0,0,0,0,0,0,0,0,0,0,0,0,0,0,0]
[700,1,"2021-04-17",91,0,99,89,0,0,0,88,0,0,0,0,96,0,93,0,95,0,0,117,0,0,0,0,94,0,96,null,0,0,0,0,0,0,0,0,0,0,0,0,0,0,0,0,0,0,0,0,0,0]
[699,1,"2021-04-10",92,0,108,105,0,91,0,90,0,0,94,0,104,97,95,0,0,97,0,104,0,0,0,0,0,0,96,null,0,0,0,0,0,0,0,0,0,0,0,0,0,0,0,0,0,0,0,0,0,0]
[698,0,"2021-04-05",101,0,110,97,0,0,0,95,0,0,95,0,103,0,0,0,0,0,0,0,0,118,0,0,0,0,0,null,0,0,0,0,0,0,0,0,0,0,0,0,0,0,0,0,0,0,0,0,0,0]
[697,1,"2021-03-27",92,0,0,85,0,0,0,94,0,0,89,0,0,94,98,0,91,91,0,108,0,0,0,0,0,0,91,null,0,0,0,0,0,0,0,0,0,0,0,0,0,0,0,0,0,0,0,0,0,0]
[696,0,"2021-03-22",91,0,0,99,0,0,0,0,0,0,85,0,103,0,0,0,0,97,0,0,0,0,0,0,0,0,0,null,0,0,0,0,0,0,0,0,0,0,0,0,0,0,0,0,0,0,0,0,0,0]
[695,1,"2021-03-06",92,0,105,97,0,0,0,90,0,0,86,0,105,95,90,0,100,0,97,0,0,0,0,0,103,0,0,null,0,0,0,0,0,0,0,0,0,0,0,0,0,0,0,0,0,0,0,0,0,0]
[694,1,"2021-02-27",89,0,0,0,0,0,0,96,0,0,97,0,105,0,92,0,96,100,101,0,0,0,0,0,104,97,97,null,0,0,0,0,0,0,0,0,0,0,0,0,0,0,0,0,0,0,0,0,0,0]
[693,1,"2021-02-20",92,0,0,0,0,0,0,90,0,0,93,0,0,104,97,0,101,100,106,104,0,0,0,0,101,0,104,null,0,0,0,0,0,0,0,0,0,0,0,0,0,0,0,0,0,0,0,0,0,0]
[692,1,"2021-02-13",82,0,0,0,0,0,0,89,0,0,0,0,0,0,93,0,102,0,92,0,0,0,0,0,98,0,0,null,0,0,0,0,0,0,0,0,0,0,0,0,0,0,0,0,0,0,0,0,0,0]
[691,0,"2021-02-08",89,0,107,0,0,0,0,86,0,0,81,0,0,98,0,0,0,93,90,0,0,0,0,0,0,0,0,null,0,0,0,0,0,0,0,0,0,0,0,0,0,0,0,0,0,0,0,0,0,0]
[690,1,"2021-01-30",88,0,0,0,0,0,0,91,0,0,85,0,0,0,98,0,88,99,109,0,0,0,0,0,96,0,0,null,0,0,0,0,0,0,0,0,0,0,0,0,0,0,0,0,0,0,0,0,0,0]
[689,1,"2021-01-16",92,0,107,0,0,0,0,89,0,0,0,0,0,0,94,0,93,105,98,0,0,0,0,0,90,0,0,null,0,0,0,0,0,0,0,0,0,0,0,0,0,0,0,0,0,0,0,0,0,0]
[688,1,"2021-01-09",86,0,0,0,0,0,0,0,0,0,0,0,0,104,0,0,0,105,106,0,0,0,0,0,0,0,0,null,0,0,0,0,0,0,0,0,0,0,0,0,0,0,0,0,0,0,0,0,0,0]
[687,1,"2021-01-04",90,0,0,0,0,0,0,90,0,0,81,0,97,0,0,0,0,93,89,0,0,0,0,0,0,0,0,null,0,0,0,0,0,0,0,0,0,0,0,0,0,0,0,0,0,0,0,0,0,0]
[686,1,"2020-12-26",87,0,93,0,0,0,0,90,0,0,82,0,0,87,91,0,85,100,94,0,0,0,0,100,99,0,0,null,0,0,0,0,0,0,0,0,0,0,0,0,0,0,0,0,0,0,0,0,0,0]
[685,1,"2020-12-19",100,0,0,0,0,0,0,85,0,0,89,0,0,0,92,0,0,91,101,96,0,0,0,0,98,0,0,null,0,0,0,0,0,0,0,0,0,0,0,0,0,0,0,0,0,0,0,0,0,0]
[684,1,"2020-12-12",82,0,101,0,0,0,0,0,0,0,0,0,88,92,0,0,101,105,95,0,0,0,0,0,101,0,0,null,0,0,0,0,0,0,0,0,0,0,0,0,0,0,0,0,0,0,0,0,0,0]
[683,0,"2020-12-07",82,0,0,0,0,0,0,86,0,0,87,0,0,0,0,0,88,96,0,93,113,0,0,0,0,0,0,null,0,0,0,0,0,0,0,0,0,0,0,0,0,0,0,0,0,0,0,0,0,0]
[682,1,"2020-11-28",84,108,107,0,0,0,0,88,0,0,80,0,110,93,89,0,88,0,94,110,0,0,0,0,99,0,0,null,0,0,0,0,0,0,0,0,0,0,0,0,0,0,0,0,0,0,0,0,0,0]
[681,1,"2020-11-21",0,0,0,0,0,0,0,93,0,0,82,0,0,0,0,0,95,0,89,103,0,0,116,0,98,0,0,null,0,0,0,0,0,0,0,0,0,0,0,0,0,0,0,0,0,0,0,0,0,0]
[680,1,"2020-11-14",102,108,98,96,0,0,0,91,0,0,88,0,101,93,98,0,92,100,96,0,0,105,109,0,93,0,0,null,0,0,0,0,0,0,0,0,0,0,0,0,0,0,0,0,0,0,0,0,0,0]
[679,0,"2020-11-09",84,0,0,99,0,0,0,85,0,0,76,92,91,0,102,0,91,98,100,103,0,0,118,0,0,0,0,null,0,0,0,0,0,0,0,0,0,0,0,0,0,0,0,0,0,0,0,0,0,0]
[678,1,"2020-10-31",82,107,108,90,0,0,0,0,0,0,84,97,0,0,0,0,87,95,102,0,0,110,0,0,100,94,0,null,0,0,0,0,0,0,0,0,0,0,0,0,0,0,0,0,0,0,0,0,0,0]
[677,1,"2020-10-24",86,0,106,98,0,0,0,81,0,0,90,0,104,105,92,0,0,0,91,0,103,0,113,0,89,0,0,null,0,0,0,0,0,0,0,0,0,0,0,0,0,0,0,0,0,0,0,0,0,0]
[676,0,"2020-10-12",93,108,0,90,0,98,0,87,0,0,0,0,0,0,118,0,99,92,0,0,0,0,0,0,0,0,0,null,0,0,0,0,0,0,0,0,0,0,0,0,0,0,0,0,0,0,0,0,0,0]
[675,1,"2020-10-03",88,0,96,0,0,105,0,83,0,0,83,0,99,95,0,0,91,0,96,0,98,0,0,99,97,0,0,null,0,0,0,0,0,0,0,0,0,0,0,0,0,0,0,0,0,0,0,0,0,0]
[674,1,"2020-09-26",90,106,0,0,0,0,0,91,0,0,85,0,98,104,93,0,94,100,102,0,0,0,0,93,94,0,0,null,0,0,0,0,0,0,0,0,0,0,0,0,0,0,0,0,0,0,0,0,0,0]
[673,1,"2020-09-19",80,0,103,92,0,101,0,84,0,0,82,0,104,0,0,0,95,0,93,93,103,0,0,0,91,0,0,null,0,0,0,0,0,0,0,0,0,0,0,0,0,0,0,0,0,0,0,0,0,0]
[672,0,"2020-09-07",93,0,0,95,0,0,0,89,0,0,90,0,103,0,97,0,86,100,99,0,0,0,0,0,0,0,0,null,0,0,0,0,0,0,0,0,0,0,0,0,0,0,0,0,0,0,0,0,0,0]
[671,1,"2020-08-29",78,0,100,99,0,0,0,0,0,0,81,0,0,0,89,0,91,0,93,0,0,0,102,0,85,0,0,null,0,0,0,0,0,0,0,0,0,0,0,0,0,0,0,0,0,0,0,0,0,0]
[670,1,"2020-08-22",87,0,102,88,0,0,120,85,0,0,0,0,0,0,0,0,0,0,88,0,0,0,0,92,0,0,0,null,0,0,0,0,0,0,0,0,0,0,0,0,0,0,0,0,0,0,0,0,0,0]
[669,1,"2020-08-15",83,0,94,93,0,0,112,80,0,0,89,95,90,92,0,0,82,93,89,0,0,0,112,90,83,0,0,null,0,0,0,0,0,0,0,0,0,0,0,0,0,0,0,0,0,0,0,0,0,0]
[668,1,"2020-08-08",98,0,92,92,0,0,119,83,0,0,86,104,104,0,96,0,0,88,97,0,0,0,103,103,92,0,0,null,0,0,0,0,0,0,0,0,0,0,0,0,0,0,0,0,0,0,0,0,0,0]
[667,0,"2020-08-03",92,108,115,94,0,94,0,88,0,0,79,0,0,0,0,0,102,0,98,98,0,0,122,0,0,0,0,null,0,0,0,0,0,0,0,0,0,0,0,0,0,0,0,0,0,0,0,0,0,0]
[666,1,"2020-07-25",0,0,109,102,0,0,103,0,0,0,91,0,99,0,96,0,0,93,110,0,0,0,110,95,0,0,0,null,0,0,0,0,0,0,0,0,0,0,0,0,0,0,0,0,0,0,0,0,0,0]
[665,1,"2020-07-11",92,0,96,98,0,103,113,87,0,0,91,99,105,0,0,0,88,98,98,100,0,0,105,97,95,0,0,null,0,0,0,0,0,0,0,0,0,0,0,0,0,0,0,0,0,0,0,0,0,0]
[664,1,"2020-06-27",0,105,111,100,0,93,109,85,0,0,85,103,105,101,98,0,91,0,102,0,0,0,96,101,89,0,0,null,0,0,0,0,0,0,0,0,0,0,0,0,0,0,0,0,0,0,0,0,0,0]
[663,1,"2020-06-20",82,107,0,107,0,0,115,86,0,0,82,0,0,102,104,0,80,94,108,0,0,0,114,92,92,0,0,null,0,0,0,0,0,0,0,0,0,0,0,0,0,0,0,0,0,0,0,0,0,0]
[662,0,"2020-06-08",89,0,105,0,0,0,0,90,0,0,83,0,101,0,0,0,93,93,0,0,0,0,114,0,0,0,0,null,0,0,0,0,0,0,0,0,0,0,0,0,0,0,0,0,0,0,0,0,0,0]
[661,1,"2020-05-30",86,94,112,0,0,0,105,89,0,0,82,0,96,0,100,0,0,0,98,0,0,0,0,93,91,0,0,null,0,0,0,0,0,0,0,0,0,0,0,0,0,0,0,0,0,0,0,0,0,0]
[660,1,"2020-05-23",90,0,99,0,0,0,108,93,0,0,80,0,0,0,0,0,0,0,102,0,0,0,0,93,98,0,0,null,0,0,0,0,0,0,0,0,0,0,0,0,0,0,0,0,0,0,0,0,0,0]
[659,0,"2020-05-11",90,0,115,0,0,0,0,87,0,0,83,0,0,0,0,0,0,0,108,0,100,0,0,0,0,0,0,null,0,0,0,0,0,0,0,0,0,0,0,0,0,0,0,0,0,0,0,0,0,0]
[658,1,"2020-05-02",86,0,111,0,0,0,100,83,0,0,90,0,0,88,115,0,0,0,99,0,0,0,0,101,100,0,0,null,0,0,0,0,0,0,0,0,0,0,0,0,0,0,0,0,0,0,0,0,0,0]
[657,1,"2020-04-25",84,0,108,0,0,0,98,95,0,0,92,0,0,0,0,0,0,0,106,0,0,0,0,98,94,0,0,null,0,0,0,0,0,0,0,0,0,0,0,0,0,0,0,0,0,0,0,0,0,0]
[656,1,"2020-04-11",94,0,112,0,0,0,114,88,0,0,89,0,0,96,110,0,0,0,103,0,92,0,0,0,0,0,0,null,0,0,0,0,0,0,0,0,0,0,0,0,0,0,0,0,0,0,0,0,0,0]
[655,0,"2020-04-06",96,111,0,95,0,102,0,84,0,0,87,0,107,0,0,0,91,0,105,0,0,0,118,0,0,0,0,null,0,0,0,0,0,0,0,0,0,0,0,0,0,0,0,0,0,0,0,0,0,0]
[654,1,"2020-03-28",83,0,0,0,0,0,0,90,0,0,80,0,0,100,108,0,0,0,106,105,100,0,0,0,91,0,0,null,0,0,0,0,0,0,0,0,0,0,0,0,0,0,0,0,0,0,0,0,0,0]
[653,1,"2020-03-21",80,101,107,0,0,0,114,88,0,0,83,103,100,105,95,0,90,93,108,0,100,0,108,0,91,0,0,null,0,0,0,0,0,0,0,0,0,0,0,0,0,0,0,0,0,0,0,0,0,0]
[652,0,"2020-03-09",87,0,104,0,0,0,0,0,0,0,0,0,108,106,103,0,91,0,110,0,0,0,126,0,0,0,0,null,0,0,0,0,0,0,0,0,0,0,0,0,0,0,0,0,0,0,0,0,0,0]
[651,1,"2020-02-29",91,0,107,0,0,0,97,84,0,0,0,0,101,0,102,0,91,97,100,108,0,0,0,110,99,0,0,null,0,0,0,0,0,0,0,0,0,0,0,0,0,0,0,0,0,0,0,0,0,0]
[650,1,"2020-02-22",91,0,108,0,0,0,112,91,0,0,89,0,98,0,106,0,0,0,101,113,0,0,0,0,0,0,0,null,0,0,0,0,0,0,0,0,0,0,0,0,0,0,0,0,0,0,0,0,0,0]
[649,1,"2020-02-15",87,0,105,0,0,0,110,0,0,0,90,0,97,0,0,0,93,0,105,0,0,0,0,0,95,0,0,null,0,0,0,0,0,0,0,0,0,0,0,0,0,0,0,0,0,0,0,0,0,0]
[648,1,"2020-02-08",90,0,107,0,0,0,113,93,0,0,95,0,0,0,0,0,0,94,107,0,0,0,0,102,0,0,0,null,0,0,0,0,0,0,0,0,0,0,0,0,0,0,0,0,0,0,0,0,0,0]
[647,1,"2020-02-01",99,0,0,0,0,0,108,92,0,0,88,0,93,0,0,0,0,0,109,0,0,0,0,98,95,0,0,null,0,0,0,0,0,0,0,0,0,0,0,0,0,0,0,0,0,0,0,0,0,0]
[646,1,"2020-01-25",95,0,116,0,0,0,0,98,0,0,93,0,0,0,102,0,0,108,110,0,101,0,0,99,104,0,0,null,0,0,0,0,0,0,0,0,0,0,0,0,0,0,0,0,0,0,0,0,0,0]
[645,1,"2020-01-11",89,104,0,0,0,0,103,95,0,0,92,0,95,0,105,0,0,0,102,0,0,0,0,98,96,0,0,null,0,0,0,0,0,0,0,0,0,0,0,0,0,0,0,0,0,0,0,0,0,0]
[644,1,"2020-01-06",102,0,106,0,0,0,0,0,0,0,84,0,96,0,0,0,0,0,107,110,0,0,0,0,0,0,0,null,0,0,0,0,0,0,0,0,0,0,0,0,0,0,0,0,0,0,0,0,0,0]
[643,1,"2019-12-28",85,0,110,0,0,0,111,88,0,0,93,0,0,100,0,0,0,0,109,93,96,0,108,0,0,0,0,null,0,0,0,0,0,0,0,0,0,0,0,0,0,0,0,0,0,0,0,0,0,0]
[642,1,"2019-12-21",85,0,0,113,0,0,107,91,0,null,96,0,0,0,108,0,0,0,0,0,0,0,112,97,0,0,0,null,0,0,0,0,0,0,0,0,0,0,0,0,0,0,0,0,0,0,0,0,0,0]
[641,0,"2019-12-16",0,0,0,0,0,0,0,0,0,null,89,0,0,0,102,0,0,0,0,96,97,0,113,0,0,0,0,null,0,0,0,0,0,0,0,0,0,0,0,0,0,0,0,0,0,0,0,0,0,0]
[640,1,"2019-12-14",97,99,115,0,0,0,110,0,0,null,88,0,0,0,0,0,88,105,99,110,0,0,0,0,0,0,0,null,0,0,0,0,0,0,0,0,0,0,0,0,0,0,0,0,0,0,0,0,0,0]
[639,1,"2019-11-30",84,100,112,94,101,102,104,82,0,null,0,0,92,97,107,0,89,107,109,99,0,0,119,0,0,0,0,null,0,0,0,0,0,0,0,0,0,0,0,0,0,0,0,0,0,0,0,0,0,0]
[638,0,"2019-11-18",0,0,0,0,0,0,0,0,99,null,85,0,101,0,0,0,0,0,0,0,0,0,119,0,0,0,0,null,0,0,0,0,0,0,0,0,0,0,0,0,0,0,0,0,0,0,0,0,0,0]
[637,1,"2019-11-16",82,109,109,0,0,98,0,85,0,null,80,100,0,0,0,0,108,95,0,0,96,97,110,0,0,0,0,null,0,0,0,0,0,0,0,0,0,0,0,0,0,0,0,0,0,0,0,0,0,0]
[636,1,"2019-11-09",96,97,0,0,0,0,0,82,0,null,81,0,0,98,102,0,0,0,0,100,89,0,117,100,0,0,0,null,0,0,0,0,0,0,0,0,0,0,0,0,0,0,0,0,0,0,0,0,0,0]
[635,1,"2019-11-02",82,0,0,0,0,93,0,94,0,null,78,98,90,0,102,0,94,97,99,0,0,0,0,0,0,0,0,null,0,0,0,0,0,0,0,0,0,0,0,0,0,0,0,0,0,0,0,0,0,0]
[634,1,"2019-10-26",84,0,0,0,0,0,113,86,0,null,88,0,0,0,105,0,0,0,104,0,0,0,0,0,0,0,0,null,0,0,0,0,0,0,0,0,0,0,0,0,0,0,0,0,0,0,0,0,0,0]
[633,1,"2019-10-19",79,109,113,0,0,0,111,83,0,null,86,0,89,98,0,0,88,104,100,0,0,0,112,0,0,0,0,null,0,0,0,0,0,0,0,0,0,0,0,0,0,0,0,0,0,0,0,0,0,0]
[632,1,"2019-10-05",86,100,104,0,0,0,103,81,0,null,88,0,105,0,97,0,89,98,98,0,92,0,104,0,0,0,0,null,0,0,0,0,0,0,0,0,0,0,0,0,0,0,0,0,0,0,0,0,0,0]
[631,1,"2019-09-28",0,0,110,92,0,0,103,0,0,null,0,0,98,0,0,0,0,0,0,0,0,0,0,0,0,0,0,null,0,0,0,0,0,0,0,0,0,0,0,0,0,0,0,0,0,0,0,0,0,0]
[630,1,"2019-09-21",89,0,0,89,0,0,0,0,0,null,0,0,92,95,0,0,0,102,98,100,0,0,106,0,0,0,0,null,0,0,0,0,0,0,0,0,0,0,0,0,0,0,0,0,0,0,0,0,0,0]
[629,1,"2019-09-14",88,98,112,0,0,0,102,85,0,null,82,0,0,92,101,0,86,90,102,0,0,0,100,0,0,0,0,null,0,0,0,0,0,0,0,0,0,0,0,0,0,0,0,0,0,0,0,0,0,0]
[628,1,"2019-09-07",84,97,103,0,0,0,103,80,0,null,80,0,99,0,103,0,0,0,96,0,0,0,98,0,0,0,0,null,0,0,0,0,0,0,0,0,0,0,0,0,0,0,0,0,0,0,0,0,0,0]
[627,1,"2019-08-31",83,0,109,94,0,0,101,87,0,null,82,0,0,100,105,0,90,0,107,0,0,0,0,0,0,0,0,null,0,0,0,0,0,0,0,0,0,0,0,0,0,0,0,0,0,0,0,0,0,0]
[626,1,"2019-08-24",85,98,102,88,0,0,0,83,0,null,80,0,93,0,105,0,0,0,0,0,0,0,109,0,0,0,0,null,0,0,0,0,0,0,0,0,0,0,0,0,0,0,0,0,0,0,0,0,0,0]
[625,1,"2019-08-17",80,0,109,89,0,0,101,89,0,null,88,0,101,0,0,0,0,0,106,0,95,0,104,0,0,0,0,null,0,0,0,0,0,0,0,0,0,0,0,0,0,0,0,0,0,0,0,0,0,0]
[624,1,"2019-08-10",79,0,0,0,0,0,104,0,0,null,0,0,104,0,97,0,85,0,97,0,0,0,109,0,0,0,0,null,0,0,0,0,0,0,0,0,0,0,0,0,0,0,0,0,0,0,0,0,0,0]
[623,1,"2019-08-03",80,95,102,98,0,98,99,81,0,null,79,104,0,96,96,0,82,104,100,102,0,0,112,0,0,0,0,null,0,0,0,0,0,0,0,0,0,0,0,0,0,0,0,0,0,0,0,0,0,0]
[622,1,"2019-07-27",88,0,0,102,0,95,96,87,0,null,0,0,0,0,95,0,0,0,0,0,96,0,0,0,0,0,0,null,0,0,0,0,0,0,0,0,0,0,0,0,0,0,0,0,0,0,0,0,0,0]
[621,1,"2019-07-20",81,0,0,0,0,0,94,83,0,null,92,93,0,97,0,0,93,0,110,103,92,0,107,0,0,0,0,null,0,0,0,0,0,0,0,0,0,0,0,0,0,0,0,0,0,0,0,0,0,0]
[620,1,"2019-07-13",87,95,104,0,0,0,113,0,0,null,75,0,90,0,101,0,0,0,111,0,0,0,0,0,0,0,0,null,0,0,0,0,0,0,0,0,0,0,0,0,0,0,0,0,0,0,0,0,0,0]
[619,1,"2019-07-06",84,0,0,91,0,95,0,0,0,null,84,0,93,0,0,0,85,101,96,0,0,0,0,0,0,0,0,null,0,0,0,0,0,0,0,0,0,0,0,0,0,0,0,0,0,0,0,0,0,0]
[618,1,"2019-06-22",83,0,106,93,0,98,102,85,0,null,84,94,95,0,0,0,84,101,92,0,96,0,0,0,0,0,0,null,0,0,0,0,0,0,0,0,0,0,0,0,0,0,0,0,0,0,0,0,0,0]
[617,1,"2019-06-08",83,92,0,0,0,0,104,81,0,null,0,0,0,98,103,0,91,104,87,0,91,0,109,0,0,0,0,null,0,0,0,0,0,0,0,0,0,0,0,0,0,0,0,0,0,0,0,0,0,0]
[616,1,"2019-06-01",87,0,107,0,0,98,102,82,0,null,79,0,92,0,107,0,0,null,98,103,null,0,105,0,0,0,0,null,0,0,0,0,0,0,0,0,0,0,0,0,0,0,0,0,0,0,0,0,0,0]
[615,1,"2019-05-25",83,97,0,102,0,0,110,79,0,null,80,0,86,0,97,0,0,null,101,98,null,0,114,0,0,0,0,null,0,0,0,0,0,0,0,0,0,0,0,0,0,0,0,0,0,0,0,0,0,0]
[614,1,"2019-05-18",84,0,0,0,0,0,99,88,0,null,81,0,0,0,0,0,0,null,96,0,null,0,0,0,0,0,0,null,0,0,0,0,0,0,0,0,0,0,0,0,0,0,0,0,0,0,0,0,0,0]
[613,1,"2019-05-11",81,102,97,85,0,87,93,83,0,null,84,0,95,93,98,0,84,null,0,96,null,0,111,0,0,0,0,null,0,0,0,0,0,0,0,0,0,0,0,0,0,0,0,0,0,0,0,0,0,0]
[612,0,"2019-05-07",80,0,0,87,0,0,0,0,88,null,76,0,88,0,97,0,0,null,102,0,null,0,120,0,0,0,0,null,0,0,0,0,0,0,0,0,0,0,0,0,0,0,0,0,0,0,0,0,0,0]
[611,1,"2019-04-27",85,105,112,91,0,0,0,86,0,null,92,0,99,0,103,0,0,null,100,0,null,0,0,0,0,0,0,null,0,0,0,0,0,0,0,0,0,0,0,0,0,0,0,0,0,0,0,0,0,0]
[610,1,"2019-04-20",84,0,0,90,0,0,100,0,0,null,82,0,92,0,0,0,89,null,95,0,null,0,0,0,0,0,0,null,0,0,0,0,0,0,0,0,0,0,0,0,0,0,0,0,0,0,0,0,0,0]
[609,1,"2019-04-13",83,101,104,0,0,102,99,0,97,null,82,0,91,102,108,0,87,null,102,102,null,0,110,0,0,0,0,null,0,0,0,0,0,0,0,0,0,0,0,0,0,0,0,0,0,0,0,0,0,0]
[608,1,"2019-04-06",82,0,0,88,0,0,100,91,92,null,86,0,91,0,0,0,0,null,96,0,null,0,112,0,0,0,0,null,0,0,0,0,0,0,0,0,0,0,0,0,0,0,0,0,0,0,0,0,0,0]
[607,1,"2019-03-30",87,0,107,0,0,101,0,90,0,null,93,0,95,0,100,0,0,null,100,0,null,0,97,0,0,0,0,null,0,0,0,0,0,0,0,0,0,0,0,0,0,0,0,0,0,0,0,0,0,0]
[606,1,"2019-03-23",82,105,0,88,0,0,105,0,0,null,0,0,0,114,112,0,0,null,98,0,null,0,0,0,0,0,0,null,0,0,0,0,0,0,0,0,0,0,0,0,0,0,0,0,0,0,0,0,0,0]
[605,1,"2019-03-16",89,0,101,98,0,90,0,0,0,null,83,0,87,0,0,0,100,null,104,0,null,0,0,0,0,0,0,null,0,0,0,0,0,0,0,0,0,0,0,0,0,0,0,0,0,0,0,0,0,0]
[604,1,"2019-03-09",88,109,113,0,0,0,0,93,0,null,0,0,104,0,104,0,0,null,112,0,null,0,120,0,0,0,0,null,0,0,0,0,0,0,0,0,0,0,0,0,0,0,0,0,0,0,0,0,0,0]
[603,1,"2019-03-02",97,0,106,0,0,0,0,90,0,null,80,0,97,0,108,0,92,null,99,102,null,0,114,0,0,0,0,null,0,0,0,0,0,0,0,0,0,0,0,0,0,0,0,0,0,0,0,0,0,0]
[602,1,"2019-02-23",85,0,0,0,0,0,0,94,0,null,84,0,98,0,0,0,85,null,106,0,null,0,0,0,0,0,0,null,0,0,0,0,0,0,0,0,0,0,0,0,0,0,0,0,0,0,0,0,0,0]
[601,1,"2019-02-16",90,0,99,0,0,0,106,0,0,null,86,0,94,0,99,0,91,null,100,0,null,0,0,0,0,0,0,null,0,0,0,0,0,0,0,0,0,0,0,0,0,0,0,0,0,0,0,0,0,0]
[600,1,"2019-02-02",89,0,115,0,0,0,100,89,0,null,91,0,89,0,0,0,0,null,102,0,null,0,105,0,0,0,0,null,0,0,0,0,0,0,0,0,0,0,0,0,0,0,0,0,0,0,0,0,0,0]
[599,1,"2019-01-26",79,0,0,0,0,0,0,0,0,null,91,0,0,0,0,0,88,null,99,0,null,0,0,0,0,0,0,null,0,0,0,0,0,0,0,0,0,0,0,0,0,0,0,0,0,0,0,0,0,0]
[598,1,"2019-01-19",88,0,108,0,0,0,111,86,0,null,0,0,91,0,98,0,0,null,90,0,null,0,0,0,0,0,0,null,0,0,0,0,0,0,0,0,0,0,0,0,0,0,0,0,0,0,0,0,0,0]
[597,1,"2019-01-12",88,107,96,0,0,0,99,0,0,null,86,0,104,0,98,0,0,null,100,0,null,0,0,0,0,0,0,null,0,0,0,0,0,0,0,0,0,0,0,0,0,0,0,0,0,0,0,0,0,0]
[596,1,"2019-01-05",85,0,101,97,0,0,101,0,0,null,87,0,89,0,0,0,0,null,101,0,null,0,125,0,0,0,0,null,0,0,0,0,0,0,0,0,0,0,0,0,0,0,0,0,0,0,0,0,0,0]
[595,1,"2018-12-29",96,0,102,0,0,0,98,83,0,null,88,0,0,0,100,0,0,null,101,107,null,0,109,0,0,0,0,null,0,0,0,0,0,0,0,0,0,0,0,0,0,0,0,0,0,0,0,0,0,0]
[594,1,"2018-12-22",83,99,114,0,102,98,0,91,0,null,0,0,108,110,110,0,0,null,100,0,null,0,123,0,0,0,0,null,0,0,0,0,0,0,0,0,0,0,0,0,0,0,0,0,0,0,0,0,0,0]
[593,1,"2018-12-15",88,0,0,102,0,98,114,89,0,null,94,0,0,0,104,0,0,null,0,98,null,0,115,0,0,0,0,null,0,0,0,0,0,0,0,0,0,0,0,0,0,0,0,0,0,0,0,0,0,0]
[592,1,"2018-12-08",81,96,102,0,0,0,0,90,92,null,81,0,93,99,105,0,0,null,99,101,null,0,0,0,0,0,0,null,0,0,0,0,0,0,0,0,0,0,0,0,0,0,0,0,0,0,0,0,0,0]
[591,1,"2018-12-01",76,0,103,0,0,96,101,87,0,null,82,0,97,0,0,0,92,null,0,96,null,0,119,0,0,0,0,null,0,0,0,0,0,0,0,0,0,0,0,0,0,0,0,0,0,0,0,0,0,0]
[590,1,"2018-11-24",81,0,0,0,0,0,95,95,91,null,86,0,0,0,106,0,0,null,102,0,null,0,0,0,0,0,0,null,0,0,0,0,0,0,0,0,0,0,0,0,0,0,0,0,0,0,0,0,0,0]
[589,1,"2018-11-17",82,0,107,0,0,98,0,0,0,null,86,0,0,96,0,0,0,null,94,96,null,0,106,0,0,0,0,null,0,0,0,0,0,0,0,0,0,0,0,0,0,0,0,0,0,0,0,0,0,0]
[588,1,"2018-11-10",89,106,108,97,0,97,99,0,97,null,0,0,0,0,97,0,92,null,101,98,null,0,0,0,0,0,0,null,0,0,0,0,0,0,0,0,0,0,0,0,0,0,0,0,0,0,0,0,0,0]
[587,1,"2018-10-27",87,109,106,89,0,0,95,90,0,null,87,0,103,100,0,0,89,null,0,0,null,0,0,0,0,0,0,null,0,0,0,0,0,0,0,0,0,0,0,0,0,0,0,0,0,0,0,0,0,0]
[586,1,"2018-10-20",80,0,106,92,0,101,106,84,86,null,84,0,92,0,96,0,0,null,107,105,null,0,0,0,0,0,0,null,0,0,0,0,0,0,0,0,0,0,0,0,0,0,0,0,0,0,0,0,0,0]
[585,1,"2018-10-13",81,99,0,95,0,91,100,84,83,null,87,0,0,0,96,0,89,null,105,100,null,0,0,0,0,0,0,null,0,0,0,0,0,0,0,0,0,0,0,0,0,0,0,0,0,0,0,0,0,0]
[584,1,"2018-10-06",92,0,103,0,0,96,104,81,0,null,91,0,101,94,104,0,89,null,98,100,null,0,0,0,0,0,0,null,0,0,0,0,0,0,0,0,0,0,0,0,0,0,0,0,0,0,0,0,0,0]
[583,1,"2018-09-29",83,0,0,0,0,0,104,0,0,null,82,0,0,0,0,0,90,null,0,0,null,0,0,0,0,0,0,null,0,0,0,0,0,0,0,0,0,0,0,0,0,0,0,0,0,0,0,0,0,0]
[582,1,"2018-09-22",83,101,0,0,0,0,111,0,0,null,82,0,94,94,99,0,86,null,99,100,null,0,0,0,0,0,0,null,0,0,0,0,0,0,0,0,0,0,0,0,0,0,0,0,0,0,0,0,0,0]
[581,1,"2018-09-08",82,0,108,0,0,0,103,82,94,null,74,0,92,0,101,0,86,null,97,0,null,0,0,0,0,0,0,null,0,0,0,0,0,0,0,0,0,0,0,0,0,0,0,0,0,0,0,0,0,0]
[580,1,"2018-09-01",80,94,105,90,0,0,105,82,0,null,74,0,0,0,92,0,0,null,96,99,null,0,0,0,0,0,0,null,0,0,0,0,0,0,0,0,0,0,0,0,0,0,0,0,0,0,0,0,0,0]
[579,1,"2018-08-25",90,0,0,87,0,0,101,85,0,null,88,0,96,0,110,0,0,null,92,0,null,0,0,0,0,0,0,null,0,0,0,0,0,0,0,0,0,0,0,0,0,0,0,0,0,0,0,0,0,0]
[578,1,"2018-08-18",81,92,100,91,0,0,97,76,85,null,82,0,87,0,101,0,0,null,99,0,null,0,0,0,0,0,0,null,0,0,0,0,0,0,0,0,0,0,0,0,0,0,0,0,0,0,0,0,0,0]
[577,1,"2018-08-04",76,0,119,96,0,0,96,84,97,null,0,0,97,0,0,0,0,null,105,0,null,0,0,0,0,0,0,null,0,0,0,0,0,0,0,0,0,0,0,0,0,0,0,0,0,0,0,0,0,0]
[576,1,"2018-07-21",78,0,0,104,0,93,93,81,0,null,77,0,91,0,98,0,0,null,0,0,null,0,109,0,0,0,0,null,0,0,0,0,0,0,0,0,0,0,0,0,0,0,0,0,0,0,0,0,0,0]
[575,1,"2018-07-14",83,99,101,91,0,105,90,83,0,null,87,0,90,0,0,0,0,null,99,0,null,0,103,0,0,0,0,null,0,0,0,0,0,0,0,0,0,0,0,0,0,0,0,0,0,0,0,0,0,0]
[574,1,"2018-07-07",87,0,105,0,0,94,0,87,0,null,0,0,92,0,0,0,0,null,96,0,null,0,0,0,0,0,0,null,0,0,0,0,0,0,0,0,0,0,0,0,0,0,0,0,0,0,0,0,0,0]
[573,1,"2018-06-30",87,89,100,0,102,94,95,0,0,null,0,0,92,99,98,0,84,null,109,109,null,0,109,0,0,0,0,null,0,0,0,0,0,0,0,0,0,0,0,0,0,0,0,0,0,0,0,0,0,0]
[572,1,"2018-06-23",83,0,0,0,0,0,0,81,0,null,80,0,89,100,106,0,83,null,101,0,null,0,0,0,0,0,0,null,0,0,0,0,0,0,0,0,0,0,0,0,0,0,0,0,0,0,0,0,0,0]
[571,1,"2018-06-16",84,0,108,0,0,97,0,85,0,null,89,0,102,0,95,0,86,null,106,0,null,0,105,0,0,0,0,null,0,0,0,0,0,0,0,0,0,0,0,0,0,0,0,0,0,0,0,0,0,0]
[570,1,"2018-06-09",78,99,0,87,0,0,110,78,0,null,80,0,0,0,97,0,0,null,100,98,null,0,0,0,0,0,0,null,0,0,0,0,0,0,0,0,0,0,0,0,0,0,0,0,0,0,0,0,0,0]
[569,1,"2018-06-02",80,0,106,0,0,98,97,0,0,null,86,0,0,0,0,0,0,null,0,0,null,105,101,0,0,0,0,null,0,0,0,0,0,0,0,0,0,0,0,0,0,0,0,0,0,0,0,0,0,0]
[568,1,"2018-05-26",80,95,0,95,0,0,107,0,97,null,76,0,93,0,98,136,87,null,106,0,null,0,0,0,0,0,0,null,0,0,0,0,0,0,0,0,0,0,0,0,0,0,0,0,0,0,0,0,0,0]
[567,1,"2018-05-19",86,0,0,0,0,0,103,0,0,null,80,0,95,0,93,0,0,null,97,0,null,102,108,0,0,0,0,null,0,0,0,0,0,0,0,0,0,0,0,0,0,0,0,0,0,0,0,0,0,0]
[566,1,"2018-05-12",0,104,0,103,0,95,106,91,95,null,90,0,103,95,95,0,91,null,0,110,null,109,100,0,0,0,0,null,0,0,0,0,0,0,0,0,0,0,0,0,0,0,0,0,0,0,0,0,0,0]
[565,1,"2018-04-28",77,97,113,0,0,95,0,96,0,null,85,0,91,100,97,0,0,null,99,0,null,0,0,0,0,0,0,null,0,0,0,0,0,0,0,0,0,0,0,0,0,0,0,0,0,0,0,0,0,0]
[564,1,"2018-04-21",85,0,0,91,0,0,106,0,93,null,94,0,91,0,0,122,94,null,0,0,null,97,112,0,0,0,0,null,0,0,0,0,0,0,0,0,0,0,0,0,0,0,0,0,0,0,0,0,0,0]
[563,1,"2018-04-14",83,105,104,0,0,0,99,86,97,null,86,0,0,95,100,0,0,null,99,99,null,0,106,0,0,0,0,null,0,0,0,0,0,0,0,0,0,0,0,0,0,0,0,0,0,0,0,0,0,0]
[562,1,"2018-04-07",0,0,0,0,0,102,0,97,0,null,87,0,96,0,104,0,0,null,97,0,null,0,120,0,0,0,0,null,0,0,0,0,0,0,0,0,0,0,0,0,0,0,0,0,0,0,0,0,0,0]
[561,1,"2018-03-31",86,0,107,94,0,96,0,90,0,null,0,0,94,0,109,0,0,null,110,106,null,100,107,0,0,0,0,null,0,0,0,0,0,0,0,0,0,0,0,0,0,0,0,0,0,0,0,0,0,0]
[560,1,"2018-03-24",87,112,0,0,0,0,0,86,0,null,90,0,0,0,0,126,91,null,106,0,null,0,0,0,0,0,0,null,0,0,0,0,0,0,0,0,0,0,0,0,0,0,0,0,0,0,0,0,0,0]
[559,1,"2018-03-17",87,0,111,0,0,0,0,89,0,null,0,0,99,0,103,0,0,null,106,0,null,0,113,0,0,0,0,null,0,0,0,0,0,0,0,0,0,0,0,0,0,0,0,0,0,0,0,0,0,0]
[558,1,"2018-03-10",86,99,0,105,0,98,0,0,100,null,90,0,96,0,112,128,93,null,100,0,null,0,110,0,0,0,0,null,0,0,0,0,0,0,0,0,0,0,0,0,0,0,0,0,0,0,0,0,0,0]
[557,1,"2018-03-03",88,0,99,0,0,0,0,0,0,null,83,0,0,0,106,114,91,null,95,0,null,0,102,0,0,0,0,null,0,0,0,0,0,0,0,0,0,0,0,0,0,0,0,0,0,0,0,0,0,0]
[556,1,"2018-02-24",88,103,0,0,0,0,0,0,98,null,84,0,90,0,109,0,84,null,100,0,null,0,0,0,0,0,0,null,0,0,0,0,0,0,0,0,0,0,0,0,0,0,0,0,0,0,0,0,0,0]
[555,1,"2018-02-17",86,0,105,0,0,0,0,0,0,null,89,0,0,0,0,0,0,null,96,0,null,0,114,0,0,0,0,null,0,0,0,0,0,0,0,0,0,0,0,0,0,0,0,0,0,0,0,0,0,0]
[554,1,"2018-02-10",84,0,0,0,0,0,0,0,0,null,76,0,89,0,94,121,85,null,97,0,null,0,102,0,0,0,0,null,0,0,0,0,0,0,0,0,0,0,0,0,0,0,0,0,0,0,0,0,0,0]
[553,1,"2018-01-20",82,0,0,0,0,111,0,0,106,null,93,0,0,0,110,127,88,null,105,0,null,0,131,0,0,0,0,null,0,0,0,0,0,0,0,0,0,0,0,0,0,0,0,0,0,0,0,0,0,0]
[552,1,"2018-01-13",82,0,115,0,0,0,null,0,0,null,0,0,105,0,106,125,84,null,98,107,null,0,0,0,0,0,0,null,0,0,0,0,0,0,0,0,0,0,0,0,0,0,0,0,0,0,0,0,0,0]
[551,1,"2018-01-06",92,106,110,105,0,106,null,0,95,null,86,93,97,0,107,122,100,null,100,0,null,0,103,0,0,0,0,null,0,0,0,0,0,0,0,0,0,0,0,0,0,0,0,0,0,0,0,0,0,0]
[550,1,"2017-12-30",88,0,113,0,0,91,null,0,0,null,81,0,0,0,93,0,0,null,101,100,null,0,115,0,0,0,0,null,0,0,0,0,0,0,0,0,0,0,0,0,0,0,0,0,0,0,0,0,0,0]
[549,1,"2017-12-16",85,101,105,103,100,96,null,0,91,null,0,90,98,104,95,129,89,null,101,0,null,0,117,0,0,0,0,null,0,0,0,0,0,0,0,0,0,0,0,0,0,0,0,0,0,0,0,0,0,0]
[548,1,"2017-12-09",82,0,0,104,0,0,null,0,103,null,90,0,93,0,0,0,86,null,107,92,null,0,108,0,0,0,0,null,0,0,0,0,0,0,0,0,0,0,0,0,0,0,0,0,0,0,0,0,0,0]
[547,1,"2017-12-02",0,107,106,0,0,105,null,0,0,null,86,102,94,0,99,0,92,null,0,97,null,97,109,0,0,0,0,null,0,0,0,0,0,0,0,0,0,0,0,0,0,0,0,0,0,0,0,0,0,0]
[546,1,"2017-11-25",94,0,107,0,0,0,null,0,0,null,89,99,97,103,105,0,82,null,115,103,null,0,0,0,0,0,0,null,0,0,0,0,0,0,0,0,0,0,0,0,0,0,0,0,0,0,0,0,0,0]
[545,1,"2017-11-11",86,0,100,0,0,103,null,0,0,null,91,97,0,102,93,0,0,null,0,0,null,0,121,0,0,0,0,null,0,0,0,0,0,0,0,0,0,0,0,0,0,0,0,0,0,0,0,0,0,0]
[544,1,"2017-11-04",0,99,107,88,0,0,null,0,90,null,0,0,0,0,100,125,90,null,101,86,null,0,111,0,0,0,0,null,0,0,0,0,0,0,0,0,0,0,0,0,0,0,0,0,0,0,0,0,0,0]
[543,1,"2017-09-30",80,93,106,96,0,0,null,0,90,null,83,0,105,99,97,118,90,null,97,88,null,110,108,0,0,0,0,null,0,0,0,0,0,0,0,0,0,0,0,0,0,0,0,0,0,0,0,0,0,0]
[542,1,"2017-09-16",0,0,94,0,0,0,null,0,0,null,88,0,0,0,0,0,0,null,0,0,null,0,0,0,0,0,0,null,0,0,0,0,0,0,0,0,0,0,0,0,0,0,0,0,0,0,0,0,0,0]
[541,1,"2017-09-09",80,91,104,100,0,0,null,0,0,null,0,87,0,0,104,0,88,null,102,86,null,0,110,0,0,0,0,null,0,0,0,0,0,0,0,0,0,0,0,0,0,0,0,0,0,0,0,0,0,0]
[540,1,"2017-08-26",0,96,103,97,0,0,null,0,96,null,0,0,93,0,97,0,92,null,102,90,null,0,115,0,0,0,0,null,0,0,0,0,0,0,0,0,0,0,0,0,0,0,0,0,0,0,0,0,0,0]
[539,1,"2017-08-19",90,0,0,91,0,0,null,0,0,null,0,0,94,0,0,0,0,null,99,93,null,0,112,0,0,0,0,null,0,0,0,0,0,0,0,0,0,0,0,0,0,0,0,0,0,0,0,0,0,0]
[538,1,"2017-08-12",86,0,100,0,0,0,null,0,0,null,88,0,97,0,97,0,0,null,0,98,null,0,107,0,0,0,0,null,0,0,0,0,0,0,0,0,0,0,0,0,0,0,0,0,0,0,0,0,0,0]
[537,1,"2017-08-05",81,98,108,0,0,0,null,0,0,null,86,0,92,0,0,0,0,null,94,87,null,0,105,0,0,0,0,null,0,0,0,0,0,0,0,0,0,0,0,0,0,0,0,0,0,0,0,0,0,0]
[536,1,"2017-07-29",78,0,0,0,0,91,null,0,0,null,80,0,99,0,100,114,88,null,102,90,null,0,107,0,0,0,0,null,0,0,0,0,0,0,0,0,0,0,0,0,0,0,0,0,0,0,0,0,0,0]
[535,1,"2017-07-22",0,92,0,0,0,94,null,0,0,null,0,0,91,0,105,0,0,null,0,89,null,0,105,0,0,0,0,null,0,0,0,0,0,0,0,0,0,0,0,0,0,0,0,0,0,0,0,0,0,0]
[534,1,"2017-07-15",90,0,95,89,0,0,0,0,90,null,92,0,87,94,0,0,0,null,101,87,null,0,104,0,0,0,0,null,0,0,0,0,0,0,0,0,0,0,0,0,0,0,0,0,0,0,0,0,0,0]
[533,1,"2017-07-08",92,98,0,98,96,87,0,0,94,null,89,96,94,0,109,0,84,null,91,92,null,0,107,0,0,0,0,null,0,0,0,0,0,0,0,0,0,0,0,0,0,0,0,0,0,0,0,0,0,0]
[532,0,"2017-07-01",90,0,113,96,0,96,0,0,0,null,0,0,99,0,100,0,94,null,101,105,null,0,117,0,0,0,0,null,0,0,0,0,0,0,0,0,0,0,0,0,0,0,0,0,0,0,0,0,0,0]
[531,1,"2017-06-24",0,0,104,0,0,96,0,0,0,null,87,0,90,0,0,114,85,null,96,0,null,0,0,0,0,0,0,null,0,0,0,0,0,0,0,0,0,0,0,0,0,0,0,0,0,0,0,0,0,0]
[530,1,"2017-06-17",0,0,101,0,0,0,0,0,0,null,83,93,93,0,106,113,82,null,99,93,null,110,111,0,0,0,0,null,0,0,0,0,0,0,0,0,0,0,0,0,0,0,0,0,0,0,0,0,0,0]
[529,1,"2017-06-10",89,0,105,0,0,94,0,0,0,null,85,0,0,0,0,0,0,null,101,97,null,0,105,0,0,0,0,null,0,0,0,0,0,0,0,0,0,0,0,0,0,0,0,0,0,0,0,0,0,0]
[528,1,"2017-06-03",82,102,98,87,0,0,0,0,0,null,87,0,0,0,0,0,0,null,101,88,null,103,99,0,0,0,0,null,0,0,0,0,0,0,0,0,0,0,0,0,0,0,0,0,0,0,0,0,0,0]
[527,1,"2017-05-27",84,98,0,100,0,0,0,0,102,null,91,0,89,0,97,0,87,null,91,0,null,0,0,0,0,0,0,null,0,0,0,0,0,0,0,0,0,0,0,0,0,0,0,0,0,0,0,0,0,0]
[526,1,"2017-05-20",0,0,0,0,0,92,0,0,0,null,85,90,97,0,104,0,85,null,102,0,null,0,106,0,0,0,0,null,0,0,0,0,0,0,0,0,0,0,0,0,0,0,0,0,0,0,0,0,0,0]
[525,1,"2017-05-06",86,100,108,0,0,0,0,0,0,null,0,95,91,103,0,0,0,null,96,0,null,112,107,0,0,0,0,null,0,0,0,0,0,0,0,0,0,0,0,0,0,0,0,0,0,0,0,0,0,0]
[524,1,"2017-04-22",88,96,109,0,0,0,0,0,0,null,92,0,98,0,0,0,0,null,93,0,null,0,0,0,0,0,0,null,0,0,0,0,0,0,0,0,0,0,0,0,0,0,0,0,0,0,0,0,0,0]
[523,1,"2017-04-15",88,0,106,95,0,0,0,0,0,null,92,98,0,103,99,0,96,null,105,110,null,106,0,0,0,0,0,null,0,0,0,0,0,0,0,0,0,0,0,0,0,0,0,0,0,0,0,0,0,0]
[522,1,"2017-03-25",93,112,0,97,0,0,0,0,0,null,89,0,99,0,0,0,0,null,111,0,null,95,0,0,0,0,0,null,0,0,0,0,0,0,0,0,0,0,0,0,0,0,0,0,0,0,0,0,0,0]
[521,1,"2017-03-18",80,0,0,0,0,97,0,0,0,null,0,0,0,108,106,0,0,null,111,0,null,99,115,0,0,0,0,null,0,0,0,0,0,0,0,0,0,0,0,0,0,0,0,0,0,0,0,0,0,0]
[520,1,"2017-03-11",89,112,101,0,0,111,0,0,0,null,95,93,98,0,0,0,0,null,96,92,null,0,113,0,0,0,0,null,0,0,0,0,0,0,0,0,0,0,0,0,0,0,0,0,0,0,0,0,0,0]
[519,1,"2017-03-04",80,0,104,0,0,0,0,0,0,null,94,0,104,0,100,0,0,null,103,0,null,127,114,0,0,0,0,null,0,0,0,0,0,0,0,0,0,0,0,0,0,0,0,0,0,0,0,0,0,0]
[518,1,"2017-02-25",81,98,101,0,0,0,0,0,0,null,89,101,95,98,0,137,93,null,0,0,null,103,0,0,0,0,0,null,0,0,0,0,0,0,0,0,0,0,0,0,0,0,0,0,0,0,0,0,0,0]
[517,1,"2017-02-18",82,0,0,0,0,0,0,0,0,null,93,0,99,0,0,111,87,null,101,98,null,0,105,0,0,0,0,null,0,0,0,0,0,0,0,0,0,0,0,0,0,0,0,0,0,0,0,0,0,0]
[516,1,"2017-02-04",89,0,0,0,0,0,0,0,0,null,0,0,91,0,102,0,0,null,92,0,null,103,107,0,0,0,0,null,0,0,0,0,0,0,0,0,0,0,0,0,0,0,0,0,0,0,0,0,0,0]
[515,1,"2017-01-28",89,0,0,0,0,0,0,0,0,null,0,0,93,0,0,0,92,null,94,0,null,0,0,0,0,0,0,null,0,0,0,0,0,0,0,0,0,0,0,0,0,0,0,0,0,0,0,0,0,0]
[514,1,"2017-01-21",95,0,0,0,0,104,0,0,97,null,0,0,103,0,104,0,0,null,103,0,null,105,0,0,0,0,0,null,0,0,0,0,0,0,0,0,0,0,0,0,0,0,0,0,0,0,0,0,0,0]
[513,1,"2017-01-14",88,0,105,0,0,101,0,0,0,null,0,0,107,0,0,119,92,null,90,0,null,0,115,0,0,0,0,null,0,0,0,0,0,0,0,0,0,0,0,0,0,0,0,0,0,0,0,0,0,0]
[512,1,"2017-01-07",87,95,102,0,0,96,0,0,0,null,0,0,0,0,101,0,0,null,95,0,null,98,102,0,0,0,0,null,0,0,0,0,0,0,0,0,0,0,0,0,0,0,0,0,0,0,0,0,0,0]
[511,1,"2016-12-29",94,0,109,0,0,95,0,0,0,null,0,0,0,0,109,0,0,null,99,100,null,0,113,0,0,0,0,null,0,0,0,0,0,0,0,0,0,0,0,0,0,0,0,0,0,0,0,0,0,0]
[510,1,"2016-12-24",100,0,0,0,0,0,0,0,0,null,0,0,88,0,0,0,0,null,102,0,null,0,112,0,0,0,0,null,0,0,0,0,0,0,0,0,0,0,0,0,0,0,0,0,0,0,0,0,0,0]
[509,1,"2016-12-17",92,94,0,93,102,97,0,0,97,null,0,0,85,100,110,117,91,null,95,95,null,102,114,0,0,0,0,null,0,0,0,0,0,0,0,0,0,0,0,0,0,0,0,0,0,0,0,0,0,0]
[508,1,"2016-12-10",0,117,0,0,0,0,0,0,102,null,0,0,93,104,106,0,105,null,100,103,null,0,113,0,0,0,0,null,0,0,0,0,0,0,0,0,0,0,0,0,0,0,0,0,0,0,0,0,0,0]
[507,1,"2016-12-03",95,0,0,0,0,109,0,0,0,null,0,0,98,0,0,0,0,null,0,102,null,0,119,0,0,0,0,null,0,0,0,0,0,0,0,0,0,0,0,0,0,0,0,0,0,0,0,0,0,0]
[506,1,"2016-11-26",94,100,102,0,0,94,0,0,0,null,0,0,94,0,0,131,91,null,101,0,null,0,0,0,0,0,0,null,0,0,0,0,0,0,0,0,0,0,0,0,0,0,0,0,0,0,0,0,0,0]
[505,1,"2016-11-12",0,0,104,0,0,0,0,0,0,null,0,0,0,101,0,0,0,null,0,0,null,95,108,0,0,0,0,null,0,0,0,0,0,0,0,0,0,0,0,0,0,0,0,0,0,0,0,0,0,0]
[504,1,"2016-11-05",90,115,0,0,0,97,0,0,97,null,0,0,92,0,95,132,96,null,103,104,null,104,104,0,0,0,0,null,0,0,0,0,0,0,0,0,0,0,0,0,0,0,0,0,0,0,0,0,0,0]
[503,1,"2016-10-29",81,0,0,0,0,94,0,0,100,null,0,0,93,0,0,0,92,null,92,0,null,116,119,0,0,0,0,null,0,0,0,0,0,0,0,0,0,0,0,0,0,0,0,0,0,0,0,0,0,0]
[502,1,"2016-10-22",80,106,101,91,0,99,0,0,0,null,0,0,94,0,96,0,0,null,94,0,null,0,111,0,0,0,0,null,0,0,0,0,0,0,0,0,0,0,0,0,0,0,0,0,0,0,0,0,0,0]
[501,1,"2016-10-15",0,0,99,0,0,97,0,0,0,null,0,0,90,0,0,0,0,null,99,0,null,109,101,0,0,0,0,null,0,0,0,0,0,0,0,0,0,0,0,0,0,0,0,0,0,0,0,0,0,0]
[500,1,"2016-10-01",89,100,0,0,0,89,0,0,92,null,0,0,97,93,111,0,0,null,96,97,null,0,0,0,0,0,0,null,0,0,0,0,0,0,0,0,0,0,0,0,0,0,0,0,0,0,0,0,0,0]
[499,1,"2016-09-24",92,0,110,0,0,98,0,0,0,null,0,0,0,0,0,0,0,null,99,0,null,0,0,0,0,0,0,null,0,0,0,0,0,0,0,0,0,0,0,0,0,0,0,0,0,0,0,0,0,0]
[498,1,"2016-09-17",84,0,0,91,0,0,0,0,0,null,0,0,93,0,100,0,0,null,0,95,null,0,119,0,0,0,0,null,0,0,0,0,0,0,0,0,0,0,0,0,0,0,0,0,0,0,0,0,0,0]
[497,1,"2016-09-10",86,105,107,0,0,94,0,0,0,null,0,0,97,0,0,0,0,null,94,0,null,0,0,0,0,0,0,null,0,0,0,0,0,0,0,0,0,0,0,0,0,0,0,0,0,0,0,0,0,0]
[496,1,"2016-09-03",82,0,111,89,0,98,0,0,0,null,0,0,0,0,100,115,90,null,100,0,null,109,106,0,0,0,0,null,0,0,0,0,0,0,0,0,0,0,0,0,0,0,0,0,0,0,0,0,0,0]
[495,1,"2016-08-27",0,105,108,96,0,0,0,0,97,null,0,93,101,0,0,119,83,null,0,0,null,0,0,0,0,0,0,null,0,0,0,0,0,0,0,0,0,0,0,0,0,0,0,0,0,0,0,0,0,0]
[494,1,"2016-08-13",87,98,99,92,0,0,0,0,90,null,0,0,90,0,0,0,0,null,0,91,null,0,0,0,0,0,0,null,0,0,0,0,0,0,0,0,0,0,0,0,0,0,0,0,0,0,0,0,0,0]
[493,1,"2016-08-06",89,0,0,0,0,0,0,0,91,null,0,0,98,0,105,0,0,null,94,0,null,0,110,0,0,0,0,null,0,0,0,0,0,0,0,0,0,0,0,0,0,0,0,0,0,0,0,0,0,0]
[492,1,"2016-07-30",81,0,0,87,0,0,0,0,0,null,0,0,88,0,0,0,0,null,0,0,null,0,124,0,0,0,0,null,0,0,0,0,0,0,0,0,0,0,0,0,0,0,0,0,0,0,0,0,0,0]
[491,1,"2016-07-23",85,114,0,0,0,0,0,0,0,null,0,0,89,0,101,116,88,null,99,0,null,0,111,0,0,0,0,null,0,0,0,0,0,0,0,0,0,0,0,0,0,0,0,0,0,0,0,0,0,0]
[490,1,"2016-07-16",87,0,101,99,0,96,0,0,0,null,0,0,0,0,0,0,0,null,102,94,null,116,112,0,0,0,0,null,0,0,0,0,0,0,0,0,0,0,0,0,0,0,0,0,0,0,0,0,0,0]
[489,1,"2016-07-02",82,104,101,88,101,0,0,0,93,null,0,94,98,104,100,128,92,null,99,94,null,113,109,0,0,0,0,null,0,0,0,0,0,0,0,0,0,0,0,0,0,0,0,0,0,0,0,0,0,0]
[488,1,"2016-06-25",88,0,0,0,0,97,0,0,0,null,0,0,104,0,0,0,0,null,93,0,null,0,0,0,0,0,0,null,0,0,0,0,0,0,0,0,0,0,0,0,0,0,0,0,0,0,0,0,0,0]
[487,1,"2016-06-18",89,0,105,0,0,0,0,0,0,null,0,0,102,0,96,114,89,null,92,0,null,114,0,0,0,0,0,null,0,0,0,0,0,0,0,0,0,0,0,0,0,0,0,0,0,0,0,0,0,0]
[486,1,"2016-06-11",82,0,94,0,0,97,0,0,0,null,0,94,0,0,0,125,87,null,97,0,null,0,0,0,0,0,0,null,0,0,0,0,0,0,0,0,0,0,0,0,0,0,0,0,0,0,0,0,0,0]
[485,1,"2016-06-04",84,100,92,89,0,0,0,0,92,null,0,0,0,93,0,0,0,null,86,0,null,0,0,0,0,0,0,null,0,0,0,0,0,0,0,0,0,0,0,0,0,0,0,0,0,0,0,0,0,0]
[484,1,"2016-05-28",87,0,95,0,0,0,0,0,0,null,0,99,97,0,0,115,94,null,84,0,null,0,0,0,0,0,0,null,0,0,0,0,0,0,0,0,0,0,0,0,0,0,0,0,0,0,0,0,0,0]
[483,1,"2016-05-21",83,98,0,0,0,87,0,0,0,null,0,0,94,0,96,0,91,null,0,0,null,102,0,0,0,0,0,null,0,0,0,0,0,0,0,0,0,0,0,0,0,0,0,0,0,0,0,0,0,0]
[482,1,"2016-05-14",89,0,99,0,0,0,0,0,88,null,0,0,90,92,0,0,0,null,94,0,null,0,0,0,0,0,0,null,0,0,0,0,0,0,0,0,0,0,0,0,0,0,0,0,0,0,0,0,0,0]
[481,1,"2016-05-07",0,108,98,95,0,90,0,0,0,null,0,93,0,0,99,0,0,null,101,0,null,0,0,0,0,0,0,null,0,0,0,0,0,0,0,0,0,0,0,0,0,0,0,0,0,0,0,0,0,0]
[480,1,"2016-04-30",88,0,96,101,0,0,0,0,0,null,0,90,95,102,0,0,0,null,99,0,null,0,117,0,0,0,0,null,0,0,0,0,0,0,0,0,0,0,0,0,0,0,0,0,0,0,0,0,0,0]
[479,1,"2016-04-23",88,0,103,0,0,101,0,0,98,null,0,98,89,0,101,116,97,null,92,0,null,0,0,0,0,0,0,null,0,0,0,0,0,0,0,0,0,0,0,0,0,0,0,0,0,0,0,0,0,0]
[478,1,"2016-04-16",90,106,109,92,0,0,0,0,97,null,0,0,92,0,0,120,90,null,101,94,null,0,112,0,0,0,0,null,0,0,0,0,0,0,0,0,0,0,0,0,0,0,0,0,0,0,0,0,0,0]
[477,1,"2016-04-09",0,0,107,0,0,0,0,0,0,null,0,0,0,106,100,0,0,null,97,0,null,0,110,0,0,0,0,null,0,0,0,0,0,0,0,0,0,0,0,0,0,0,0,0,0,0,0,0,0,0]
[476,1,"2016-04-02",79,0,103,0,0,92,0,0,0,null,0,0,89,0,0,0,0,null,98,0,null,0,123,0,0,0,0,null,0,0,0,0,0,0,0,0,0,0,0,0,0,0,0,0,0,0,0,0,0,0]
[475,1,"2016-03-26",91,0,0,0,0,0,0,0,100,null,0,0,0,0,0,0,0,null,94,102,null,0,0,0,0,0,0,null,0,0,0,0,0,0,0,0,0,0,0,0,0,0,0,0,0,0,0,0,0,0]
[474,1,"2016-03-12",84,106,102,101,0,0,0,0,0,null,0,104,107,106,0,134,100,null,103,107,null,0,0,0,0,0,0,null,0,0,0,0,0,0,0,0,0,0,0,0,0,0,0,0,0,0,0,0,0,0]
[473,1,"2016-03-05",93,0,95,0,0,102,0,0,0,null,0,99,99,96,104,0,0,null,101,104,null,0,0,0,0,0,0,null,0,0,0,0,0,0,0,0,0,0,0,0,0,0,0,0,0,0,0,0,0,0]
[472,1,"2016-02-27",96,101,103,0,0,0,0,0,0,null,0,0,97,0,107,0,97,null,102,0,null,0,0,0,0,0,0,null,0,0,0,0,0,0,0,0,0,0,0,0,0,0,0,0,0,0,0,0,0,0]
[471,1,"2016-02-13",87,0,0,0,0,0,0,0,0,null,0,0,0,0,0,114,98,null,100,93,null,0,118,0,0,0,0,null,0,0,0,0,0,0,0,0,0,0,0,0,0,0,0,0,0,0,0,0,0,0]
[470,1,"2016-02-06",83,104,97,0,0,0,0,0,0,null,0,0,97,0,113,0,0,null,101,100,null,0,123,0,0,0,0,null,0,0,0,0,0,0,0,0,0,0,0,0,0,0,0,0,0,0,0,0,0,0]
[469,1,"2016-01-23",82,0,0,0,0,86,0,0,0,null,0,0,103,0,0,0,0,null,0,93,null,0,0,0,0,0,0,null,0,0,0,0,0,0,0,0,0,0,0,0,0,0,0,0,0,0,0,0,0,0]
[468,1,"2016-01-16",87,0,0,0,0,99,0,0,0,null,0,0,94,0,100,0,0,null,0,91,null,0,108,0,0,0,0,null,0,0,0,0,0,0,0,0,0,0,0,0,0,0,0,0,0,0,0,0,0,0]
[467,1,"2016-01-09",88,106,104,0,0,93,0,0,0,null,0,0,97,0,104,0,0,null,99,0,null,0,0,0,0,0,0,null,0,0,0,0,0,0,0,0,0,0,0,0,0,0,0,0,0,0,0,0,0,0]
[466,1,"2015-12-26",91,104,102,92,0,96,0,0,102,null,0,102,98,109,109,0,0,null,96,0,null,0,118,0,0,0,0,null,0,0,0,0,0,0,0,0,0,0,0,0,0,0,0,0,0,0,0,0,0,0]
[465,0,"2015-12-19",91,0,97,94,0,99,0,0,0,null,0,0,110,106,96,125,92,null,101,98,null,0,115,0,0,0,0,null,0,0,0,0,0,0,0,0,0,0,0,0,0,0,0,0,0,0,0,0,0,0]
[464,1,"2015-12-12",0,107,106,0,0,0,0,0,105,null,0,0,0,0,105,121,109,null,0,89,null,0,119,0,0,0,0,null,0,0,0,0,0,0,0,0,0,0,0,0,0,0,0,0,0,0,0,0,0,0]
[463,0,"2015-12-05",91,0,101,0,0,90,0,0,0,null,0,0,95,0,104,0,0,null,96,90,null,0,0,0,0,0,0,null,0,0,0,0,0,0,0,0,0,0,0,0,0,0,0,0,0,0,0,0,0,0]
[462,0,"2015-11-28",88,110,105,101,0,96,0,0,93,null,0,0,0,0,95,0,0,null,0,0,null,0,0,0,0,0,0,null,0,0,0,0,0,0,0,0,0,0,0,0,0,0,0,0,0,0,0,0,0,0]
[461,1,"2015-11-21",78,0,0,101,0,0,0,0,0,null,0,88,0,101,0,0,0,null,93,94,null,0,125,0,0,0,0,null,0,0,0,0,0,0,0,0,0,0,0,0,0,0,0,0,0,0,0,0,0,0]
[460,0,"2015-11-07",86,0,92,0,0,0,0,0,0,null,0,0,97,0,0,0,0,null,0,86,null,0,0,0,0,0,0,null,0,0,0,0,0,0,0,0,0,0,0,0,0,0,0,0,0,0,0,0,0,0]
[459,1,"2015-10-31",79,107,94,0,0,0,0,0,0,null,0,88,0,88,106,121,97,null,94,0,null,0,126,0,0,0,0,null,0,0,0,0,0,0,0,0,0,0,0,0,0,0,0,0,0,0,0,0,0,0]
[458,0,"2015-10-24",84,0,102,94,0,102,0,0,96,null,0,0,99,103,100,108,92,null,99,0,null,0,0,0,0,0,0,null,0,0,0,0,0,0,0,0,0,0,0,0,0,0,0,0,0,0,0,0,0,0]
[457,0,"2015-10-10",78,124,0,0,0,95,0,0,0,null,0,0,94,0,104,0,0,null,98,87,null,0,118,0,0,0,0,null,0,0,0,0,0,0,0,0,0,0,0,0,0,0,0,0,0,0,0,0,0,0]
[456,1,"2015-10-03",81,0,87,0,0,89,0,0,0,null,0,0,98,0,91,0,0,null,97,89,null,0,105,0,0,0,0,null,0,0,0,0,0,0,0,0,0,0,0,0,0,0,0,0,0,0,0,0,0,0]
[455,1,"2015-09-26",87,112,0,89,0,0,0,0,0,null,0,0,0,102,96,0,0,null,98,0,null,0,0,0,0,0,0,null,0,0,0,0,0,0,0,0,0,0,0,0,0,0,0,0,0,0,0,0,0,0]
[454,0,"2015-09-17",82,0,109,0,0,100,0,0,0,null,0,0,92,0,93,0,0,null,100,89,null,0,0,0,0,0,0,null,0,0,0,0,0,0,0,0,0,0,0,0,0,0,0,0,0,0,0,0,0,0]
[453,1,"2015-09-12",82,0,106,98,0,95,0,0,101,null,0,0,90,97,96,110,90,null,98,0,null,0,0,0,0,0,0,null,0,0,0,0,0,0,0,0,0,0,0,0,0,0,0,0,0,0,0,0,0,0]
[452,0,"2015-09-05",87,102,96,0,0,97,0,0,0,null,0,0,0,0,97,0,0,null,94,96,null,0,0,0,0,0,0,null,0,0,0,0,0,0,0,0,0,0,0,0,0,0,0,0,0,0,0,0,0,0]
[451,0,"2015-08-29",74,0,0,94,0,94,0,0,88,null,0,0,93,92,97,102,89,null,98,102,null,0,0,0,0,0,0,null,0,0,0,0,0,0,0,0,0,0,0,0,0,0,0,0,0,0,0,0,0,0]
[450,1,"2015-08-22",85,99,110,0,0,0,0,0,0,null,0,0,0,0,0,0,0,null,94,0,null,0,0,0,0,0,0,null,0,0,0,0,0,0,0,0,0,0,0,0,0,0,0,0,0,0,0,0,0,0]
[449,1,"2015-08-15",84,0,97,86,0,91,0,0,88,null,0,0,98,0,96,0,0,null,91,0,null,0,0,0,0,0,0,null,0,0,0,0,0,0,0,0,0,0,0,0,0,0,0,0,0,0,0,0,0,0]
[448,0,"2015-08-08",78,94,96,0,0,97,0,0,0,null,0,0,87,95,0,0,0,null,91,0,null,0,0,0,0,0,0,null,0,0,0,0,0,0,0,0,0,0,0,0,0,0,0,0,0,0,0,0,0,0]
[447,0,"2015-08-01",82,0,0,0,0,0,0,0,0,null,0,0,97,0,96,110,94,null,0,96,null,0,0,0,0,0,0,null,0,0,0,0,0,0,0,0,0,0,0,0,0,0,0,0,0,0,0,0,0,0]
[446,0,"2015-07-25",83,103,105,0,0,99,0,0,0,null,0,0,99,0,0,0,0,null,97,0,null,0,0,0,0,0,0,null,0,0,0,0,0,0,0,0,0,0,0,0,0,0,0,0,0,0,0,0,0,0]
[445,0,"2015-07-18",82,0,0,92,0,100,0,0,97,null,0,0,106,0,0,0,0,null,95,0,null,0,0,0,0,0,0,null,0,0,0,0,0,0,0,0,0,0,0,0,0,0,0,0,0,0,0,0,0,0]
[444,1,"2015-07-11",88,104,0,95,0,96,0,0,95,null,0,0,94,99,110,0,0,null,95,105,null,0,0,0,0,0,0,null,0,0,0,0,0,0,0,0,0,0,0,0,0,0,0,0,0,0,0,0,0,0]
[443,1,"2015-07-04",96,0,98,0,0,0,0,0,0,null,0,0,0,0,99,124,84,null,0,96,null,0,0,0,0,0,0,null,0,0,0,0,0,0,0,0,0,0,0,0,0,0,0,0,0,0,0,0,0,0]
[442,0,"2015-06-27",84,0,99,95,0,97,0,0,0,null,0,0,94,89,101,121,88,null,110,0,null,0,0,0,0,0,0,null,0,0,0,0,0,0,0,0,0,0,0,0,0,0,0,0,0,0,0,0,0,0]
[441,0,"2015-06-20",82,108,98,95,0,0,0,0,91,null,0,0,0,0,102,0,0,null,0,0,null,0,0,0,0,0,0,null,0,0,0,0,0,0,0,0,0,0,0,0,0,0,0,0,0,0,0,0,0,0]
[440,0,"2015-06-13",78,104,100,88,0,109,0,0,0,null,0,87,0,0,92,0,0,null,93,0,null,0,0,0,0,0,0,null,0,0,0,0,0,0,0,0,0,0,0,0,0,0,0,0,0,0,0,0,0,0]
[439,1,"2015-06-06",85,0,98,0,0,0,0,0,0,null,0,0,101,0,93,121,105,null,95,96,null,0,0,0,0,0,0,null,0,0,0,0,0,0,0,0,0,0,0,0,0,0,0,0,0,0,0,0,0,0]
[438,0,"2015-05-30",83,96,102,91,0,0,0,0,0,null,0,81,96,0,0,0,0,null,94,0,null,0,0,0,0,0,0,null,0,0,0,0,0,0,0,0,0,0,0,0,0,0,0,0,0,0,0,0,0,0]
[437,1,"2015-05-23",0,105,0,0,0,96,0,0,0,null,0,0,106,102,101,113,95,null,0,98,null,101,0,0,0,0,0,null,0,0,0,0,0,0,0,0,0,0,0,0,0,0,0,0,0,0,0,0,0,0]
[436,1,"2015-05-09",82,0,95,0,0,0,0,0,96,null,0,0,99,0,96,0,0,null,103,0,null,100,0,0,0,0,0,null,0,0,0,0,0,0,0,0,0,0,0,0,0,0,0,0,0,0,0,0,0,0]
[435,0,"2015-05-02",91,95,91,95,0,0,0,0,0,null,0,0,97,0,94,0,0,null,104,91,null,0,0,0,0,0,0,null,0,0,0,0,0,0,0,0,0,0,0,0,0,0,0,0,0,0,0,0,0,0]
[434,1,"2015-04-25",91,100,96,0,0,87,0,0,0,null,0,91,102,0,101,0,0,null,93,0,null,0,0,0,0,0,0,null,0,0,0,0,0,0,0,0,0,0,0,0,0,0,0,0,0,0,0,0,0,0]
[433,1,"2015-04-18",83,0,99,107,0,0,0,0,0,null,0,0,108,0,92,109,94,null,95,95,null,0,0,0,0,0,0,null,0,0,0,0,0,0,0,0,0,0,0,0,0,0,0,0,0,0,0,0,0,0]
[431,0,"2015-04-04",88,0,0,0,0,0,0,0,0,null,0,0,0,0,0,120,95,null,102,0,null,0,0,0,0,0,0,null,0,0,0,0,0,0,0,0,0,0,0,0,0,0,0,0,0,0,0,0,0,0]
[430,1,"2015-03-28",83,0,98,0,0,93,0,0,102,null,0,0,96,0,0,114,89,null,94,110,null,0,0,0,0,0,0,null,0,0,0,0,0,0,0,0,0,0,0,0,0,0,0,0,0,0,0,0,0,0]
[429,1,"2015-03-14",86,103,112,0,0,0,0,0,0,null,0,96,103,0,0,0,0,null,101,0,null,113,0,0,0,0,0,null,0,0,0,0,0,0,0,0,0,0,0,0,0,0,0,0,0,0,0,0,0,0]
[428,1,"2015-03-07",84,0,100,0,0,102,0,0,0,null,0,0,0,0,103,0,0,null,99,0,null,0,0,0,0,0,0,null,0,0,0,0,0,0,0,0,0,0,0,0,0,0,0,0,0,0,0,0,0,0]
[427,1,"2015-02-28",89,110,108,0,0,0,0,0,0,null,0,0,100,0,97,121,94,null,101,0,null,0,0,0,0,0,0,null,0,0,0,0,0,0,0,0,0,0,0,0,0,0,0,0,0,0,0,0,0,0]
[426,1,"2015-02-21",98,0,92,0,0,0,0,0,0,null,0,0,0,0,87,0,0,null,101,0,null,103,0,0,0,0,0,null,0,0,0,0,0,0,0,0,0,0,0,0,0,0,0,0,0,0,0,0,0,0]
[425,0,"2015-02-14",85,103,97,0,0,0,0,0,0,null,0,0,109,0,98,114,99,null,94,0,null,101,0,0,0,0,0,null,0,0,0,0,0,0,0,0,0,0,0,0,0,0,0,0,0,0,0,0,0,0]
[424,0,"2015-02-07",0,0,103,0,0,0,0,0,0,null,0,0,104,0,99,0,0,null,90,0,null,0,0,0,0,0,0,null,0,0,0,0,0,0,0,0,0,0,0,0,0,0,0,0,0,0,0,0,0,0]
[423,0,"2015-01-31",82,106,101,0,0,0,0,0,0,null,0,89,104,0,95,119,95,null,96,0,null,97,0,0,0,0,0,null,0,0,0,0,0,0,0,0,0,0,0,0,0,0,0,0,0,0,0,0,0,0]
[422,1,"2015-01-24",78,0,100,0,0,0,0,0,0,null,0,0,0,0,104,0,0,null,0,0,null,0,0,0,0,0,0,null,0,0,0,0,0,0,0,0,0,0,0,0,0,0,0,0,0,0,0,0,0,0]
[421,0,"2015-01-17",80,0,106,0,0,0,0,0,0,null,0,0,108,0,97,115,96,null,0,94,null,0,0,0,0,0,0,null,0,0,0,0,0,0,0,0,0,0,0,0,0,0,0,0,0,0,0,0,0,0]
[420,1,"2015-01-10",79,0,105,93,0,0,0,0,93,null,0,0,95,0,97,0,0,null,98,0,null,102,0,0,0,0,0,null,0,0,0,0,0,0,0,0,0,0,0,0,0,0,0,0,0,0,0,0,0,0]
[419,1,"2014-12-27",89,0,96,103,0,99,0,0,0,null,0,0,0,0,98,0,0,null,109,96,null,0,0,0,0,0,0,null,0,0,0,0,0,0,0,0,0,0,0,0,0,0,0,0,0,0,0,0,0,0]
[418,0,"2014-12-20",84,109,97,89,109,98,0,0,93,null,0,98,98,0,101,125,92,null,105,0,null,94,0,0,0,0,0,null,0,0,0,0,0,0,0,0,0,0,0,0,0,0,0,0,0,0,0,0,0,0]
[417,0,"2014-12-13",83,118,100,0,0,108,0,0,107,null,0,0,0,0,0,0,0,null,0,92,null,0,0,0,0,0,0,null,0,0,0,0,0,0,0,0,0,0,0,0,0,0,0,0,0,0,0,0,0,0]
[416,1,"2014-12-06",0,102,94,0,0,0,0,0,0,null,0,101,95,0,96,0,0,null,96,93,null,99,0,0,0,0,0,null,0,0,0,0,0,0,0,0,0,0,0,0,0,0,0,0,0,0,0,0,0,0]
[415,1,"2014-11-29",0,0,0,112,0,0,0,0,0,null,0,0,103,0,0,0,0,null,109,0,null,0,0,0,0,0,0,null,0,0,0,0,0,0,0,0,0,0,0,0,0,0,0,0,0,0,0,0,0,0]
[414,0,"2014-11-22",83,104,0,93,0,102,0,0,0,null,0,94,0,0,0,0,89,null,95,0,null,101,0,0,0,0,0,null,0,0,0,0,0,0,0,0,0,0,0,0,0,0,0,0,0,0,0,0,0,0]
[413,1,"2014-11-15",82,100,98,0,0,99,0,0,95,null,0,88,0,0,100,0,0,null,94,95,null,95,0,0,0,0,0,null,0,0,0,0,0,0,0,0,0,0,0,0,0,0,0,0,0,0,0,0,0,0]
[412,0,"2014-11-08",79,0,100,0,0,0,0,0,90,null,0,0,0,0,0,0,0,null,105,0,null,0,0,0,0,0,0,null,0,0,0,0,0,0,0,0,0,0,0,0,0,0,0,0,0,0,0,0,0,0]
[411,1,"2014-11-01",82,0,99,0,0,95,0,0,0,null,0,88,92,0,95,0,0,null,0,93,null,0,0,0,0,0,0,null,0,0,0,0,0,0,0,0,0,0,0,0,0,0,0,0,0,0,0,0,0,0]
[410,0,"2014-10-25",81,105,0,0,0,0,0,0,0,null,0,88,109,0,89,0,0,null,93,0,null,0,0,0,0,0,0,null,0,0,0,0,0,0,0,0,0,0,0,0,0,0,0,0,0,0,0,0,0,0]
[409,1,"2014-10-18",0,0,105,0,0,90,0,0,101,null,0,0,0,0,100,0,0,null,0,0,null,0,0,0,0,0,0,null,0,0,0,0,0,0,0,0,0,0,0,0,0,0,0,0,0,0,0,0,0,0]
[408,0,"2014-10-11",85,104,102,103,0,98,0,0,0,null,0,93,100,0,0,0,0,null,105,89,null,98,0,0,0,0,0,null,0,0,0,0,0,0,0,0,0,0,0,0,0,0,0,0,0,0,0,0,0,0]
[407,0,"2014-10-04",84,101,96,0,0,0,0,0,89,null,0,0,0,0,97,0,0,null,0,92,null,99,0,0,0,0,0,null,0,0,0,0,0,0,0,0,0,0,0,0,0,0,0,0,0,0,0,0,0,0]
[406,1,"2014-09-27",82,100,0,0,0,0,0,0,0,null,0,96,0,0,91,0,0,null,0,0,null,97,0,0,0,0,0,null,0,0,0,0,0,0,0,0,0,0,0,0,0,0,0,0,0,0,0,0,0,0]
[405,1,"2014-09-20",85,0,98,0,0,98,0,0,0,null,0,89,0,0,99,0,0,null,0,0,null,106,0,0,0,0,0,null,0,0,0,0,0,0,0,0,0,0,0,0,0,0,0,0,0,0,0,0,0,0]
[404,1,"2014-09-13",75,92,97,98,0,90,0,0,0,null,0,87,104,0,88,0,0,null,85,85,null,97,0,0,0,0,0,null,0,0,0,0,0,0,0,0,0,0,0,0,0,0,0,0,0,0,0,0,0,0]
[403,1,"2014-09-06",89,0,0,0,0,93,0,0,97,null,0,94,0,0,97,0,0,null,91,99,null,108,0,0,0,0,0,null,0,0,0,0,0,0,0,0,0,0,0,0,0,0,0,0,0,0,0,0,0,0]
[402,1,"2014-08-30",77,109,100,98,0,88,0,0,0,null,0,0,85,0,87,0,0,null,0,98,null,0,0,0,0,0,0,null,0,0,0,0,0,0,0,0,0,0,0,0,0,0,0,0,0,0,0,0,0,0]
[401,1,"2014-08-23",86,0,89,0,0,0,0,0,85,null,0,89,0,0,89,0,0,null,89,0,null,89,0,0,0,0,0,null,0,0,0,0,0,0,0,0,0,0,0,0,0,0,0,0,0,0,0,0,0,0]
[400,1,"2014-08-16",79,113,97,0,0,94,0,0,0,null,0,89,88,0,85,0,0,null,95,0,null,0,0,0,0,0,0,null,0,0,0,0,0,0,0,0,0,0,0,0,0,0,0,0,0,0,0,0,0,0]
[399,1,"2014-08-09",77,104,93,88,0,0,0,0,0,null,0,0,87,0,89,0,0,null,0,0,null,0,0,0,0,0,0,null,0,0,0,0,0,0,0,0,0,0,0,0,0,0,0,0,0,0,0,0,0,0]
[398,1,"2014-08-02",84,0,98,0,0,0,0,0,93,null,0,0,95,0,87,0,0,null,95,95,null,98,0,0,0,0,0,null,0,0,0,0,0,0,0,0,0,0,0,0,0,0,0,0,0,0,0,0,0,0]
[397,1,"2014-07-26",0,108,97,0,0,90,0,0,0,null,0,88,88,0,105,0,0,null,0,89,null,0,0,0,0,0,0,null,0,0,0,0,0,0,0,0,0,0,0,0,0,0,0,0,0,0,0,0,0,0]
[396,1,"2014-07-19",83,0,97,93,0,100,0,0,89,null,0,0,88,0,0,0,0,null,96,0,null,0,0,0,0,0,0,null,0,0,0,0,0,0,0,0,0,0,0,0,0,0,0,0,0,0,0,0,0,0]
[395,1,"2014-07-12",87,0,99,93,0,0,0,0,0,null,0,98,0,0,92,0,0,null,93,0,null,0,0,0,0,0,0,null,0,0,0,0,0,0,0,0,0,0,0,0,0,0,0,0,0,0,0,0,0,0]
[394,1,"2014-07-05",88,0,92,91,0,0,0,0,0,null,0,0,93,0,0,0,0,null,96,103,null,0,0,0,0,0,0,null,0,0,0,0,0,0,0,0,0,0,0,0,0,0,0,0,0,0,0,0,0,0]
[393,1,"2014-06-28",0,0,97,0,0,0,0,0,0,null,0,0,0,0,104,0,0,null,0,0,null,0,0,0,0,0,0,null,0,0,0,0,0,0,0,0,0,0,0,0,0,0,0,0,0,0,0,0,0,0]
[392,1,"2014-06-21",81,97,100,84,96,0,0,0,89,null,0,94,94,0,94,0,0,null,86,0,null,95,0,0,0,0,0,null,0,0,0,0,0,0,0,0,0,0,0,0,0,0,0,0,0,0,0,0,0,0]
[391,1,"2014-06-14",0,99,103,0,0,89,0,0,92,null,0,89,0,0,0,0,0,null,95,92,null,97,0,0,0,0,0,null,0,0,0,0,0,0,0,0,0,0,0,0,0,0,0,0,0,0,0,0,0,0]
[390,1,"2014-05-31",85,106,101,94,0,96,0,0,0,null,0,94,98,0,94,0,0,null,0,93,null,98,0,0,0,0,0,null,0,0,0,0,0,0,0,0,0,0,0,0,0,0,0,0,0,0,0,0,0,0]
[389,1,"2014-05-24",83,106,0,0,0,0,0,0,0,null,0,0,95,0,0,0,0,null,103,0,null,96,0,0,0,0,0,null,0,0,0,0,0,0,0,0,0,0,0,0,0,0,0,0,0,0,0,0,0,0]
[388,1,"2014-05-17",81,0,93,91,0,0,0,0,92,null,0,91,90,0,95,0,0,null,107,93,null,0,0,0,0,0,0,null,0,0,0,0,0,0,0,0,0,0,0,0,0,0,0,0,0,0,0,0,0,0]
[387,1,"2014-05-10",83,105,92,0,0,93,0,0,98,null,0,0,96,0,90,0,90,null,0,93,null,104,0,0,0,0,0,null,0,0,0,0,0,0,0,0,0,0,0,0,0,0,0,0,0,0,0,0,0,0]
[386,1,"2014-04-26",89,0,101,89,0,99,0,0,86,null,0,99,97,0,0,0,0,null,95,0,null,0,0,0,0,0,0,null,0,0,0,0,0,0,0,0,0,0,0,0,0,0,0,0,0,0,0,0,0,0]
[385,1,"2014-04-19",77,116,88,0,0,0,0,0,0,null,0,0,97,0,97,120,99,null,97,100,null,92,0,0,0,0,0,null,0,0,0,0,0,0,0,0,0,0,0,0,0,0,0,0,0,0,0,0,0,0]
[384,1,"2014-04-12",0,0,92,85,0,0,0,0,89,null,0,0,95,96,0,0,0,null,95,95,null,0,0,0,0,0,0,null,0,0,0,0,0,0,0,0,0,0,0,0,0,0,0,0,0,0,0,0,0,0]
[383,1,"2014-04-05",86,108,89,0,0,98,0,0,95,null,0,99,0,0,101,109,0,null,95,0,null,115,0,0,0,0,0,null,0,0,0,0,0,0,0,0,0,0,0,0,0,0,0,0,0,0,0,0,0,0]
[382,1,"2014-03-29",89,96,102,0,0,102,0,0,92,null,0,97,0,0,94,114,113,null,107,0,null,109,0,0,0,0,0,null,0,0,0,0,0,0,0,0,0,0,0,0,0,0,0,0,0,0,0,0,0,0]
[381,1,"2014-03-22",86,108,96,94,0,100,0,0,0,null,0,0,93,94,104,0,0,null,96,99,null,108,0,0,0,0,0,null,0,0,0,0,0,0,0,0,0,0,0,0,0,0,0,0,0,0,0,0,0,0]
[380,1,"2014-03-15",91,0,104,96,0,105,0,0,99,null,0,93,94,0,102,0,0,null,97,0,null,103,0,0,0,0,0,null,0,0,0,0,0,0,0,0,0,0,0,0,0,0,0,0,0,0,0,0,0,0]
[379,1,"2014-03-08",0,0,99,0,0,100,0,0,0,null,0,94,98,0,94,120,91,null,98,94,null,0,0,0,0,0,0,null,0,0,0,0,0,0,0,0,0,0,0,0,0,0,0,0,0,0,0,0,0,0]
[378,1,"2014-03-01",92,0,98,0,0,0,0,0,0,null,0,92,0,0,93,126,94,null,100,0,null,0,0,0,0,0,0,null,0,0,0,0,0,0,0,0,0,0,0,0,0,0,0,0,0,0,0,0,0,0]
[377,1,"2014-02-01",86,99,100,0,0,0,0,0,0,null,0,0,95,0,94,0,0,null,89,95,null,101,0,0,0,0,0,null,0,0,0,0,0,0,0,0,0,0,0,0,0,0,0,0,0,0,0,0,0,0]
[376,1,"2014-01-25",83,0,100,0,0,0,0,0,0,null,0,0,95,0,0,0,0,null,106,0,null,0,0,0,0,0,0,null,0,0,0,0,0,0,0,0,0,0,0,0,0,0,0,0,0,0,0,0,0,0]
[375,1,"2014-01-18",88,0,103,0,0,0,0,0,105,null,0,0,0,0,103,112,95,null,95,100,null,0,0,0,0,0,0,null,0,0,0,0,0,0,0,0,0,0,0,0,0,0,0,0,0,0,0,0,0,0]
[374,1,"2014-01-11",87,102,105,0,0,97,0,0,91,null,0,0,99,0,99,113,90,null,92,0,null,0,0,0,0,0,0,null,0,0,0,0,0,0,0,0,0,0,0,0,0,0,0,0,0,0,0,0,0,0]
[373,1,"2014-01-04",0,105,100,94,0,0,0,0,0,null,0,0,87,0,100,0,0,null,100,0,null,0,0,0,0,0,0,null,0,0,0,0,0,0,0,0,0,0,0,0,0,0,0,0,0,0,0,0,0,0]
[372,0,"2013-12-28",88,0,104,0,0,0,0,0,0,null,0,0,0,0,98,0,0,null,106,88,null,0,0,0,0,0,0,null,0,0,0,0,0,0,0,0,0,0,0,0,0,0,0,0,0,0,0,0,0,0]
[371,1,"2013-12-21",83,102,109,92,112,99,0,0,90,null,0,101,103,0,101,115,96,null,89,0,null,97,0,0,0,0,0,null,0,0,0,0,0,0,0,0,0,0,0,0,0,0,0,0,0,0,0,0,0,0]
[370,0,"2013-12-14",0,117,0,102,0,101,0,0,91,null,0,0,105,0,108,117,93,null,0,0,null,0,0,0,0,0,0,null,0,0,0,0,0,0,0,0,0,0,0,0,0,0,0,0,0,0,0,0,0,0]
[369,1,"2013-12-07",0,0,110,0,0,0,0,0,0,null,0,103,101,0,100,0,0,null,102,104,null,0,0,0,0,0,0,null,0,0,0,0,0,0,0,0,0,0,0,0,0,0,0,0,0,0,0,0,0,0]
[368,1,"2013-11-30",0,105,0,87,0,0,0,0,93,null,0,0,0,0,105,0,0,null,100,96,null,99,0,0,0,0,0,null,0,0,0,0,0,0,0,0,0,0,0,0,0,0,0,0,0,0,0,0,0,0]
[367,1,"2013-11-16",80,0,0,90,0,0,0,0,102,null,0,99,96,94,98,108,89,null,102,0,null,0,0,0,0,0,0,null,0,0,0,0,0,0,0,0,0,0,0,0,0,0,0,0,0,0,0,0,0,0]
[366,0,"2013-11-09",81,108,95,0,0,102,0,0,0,null,0,96,87,0,0,0,0,null,106,94,null,96,0,0,0,0,0,null,0,0,0,0,0,0,0,0,0,0,0,0,0,0,0,0,0,0,0,0,0,0]
[365,0,"2013-11-02",84,102,95,0,0,98,0,0,0,null,0,92,88,99,93,0,0,null,111,92,null,100,0,0,0,0,0,null,0,0,0,0,0,0,0,0,0,0,0,0,0,0,0,0,0,0,0,0,0,0]
[364,1,"2013-10-19",84,0,101,89,0,0,0,0,0,null,0,0,101,0,0,0,0,null,0,88,null,93,0,0,0,0,0,null,0,0,0,0,0,0,0,0,0,0,0,0,0,0,0,0,0,0,0,0,0,0]
[363,1,"2013-10-12",89,98,101,88,0,86,0,0,95,null,0,81,92,0,96,0,94,null,0,91,null,104,0,0,0,0,0,null,0,0,0,0,0,0,0,0,0,0,0,0,0,0,0,0,0,0,0,0,0,0]
[362,1,"2013-10-05",82,0,100,0,0,0,0,0,0,null,0,0,0,86,101,0,90,null,110,89,null,0,0,0,0,0,0,null,0,0,0,0,0,0,0,0,0,0,0,0,0,0,0,0,0,0,0,0,0,0]
[361,0,"2013-09-28",78,97,0,0,0,90,0,0,0,null,0,91,0,94,98,0,0,null,106,0,null,97,0,0,0,0,0,null,0,0,0,0,0,0,0,0,0,0,0,0,0,0,0,0,0,0,0,0,0,0]
[360,0,"2013-09-21",85,0,0,83,0,103,0,0,0,null,0,105,91,0,95,0,0,null,100,0,null,105,0,0,0,0,0,null,0,0,0,0,0,0,0,0,0,0,0,0,0,0,0,0,0,0,0,0,0,0]
[359,0,"2013-09-14",80,91,0,0,0,0,0,0,86,null,0,93,0,0,100,0,83,null,107,0,null,96,0,0,0,0,0,null,0,0,0,0,0,0,0,0,0,0,0,0,0,0,0,0,0,0,0,0,0,0]
[358,0,"2013-09-07",84,0,0,85,0,0,0,0,86,null,0,93,94,94,87,0,82,null,113,93,null,102,0,0,0,0,0,null,0,0,0,0,0,0,0,0,0,0,0,0,0,0,0,0,0,0,0,0,0,0]
[357,0,"2013-08-31",79,101,0,0,0,87,0,0,92,null,0,0,81,0,95,0,93,null,104,0,null,103,0,0,0,0,0,null,0,0,0,0,0,0,0,0,0,0,0,0,0,0,0,0,0,0,0,0,0,0]
[356,0,"2013-08-24",88,0,0,97,0,0,0,0,95,null,0,0,85,89,94,0,0,null,92,0,null,0,0,0,0,0,0,null,0,0,0,0,0,0,0,0,0,0,0,0,0,0,0,0,0,0,0,0,0,0]
[355,0,"2013-08-17",75,0,104,91,0,0,0,0,90,null,0,0,85,0,0,0,97,null,97,82,null,0,0,0,0,0,0,null,0,0,0,0,0,0,0,0,0,0,0,0,0,0,0,0,0,0,0,0,0,0]
[354,0,"2013-08-10",84,105,0,0,0,95,0,0,0,null,0,0,0,99,97,0,0,null,99,0,null,0,0,0,0,0,0,null,0,0,0,0,0,0,0,0,0,0,0,0,0,0,0,0,0,0,0,0,0,0]
[353,0,"2013-08-03",81,0,101,0,0,0,0,0,0,null,0,0,0,0,94,0,87,null,97,88,null,98,0,0,0,0,0,null,0,0,0,0,0,0,0,0,0,0,0,0,0,0,0,0,0,0,0,0,0,0]
[352,0,"2013-07-27",73,96,0,92,0,0,0,0,95,null,0,92,93,86,90,0,0,null,0,0,null,91,0,0,0,0,0,null,0,0,0,0,0,0,0,0,0,0,0,0,0,0,0,0,0,0,0,0,0,0]
[351,0,"2013-07-20",81,0,103,91,0,96,0,0,83,null,0,86,0,0,93,0,0,null,98,94,null,0,0,0,0,0,0,null,0,0,0,0,0,0,0,0,0,0,0,0,0,0,0,0,0,0,0,0,0,0]
[350,0,"2013-07-13",76,98,98,0,0,0,0,0,90,null,0,0,85,91,97,0,0,null,89,0,null,0,0,0,0,0,0,null,0,0,0,0,0,0,0,0,0,0,0,0,0,0,0,0,0,0,0,0,0,0]
[349,0,"2013-07-06",90,0,0,0,0,0,0,0,0,null,0,0,0,0,101,0,0,null,105,94,null,104,0,0,0,0,0,null,0,0,0,0,0,0,0,0,0,0,0,0,0,0,0,0,0,0,0,0,0,0]
[348,0,"2013-06-29",86,96,92,93,109,96,0,0,84,null,0,92,90,97,95,0,82,null,94,90,null,92,0,0,0,0,0,null,0,0,0,0,0,0,0,0,0,0,0,0,0,0,0,0,0,0,0,0,0,0]
[347,0,"2013-06-22",81,103,96,0,0,98,0,0,88,null,0,0,99,0,97,0,0,null,98,0,null,0,0,0,0,0,0,null,0,0,0,0,0,0,0,0,0,0,0,0,0,0,0,0,0,0,0,0,0,0]
[346,0,"2013-06-15",83,99,0,89,0,0,0,0,0,null,0,94,92,0,103,0,85,null,0,96,null,0,0,0,0,0,0,null,0,0,0,0,0,0,0,0,0,0,0,0,0,0,0,0,0,0,0,0,0,0]
[345,0,"2013-06-08",80,0,93,0,0,0,0,0,0,null,0,84,99,100,0,0,91,null,100,86,null,0,0,0,0,0,0,null,0,0,0,0,0,0,0,0,0,0,0,0,0,0,0,0,0,0,0,0,0,0]
[344,0,"2013-06-01",83,0,97,0,0,92,0,0,86,null,0,93,93,0,104,0,90,null,104,92,null,101,0,0,0,0,0,null,0,0,0,0,0,0,0,0,0,0,0,0,0,0,0,0,0,0,0,0,0,0]
[343,0,"2013-05-25",77,108,0,87,0,0,0,0,0,null,0,93,89,0,102,0,84,null,0,87,null,0,0,0,0,0,0,null,0,0,0,0,0,0,0,0,0,0,0,0,0,0,0,0,0,0,0,0,0,0]
[342,0,"2013-05-18",82,107,98,0,0,0,0,0,82,null,0,96,91,0,0,0,91,null,0,91,null,0,0,0,0,0,0,null,0,0,0,0,0,0,0,0,0,0,0,0,0,0,0,0,0,0,0,0,0,0]
[341,0,"2013-04-27",78,0,0,0,0,0,0,0,91,null,0,0,101,0,0,0,0,null,0,0,null,95,0,0,0,0,0,null,0,0,0,0,0,0,0,0,0,0,0,0,0,0,0,0,0,0,0,0,0,0]
[340,0,"2013-04-20",81,0,0,94,0,91,0,0,89,null,0,0,93,0,99,0,0,null,108,91,null,95,0,0,0,0,0,null,0,0,0,0,0,0,0,0,0,0,0,0,0,0,0,0,0,0,0,0,0,0]
[339,0,"2013-04-13",90,103,0,98,0,0,0,0,0,null,0,93,93,0,110,0,87,null,112,0,null,0,0,0,0,0,0,null,0,0,0,0,0,0,0,0,0,0,0,0,0,0,0,0,0,0,0,0,0,0]
[338,0,"2013-04-06",81,0,104,0,0,0,0,0,0,null,0,0,97,0,0,0,0,null,0,86,null,0,0,0,0,0,0,null,0,0,0,0,0,0,0,0,0,0,0,0,0,0,0,0,0,0,0,0,0,0]
[337,0,"2013-03-30",93,99,0,100,0,96,0,0,0,null,0,0,0,0,101,0,83,null,109,91,null,104,0,0,0,0,0,null,0,0,0,0,0,0,0,0,0,0,0,0,0,0,0,0,0,0,0,0,0,0]
[336,0,"2013-03-23",78,103,98,88,0,0,0,0,0,null,0,93,0,96,96,0,91,null,98,89,null,0,0,0,0,0,0,null,0,0,0,0,0,0,0,0,0,0,0,0,0,0,0,0,0,0,0,0,0,0]
[335,0,"2013-03-16",83,99,0,0,0,107,0,0,0,null,0,98,93,95,106,0,0,null,92,99,null,101,0,0,0,0,0,null,0,0,0,0,0,0,0,0,0,0,0,0,0,0,0,0,0,0,0,0,0,0]
[334,0,"2013-03-09",87,0,107,0,0,0,0,0,0,null,0,101,0,0,101,0,0,null,98,0,null,107,0,0,0,0,0,null,0,0,0,0,0,0,0,0,0,0,0,0,0,0,0,0,0,0,0,0,0,0]
[333,1,"2013-03-02",92,102,100,0,0,0,0,0,0,null,0,0,0,0,95,0,83,null,103,96,null,104,0,0,0,0,0,null,0,0,0,0,0,0,0,0,0,0,0,0,0,0,0,0,0,0,0,0,0,0]
[332,0,"2013-02-23",0,0,103,0,0,0,0,0,0,null,0,94,94,0,99,0,0,null,100,101,null,0,0,0,0,0,0,null,0,0,0,0,0,0,0,0,0,0,0,0,0,0,0,0,0,0,0,0,0,0]
[331,1,"2013-02-16",85,0,0,0,0,0,0,0,0,null,0,110,100,0,95,0,92,null,101,0,null,0,0,0,0,0,0,null,0,0,0,0,0,0,0,0,0,0,0,0,0,0,0,0,0,0,0,0,0,0]
[330,1,"2013-02-09",84,0,101,0,0,0,0,0,0,null,0,0,94,0,92,0,99,null,91,0,null,98,0,0,0,0,0,null,0,0,0,0,0,0,0,0,0,0,0,0,0,0,0,0,0,0,0,0,0,0]
[329,1,"2013-02-02",87,101,0,0,0,97,0,0,0,null,0,93,90,95,106,0,88,null,109,0,null,105,0,0,0,0,0,null,0,0,0,0,0,0,0,0,0,0,0,0,0,0,0,0,0,0,0,0,0,0]
[328,0,"2013-01-28",98,0,0,0,0,0,0,0,0,null,0,0,0,0,98,0,0,null,99,0,null,105,0,0,0,0,0,null,0,0,0,0,0,0,0,0,0,0,0,0,0,0,0,0,0,0,0,0,0,0]
[327,0,"2013-01-26",0,0,105,0,0,0,0,0,0,null,0,0,0,0,0,0,0,null,0,96,null,0,0,0,0,0,0,null,0,0,0,0,0,0,0,0,0,0,0,0,0,0,0,0,0,0,0,0,0,0]
[326,1,"2013-01-12",86,0,101,0,0,0,0,0,0,null,0,0,90,0,0,0,0,null,0,90,null,0,0,0,0,0,0,null,0,0,0,0,0,0,0,0,0,0,0,0,0,0,0,0,0,0,0,0,0,0]
[325,1,"2013-01-05",85,101,101,0,0,0,0,0,0,null,0,0,92,97,102,0,0,null,105,0,null,0,0,0,0,0,0,null,0,0,0,0,0,0,0,0,0,0,0,0,0,0,0,0,0,0,0,0,0,0]
[324,1,"2012-12-29",97,105,105,93,0,0,0,0,0,null,0,0,0,0,98,0,0,null,104,0,null,0,0,0,0,0,0,null,0,0,0,0,0,0,0,0,0,0,0,0,0,0,0,0,0,0,0,0,0,0]
[323,0,"2012-12-15",85,0,112,0,0,0,0,0,0,null,0,0,90,0,0,0,0,null,0,0,null,0,0,0,0,0,0,null,0,0,0,0,0,0,0,0,0,0,0,0,0,0,0,0,0,0,0,0,0,0]
[322,1,"2012-12-08",0,0,101,100,0,0,0,0,0,null,0,0,102,0,101,0,100,null,111,103,null,0,0,0,0,0,0,null,0,0,0,0,0,0,0,0,0,0,0,0,0,0,0,0,0,0,0,0,0,0]
[321,1,"2012-12-01",0,106,99,0,0,0,0,0,0,null,0,0,0,93,102,0,0,null,0,98,null,97,0,0,0,0,0,null,0,0,0,0,0,0,0,0,0,0,0,0,0,0,0,0,0,0,0,0,0,0]
[320,0,"2012-11-24",94,109,106,106,0,0,0,0,88,null,0,0,0,95,0,0,98,null,111,0,null,0,0,0,0,0,0,null,0,0,0,0,0,0,0,0,0,0,0,0,0,0,0,0,0,0,0,0,0,0]
[319,1,"2012-11-17",0,0,103,0,0,0,0,0,0,null,0,0,88,0,0,0,0,null,0,0,null,111,0,0,0,0,0,null,0,0,0,0,0,0,0,0,0,0,0,0,0,0,0,0,0,0,0,0,0,0]
[318,1,"2012-11-10",80,0,0,0,0,0,0,0,89,null,0,0,98,0,98,0,0,null,99,97,null,102,0,0,0,0,0,null,0,0,0,0,0,0,0,0,0,0,0,0,0,0,0,0,0,0,0,0,0,0]
[317,0,"2012-10-29",81,0,0,0,0,0,0,0,0,null,0,0,0,0,97,0,0,null,103,0,null,0,0,0,0,0,0,null,0,0,0,0,0,0,0,0,0,0,0,0,0,0,0,0,0,0,0,0,0,0]
[316,0,"2012-10-27",0,0,102,0,0,94,0,0,0,null,0,0,99,94,99,0,0,null,0,0,null,0,0,0,0,0,0,null,0,0,0,0,0,0,0,0,0,0,0,0,0,0,0,0,0,0,0,0,0,0]
[315,1,"2012-10-20",83,100,94,85,0,0,0,0,96,null,0,0,97,0,99,0,0,null,95,0,null,100,0,0,0,0,0,null,0,0,0,0,0,0,0,0,0,0,0,0,0,0,0,0,0,0,0,0,0,0]
[314,1,"2012-10-13",79,116,100,0,0,0,0,0,85,null,0,89,87,90,0,0,0,null,104,91,null,108,0,0,0,0,0,null,0,0,0,0,0,0,0,0,0,0,0,0,0,0,0,0,0,0,0,0,0,0]
[313,1,"2012-10-06",86,100,0,0,0,95,0,0,88,null,0,0,92,90,0,0,86,null,100,84,null,98,0,0,0,0,0,null,0,0,0,0,0,0,0,0,0,0,0,0,0,0,0,0,0,0,0,0,0,0]
[312,1,"2012-09-29",81,89,110,0,0,0,0,0,0,null,0,0,88,0,0,0,0,null,0,95,null,94,0,0,0,0,0,null,0,0,0,0,0,0,0,0,0,0,0,0,0,0,0,0,0,0,0,0,0,0]
[311,1,"2012-09-15",77,0,0,0,0,96,0,0,93,null,0,0,83,0,93,0,92,null,98,0,null,101,0,0,0,0,0,null,0,0,0,0,0,0,0,0,0,0,0,0,0,0,0,0,0,0,0,0,0,0]
[310,1,"2012-09-08",80,96,96,0,0,0,0,0,0,null,0,0,94,0,98,0,0,null,0,0,null,0,0,0,0,0,0,null,0,0,0,0,0,0,0,0,0,0,0,0,0,0,0,0,0,0,0,0,0,0]
[309,1,"2012-09-01",78,0,105,0,0,0,0,0,90,null,0,0,87,89,97,0,0,null,100,97,null,98,0,0,0,0,0,null,0,0,0,0,0,0,0,0,0,0,0,0,0,0,0,0,0,0,0,0,0,0]
[308,1,"2012-08-25",77,100,0,0,0,0,0,0,0,null,0,0,104,0,94,0,0,null,93,0,null,95,0,0,0,0,0,null,0,0,0,0,0,0,0,0,0,0,0,0,0,0,0,0,0,0,0,0,0,0]
[307,0,"2012-08-20",81,90,0,0,0,0,0,0,0,null,0,0,0,0,0,0,0,null,90,0,null,0,0,0,0,0,0,null,0,0,0,0,0,0,0,0,0,0,0,0,0,0,0,0,0,0,0,0,0,0]
[306,1,"2012-08-11",80,0,0,0,0,0,0,0,0,null,0,0,0,0,100,0,0,null,95,0,null,0,0,0,0,0,0,null,0,0,0,0,0,0,0,0,0,0,0,0,0,0,0,0,0,0,0,0,0,0]
[305,1,"2012-08-04",76,106,0,0,0,0,0,0,0,null,0,0,88,91,98,0,87,null,96,79,null,0,0,0,0,0,0,null,0,0,0,0,0,0,0,0,0,0,0,0,0,0,0,0,0,0,0,0,0,0]
[304,1,"2012-07-28",83,0,0,0,0,0,0,0,89,null,0,91,91,87,100,0,94,null,0,91,null,0,0,0,0,0,0,null,0,0,0,0,0,0,0,0,0,0,0,0,0,0,0,0,0,0,0,0,0,0]
[303,1,"2012-07-21",0,0,0,97,0,91,0,0,0,null,0,0,0,0,89,0,0,null,97,0,null,0,0,0,0,0,0,null,0,0,0,0,0,0,0,0,0,0,0,0,0,0,0,0,0,0,0,0,0,0]
[302,1,"2012-07-14",84,95,0,0,0,0,0,0,84,null,0,101,0,0,99,0,94,null,95,0,null,99,0,0,0,0,0,null,0,0,0,0,0,0,0,0,0,0,0,0,0,0,0,0,0,0,0,0,0,0]
[301,1,"2012-07-07",84,90,100,0,95,0,0,0,0,null,0,100,90,86,97,0,86,null,100,91,null,0,0,0,0,0,0,null,0,0,0,0,0,0,0,0,0,0,0,0,0,0,0,0,0,0,0,0,0,0]
[300,1,"2012-06-30",83,95,95,0,0,89,0,0,0,null,0,0,91,0,0,0,91,null,91,0,null,104,0,0,0,0,0,null,0,0,0,0,0,0,0,0,0,0,0,0,0,0,0,0,0,0,0,0,0,0]
[299,1,"2012-06-23",82,98,95,0,0,0,0,0,93,null,0,0,92,92,100,0,0,null,99,92,null,0,0,0,0,0,0,null,0,0,0,0,0,0,0,0,0,0,0,0,0,0,0,0,0,0,0,0,0,0]
[298,1,"2012-06-02",83,0,104,87,0,0,0,0,0,null,0,0,88,0,100,0,0,null,0,90,null,102,0,0,0,0,0,null,0,0,0,0,0,0,0,0,0,0,0,0,0,0,0,0,0,0,0,0,0,0]
[297,1,"2012-05-26",83,96,0,95,0,104,0,0,92,null,0,0,94,0,101,0,0,null,94,0,null,0,0,0,0,0,0,null,0,0,0,0,0,0,0,0,0,0,0,0,0,0,0,0,0,0,0,0,0,0]
[296,1,"2012-05-19",91,98,0,88,0,0,0,0,92,null,0,0,102,0,0,0,0,null,97,0,null,0,0,0,0,0,0,null,0,0,0,0,0,0,0,0,0,0,0,0,0,0,0,0,0,0,0,0,0,0]
[295,1,"2012-05-12",79,98,106,0,0,0,0,0,88,null,0,0,93,89,91,0,0,null,101,99,null,110,0,0,0,0,0,null,0,0,0,0,0,0,0,0,0,0,0,0,0,0,0,0,0,0,0,0,0,0]
[294,1,"2012-04-28",77,99,98,94,0,0,0,0,0,null,0,0,102,101,100,0,0,null,96,95,null,98,0,0,0,0,0,null,0,0,0,0,0,0,0,0,0,0,0,0,0,0,0,0,0,0,0,0,0,0]
[293,1,"2012-04-21",79,100,102,0,0,0,0,0,95,null,0,98,88,92,96,0,99,null,87,0,null,105,0,0,0,0,0,null,0,0,0,0,0,0,0,0,0,0,0,0,0,0,0,0,0,0,0,0,0,0]
[292,1,"2012-04-07",89,104,98,0,0,0,0,0,89,null,0,0,88,0,98,0,0,null,0,97,null,0,0,0,0,0,0,null,0,0,0,0,0,0,0,0,0,0,0,0,0,0,0,0,0,0,0,0,0,0]
[291,0,"2012-03-26",83,0,0,95,0,0,0,0,0,null,0,0,0,0,109,0,0,null,0,0,null,106,0,0,0,0,0,null,0,0,0,0,0,0,0,0,0,0,0,0,0,0,0,0,0,0,0,0,0,0]
[290,0,"2012-03-24",0,0,112,0,0,0,0,0,93,null,0,97,101,90,0,0,0,null,93,93,null,0,0,0,0,0,0,null,0,0,0,0,0,0,0,0,0,0,0,0,0,0,0,0,0,0,0,0,0,0]
[289,1,"2012-03-03",0,97,106,0,0,0,0,0,0,null,0,0,0,0,100,0,96,null,93,93,null,0,0,0,0,0,0,null,0,0,0,0,0,0,0,0,0,0,0,0,0,0,0,0,0,0,0,0,0,0]
[288,0,"2012-02-27",0,0,0,0,0,0,0,0,96,null,0,103,0,0,0,0,0,null,100,97,null,0,0,0,0,0,0,null,0,0,0,0,0,0,0,0,0,0,0,0,0,0,0,0,0,0,0,0,0,0]
[287,1,"2012-02-18",90,0,0,0,0,0,0,0,0,null,0,95,0,96,0,0,94,null,98,0,null,0,0,0,0,0,0,null,0,0,0,0,0,0,0,0,0,0,0,0,0,0,0,0,0,0,0,0,0,0]
[286,1,"2012-02-13",87,104,0,0,0,0,0,0,93,null,0,0,0,88,0,0,0,null,0,0,null,0,0,0,0,0,0,null,0,0,0,0,0,0,0,0,0,0,0,0,0,0,0,0,0,0,0,0,0,0]
[285,1,"2012-02-04",82,101,0,0,0,0,0,0,0,null,0,0,98,0,106,0,83,null,93,0,null,0,0,0,0,0,0,null,0,0,0,0,0,0,0,0,0,0,0,0,0,0,0,0,0,0,0,0,0,0]
[284,0,"2012-01-28",0,0,96,0,0,0,0,0,0,null,0,0,92,0,0,0,84,null,0,97,null,0,0,0,0,0,0,null,0,0,0,0,0,0,0,0,0,0,0,0,0,0,0,0,0,0,0,0,0,0]
[283,1,"2012-01-14",85,93,0,0,0,0,0,0,0,null,0,0,95,0,98,0,87,null,98,0,null,0,0,0,0,0,0,null,0,0,0,0,0,0,0,0,0,0,0,0,0,0,0,0,0,0,0,0,0,0]
[282,1,"2012-01-07",85,100,101,101,105,0,0,0,99,null,0,101,94,94,98,0,85,null,90,96,null,100,0,0,0,0,0,null,0,0,0,0,0,0,0,0,0,0,0,0,0,0,0,0,0,0,0,0,0,0]
[281,1,"2011-12-24",92,102,97,96,0,0,0,0,95,null,0,0,0,0,99,0,0,null,98,99,null,98,0,0,0,0,0,null,0,0,0,0,0,0,0,0,0,0,0,0,0,0,0,0,0,0,0,0,0,0]
[280,1,"2011-12-17",83,0,0,93,0,0,0,0,0,null,0,0,102,0,91,0,86,null,0,0,null,0,0,0,0,0,0,null,0,0,0,0,0,0,0,0,0,0,0,0,0,0,0,0,0,0,0,0,0,0]
[279,1,"2011-12-10",89,109,0,0,0,0,0,0,89,null,0,93,0,0,95,0,82,null,97,0,null,108,0,0,0,0,0,null,0,0,0,0,0,0,0,0,0,0,0,0,0,0,0,0,0,0,0,0,0,0]
[278,0,"2011-11-28",0,0,0,0,0,0,0,0,0,null,0,0,0,0,102,0,0,null,0,0,null,96,0,0,0,0,0,null,0,0,0,0,0,0,0,0,0,0,0,0,0,0,0,0,0,0,0,0,0,0]
[277,0,"2011-11-26",0,0,94,0,0,111,0,0,0,null,0,0,97,0,0,0,0,null,0,0,null,0,0,0,0,0,0,null,0,0,0,0,0,0,0,0,0,0,0,0,0,0,0,0,0,0,0,0,0,0]
[276,1,"2011-11-12",81,102,0,0,0,0,0,0,94,null,0,94,93,0,89,0,0,null,0,0,null,95,0,0,0,0,0,null,0,0,0,0,0,0,0,0,0,0,0,0,0,0,0,0,0,0,0,0,0,0]
[275,1,"2011-11-05",82,103,97,92,0,94,0,0,0,null,0,93,90,0,96,0,0,null,0,0,null,112,0,0,0,0,0,null,0,0,0,0,0,0,0,0,0,0,0,0,0,0,0,0,0,0,0,0,0,0]
[274,0,"2011-10-31",92,0,0,0,0,0,0,0,0,null,0,0,0,0,102,0,0,null,96,0,null,0,0,0,0,0,0,null,0,0,0,0,0,0,0,0,0,0,0,0,0,0,0,0,0,0,0,0,0,0]
[273,1,"2011-10-29",0,93,92,0,0,0,0,0,87,null,0,0,88,0,99,0,88,null,0,0,null,0,0,0,0,0,0,null,0,0,0,0,0,0,0,0,0,0,0,0,0,0,0,0,0,0,0,0,0,0]
[272,1,"2011-10-08",84,107,103,0,0,0,0,0,0,null,0,90,92,91,92,0,88,null,94,0,null,0,0,0,0,0,0,null,0,0,0,0,0,0,0,0,0,0,0,0,0,0,0,0,0,0,0,0,0,0]
[271,1,"2011-10-01",80,91,98,0,0,0,0,0,89,null,0,0,87,90,0,0,0,null,87,0,null,0,0,0,0,0,0,null,0,0,0,0,0,0,0,0,0,0,0,0,0,0,0,0,0,0,0,0,0,0]
[270,0,"2011-09-26",86,96,0,0,0,0,0,0,0,null,0,0,0,0,99,0,0,null,101,0,null,0,0,0,0,0,0,null,0,0,0,0,0,0,0,0,0,0,0,0,0,0,0,0,0,0,0,0,0,0]
[269,1,"2011-09-24",82,0,95,0,0,0,0,0,0,null,0,0,99,0,0,0,0,null,0,90,null,0,0,0,0,0,0,null,0,0,0,0,0,0,0,0,0,0,0,0,0,0,0,0,0,0,0,0,0,0]
[268,1,"2011-09-17",87,0,0,0,0,0,0,0,91,null,0,96,0,94,94,0,91,null,91,0,null,0,0,0,0,0,0,null,0,0,0,0,0,0,0,0,0,0,0,0,0,0,0,0,0,0,0,0,0,0]
[267,1,"2011-09-10",87,88,102,0,0,0,0,0,0,null,0,0,0,0,88,0,89,null,93,96,null,0,0,0,0,0,0,null,0,0,0,0,0,0,0,0,0,0,0,0,0,0,0,0,0,0,0,0,0,0]
[266,1,"2011-09-03",0,0,99,0,0,0,0,0,0,null,0,0,105,0,0,0,0,null,103,0,null,0,0,0,0,0,0,null,0,0,0,0,0,0,0,0,0,0,0,0,0,0,0,0,0,0,0,0,0,0]
[265,0,"2011-08-29",79,95,0,85,0,0,0,0,0,null,0,0,0,0,106,0,0,null,0,0,null,0,0,0,0,0,0,null,0,0,0,0,0,0,0,0,0,0,0,0,0,0,0,0,0,0,0,0,0,0]
[264,0,"2011-08-27",0,0,100,0,0,0,0,0,0,null,0,0,87,0,0,0,0,null,0,0,null,0,0,0,0,0,0,null,0,0,0,0,0,0,0,0,0,0,0,0,0,0,0,0,0,0,0,0,0,0]
[263,1,"2011-08-20",0,0,92,0,0,0,0,0,93,null,0,0,89,0,0,0,0,null,0,0,null,0,0,0,0,0,0,null,0,0,0,0,0,0,0,0,0,0,0,0,0,0,0,0,0,0,0,0,0,0]
[262,1,"2011-08-13",0,91,94,91,0,0,0,0,89,null,0,95,90,88,0,0,0,null,0,90,null,0,0,0,0,0,0,null,0,0,0,0,0,0,0,0,0,0,0,0,0,0,0,0,0,0,0,0,0,0]
[261,1,"2011-08-06",84,97,103,88,0,0,0,0,90,null,0,0,0,0,96,0,0,null,96,0,null,0,0,0,0,0,0,null,0,0,0,0,0,0,0,0,0,0,0,0,0,0,0,0,0,0,0,0,0,0]
[260,1,"2011-07-30",80,0,105,0,0,0,0,0,0,null,0,0,79,0,0,0,0,null,0,0,null,96,0,0,0,0,0,null,0,0,0,0,0,0,0,0,0,0,0,0,0,0,0,0,0,0,0,0,0,0]
[259,0,"2011-07-25",83,93,0,0,0,0,0,0,0,null,0,0,0,0,100,0,0,null,0,0,null,0,0,0,0,0,0,null,0,0,0,0,0,0,0,0,0,0,0,0,0,0,0,0,0,0,0,0,0,0]
[258,0,"2011-07-23",0,0,103,0,0,0,0,0,0,null,0,0,100,0,0,0,0,null,96,0,null,105,0,0,0,0,0,null,0,0,0,0,0,0,0,0,0,0,0,0,0,0,0,0,0,0,0,0,0,0]
[257,1,"2011-07-16",78,0,99,96,0,0,0,0,0,null,0,0,93,0,0,0,0,null,93,0,null,0,0,0,0,0,0,null,0,0,0,0,0,0,0,0,0,0,0,0,0,0,0,0,0,0,0,0,0,0]
[256,1,"2011-07-09",84,97,98,0,94,0,0,0,0,null,0,96,85,82,93,0,85,null,88,90,null,102,0,0,0,0,0,null,0,0,0,0,0,0,0,0,0,0,0,0,0,0,0,0,0,0,0,0,0,0]
[255,1,"2011-07-02",0,93,91,0,0,0,0,0,0,null,0,0,81,0,0,0,0,null,83,0,null,0,0,0,0,0,0,null,0,0,0,0,0,0,0,0,0,0,0,0,0,0,0,0,0,0,0,0,0,0]
[254,0,"2011-06-27",0,0,0,0,0,0,0,0,0,null,0,0,0,0,0,0,0,null,96,0,null,96,0,0,0,0,0,null,0,0,0,0,0,0,0,0,0,0,0,0,0,0,0,0,0,0,0,0,0,0]
[253,1,"2011-06-25",85,89,107,0,0,0,0,0,0,null,0,0,96,0,105,0,0,null,0,87,null,0,0,0,0,0,0,null,0,0,0,0,0,0,0,0,0,0,0,0,0,0,0,0,0,0,0,0,0,0]
[252,1,"2011-06-18",83,0,108,0,0,0,0,0,0,null,0,0,92,92,96,0,83,null,0,0,null,94,0,0,0,0,0,null,0,0,0,0,0,0,0,0,0,0,0,0,0,0,0,0,0,0,0,0,0,0]
[251,1,"2011-06-04",92,96,0,0,0,0,0,0,0,null,0,0,92,0,94,0,86,null,92,94,null,0,0,0,0,0,0,null,0,0,0,0,0,0,0,0,0,0,0,0,0,0,0,0,0,0,0,0,0,0]
[250,1,"2011-05-21",88,95,100,0,0,0,0,0,91,null,0,0,94,0,0,0,0,null,90,88,null,0,0,0,0,0,0,null,0,0,0,0,0,0,0,0,0,0,0,0,0,0,0,0,0,0,0,0,0,0]
[249,1,"2011-05-14",78,95,0,0,0,0,0,0,0,null,0,94,93,0,88,0,89,null,97,87,null,0,0,0,0,0,0,null,0,0,0,0,0,0,0,0,0,0,0,0,0,0,0,0,0,0,0,0,0,0]
[248,1,"2011-05-07",85,97,96,88,0,0,0,0,0,null,0,0,100,0,95,0,0,null,0,102,null,0,0,0,0,0,0,null,0,0,0,0,0,0,0,0,0,0,0,0,0,0,0,0,0,0,0,0,0,0]
[247,1,"2011-04-30",81,99,99,0,0,0,0,0,0,null,0,0,0,93,98,0,0,null,99,90,null,0,0,0,0,0,0,null,0,0,0,0,0,0,0,0,0,0,0,0,0,0,0,0,0,0,0,0,0,0]
[246,0,"2011-04-25",82,105,0,0,0,0,0,0,0,null,0,0,0,0,0,0,0,null,0,0,null,0,0,0,0,0,0,null,0,0,0,0,0,0,0,0,0,0,0,0,0,0,0,0,0,0,0,0,0,0]
[245,1,"2011-04-16",87,0,0,86,0,0,0,0,0,null,0,0,104,91,94,0,0,null,94,0,null,0,0,0,0,0,0,null,0,0,0,0,0,0,0,0,0,0,0,0,0,0,0,0,0,0,0,0,0,0]
[244,1,"2011-04-09",0,0,111,0,0,0,0,0,0,null,0,0,103,0,104,0,0,null,0,0,null,0,0,0,0,0,0,null,0,0,0,0,0,0,0,0,0,0,0,0,0,0,0,0,0,0,0,0,0,0]
[243,1,"2011-04-02",81,98,103,87,0,0,0,0,0,null,0,0,102,87,97,0,0,null,91,92,null,0,0,0,0,0,0,null,0,0,0,0,0,0,0,0,0,0,0,0,0,0,0,0,0,0,0,0,0,0]
[242,0,"2011-03-28",0,107,0,0,0,0,0,0,0,null,0,0,0,96,0,0,0,null,0,0,null,0,0,0,0,0,0,null,0,0,0,0,0,0,0,0,0,0,0,0,0,0,0,0,0,0,0,0,0,0]
[241,1,"2011-03-26",93,0,104,0,0,0,0,0,93,null,0,112,102,0,0,0,83,null,96,96,null,0,0,0,0,0,0,null,0,0,0,0,0,0,0,0,0,0,0,0,0,0,0,0,0,0,0,0,0,0]
[240,1,"2011-03-05",0,94,106,84,0,0,0,0,95,null,0,0,0,0,104,0,0,null,97,104,null,0,0,0,0,0,0,null,0,0,0,0,0,0,0,0,0,0,0,0,0,0,0,0,0,0,0,0,0,0]
[239,0,"2011-02-26",0,0,106,91,0,0,0,0,92,null,0,116,93,0,0,0,89,null,0,102,null,102,0,0,0,0,0,null,0,0,0,0,0,0,0,0,0,0,0,0,0,0,0,0,0,0,0,0,0,0]
[238,1,"2011-02-19",81,0,104,0,0,0,0,0,0,null,0,0,103,0,100,0,90,null,94,92,null,100,0,0,0,0,0,null,0,0,0,0,0,0,0,0,0,0,0,0,0,0,0,0,0,0,0,0,0,0]
[237,1,"2011-02-05",85,102,97,0,0,0,0,0,0,null,0,0,95,99,0,0,0,null,92,0,null,104,0,0,0,0,0,null,0,0,0,0,0,0,0,0,0,0,0,0,0,0,0,0,0,0,0,0,0,0]
[236,0,"2011-01-31",0,99,0,0,0,0,0,0,101,null,0,0,0,102,0,0,0,null,0,0,null,0,0,0,0,0,0,null,0,0,0,0,0,0,0,0,0,0,0,0,0,0,0,0,0,0,0,0,0,0]
[235,0,"2011-01-29",87,0,102,0,0,0,0,0,0,null,0,0,97,0,0,0,98,null,0,0,null,0,0,0,0,0,0,null,0,0,0,0,0,0,0,0,0,0,0,0,0,0,0,0,0,0,0,0,0,0]
[234,1,"2011-01-22",84,0,0,0,0,0,0,0,90,null,0,103,0,0,97,0,94,null,85,90,null,101,0,0,0,0,0,null,0,0,0,0,0,0,0,0,0,0,0,0,0,0,0,0,0,0,0,0,0,0]
[233,1,"2011-01-15",92,97,0,0,0,0,0,0,0,null,0,0,0,0,102,0,0,null,97,91,null,97,0,0,0,0,0,null,0,0,0,0,0,0,0,0,0,0,0,0,0,0,0,0,0,0,0,0,0,0]
[232,1,"2011-01-08",90,105,0,0,0,0,0,0,101,null,0,97,105,92,99,0,94,null,93,92,null,0,0,0,0,0,0,null,0,0,0,0,0,0,0,0,0,0,0,0,0,0,0,0,0,0,0,0,0,0]
[231,0,"2010-12-25",86,109,102,97,115,0,0,0,0,null,0,0,109,98,96,0,99,null,99,99,null,98,0,0,0,0,0,null,0,0,0,0,0,0,0,0,0,0,0,0,0,0,0,0,0,0,0,0,0,0]
[230,1,"2010-12-18",92,0,93,0,0,0,0,0,0,null,0,0,100,0,0,0,0,null,0,0,null,0,0,0,0,0,0,null,0,0,0,0,0,0,0,0,0,0,0,0,0,0,0,0,0,0,0,0,0,0]
[229,1,"2010-12-11",0,98,99,0,0,0,0,0,0,null,0,0,93,0,102,0,0,null,0,0,null,110,0,0,0,0,0,null,0,0,0,0,0,0,0,0,0,0,0,0,0,0,0,0,0,0,0,0,0,0]
[228,1,"2010-12-04",0,99,0,95,0,0,0,0,0,null,0,0,90,94,97,0,88,null,0,94,null,93,0,0,0,0,0,null,0,0,0,0,0,0,0,0,0,0,0,0,0,0,0,0,0,0,0,0,0,0]
[227,0,"2010-11-29",0,100,0,0,0,0,0,0,0,null,0,0,0,0,98,0,0,null,0,0,null,0,0,0,0,0,0,null,0,0,0,0,0,0,0,0,0,0,0,0,0,0,0,0,0,0,0,0,0,0]
[226,0,"2010-11-27",0,0,94,0,0,0,0,0,98,null,0,0,99,0,0,0,95,null,0,0,null,94,0,0,0,0,0,null,0,0,0,0,0,0,0,0,0,0,0,0,0,0,0,0,0,0,0,0,0,0]
[225,1,"2010-11-20",87,0,0,99,0,0,0,0,0,null,0,0,0,0,93,0,90,null,99,0,null,97,0,0,0,0,0,null,0,0,0,0,0,0,0,0,0,0,0,0,0,0,0,0,0,0,0,0,0,0]
[224,1,"2010-11-13",82,93,103,0,0,0,0,0,0,null,0,0,0,0,94,0,90,null,0,90,null,0,0,0,0,0,0,null,0,0,0,0,0,0,0,0,0,0,0,0,0,0,0,0,0,0,0,0,0,0]
[223,1,"2010-11-06",79,96,0,103,0,0,0,0,0,null,0,0,100,93,0,0,0,null,88,84,null,96,0,0,0,0,0,null,0,0,0,0,0,0,0,0,0,0,0,0,0,0,0,0,0,0,0,0,0,0]
[222,0,"2010-10-25",85,98,0,0,0,0,0,0,94,null,0,0,0,0,100,0,0,null,90,0,null,0,0,0,0,0,0,null,0,0,0,0,0,0,0,0,0,0,0,0,0,0,0,0,0,0,0,0,0,0]
[221,0,"2010-10-23",0,0,103,0,0,0,0,0,0,null,0,0,0,0,0,0,86,null,0,0,null,0,0,0,0,0,0,null,0,0,0,0,0,0,0,0,0,0,0,0,0,0,0,0,0,0,0,0,0,0]
[220,1,"2010-10-16",84,0,99,92,0,0,0,0,0,null,0,0,0,0,100,0,0,null,88,0,null,94,0,0,0,0,0,null,0,0,0,0,0,0,0,0,0,0,0,0,0,0,0,0,0,0,0,0,0,0]
[219,1,"2010-10-09",0,0,0,90,0,0,0,0,0,null,0,0,93,0,0,0,95,null,0,0,null,0,0,0,0,0,0,null,0,0,0,0,0,0,0,0,0,0,0,0,0,0,0,0,0,0,0,0,0,0]
[218,1,"2010-10-02",88,91,94,0,0,0,0,0,90,null,0,0,88,94,0,0,0,null,99,92,null,98,0,0,0,0,0,null,0,0,0,0,0,0,0,0,0,0,0,0,0,0,0,0,0,0,0,0,0,0]
[217,0,"2010-09-25",0,0,100,102,0,0,0,0,0,null,0,0,0,0,0,0,0,null,0,92,null,0,0,0,0,0,0,null,0,0,0,0,0,0,0,0,0,0,0,0,0,0,0,0,0,0,0,0,0,0]
[216,1,"2010-09-17",79,0,0,0,0,0,0,0,0,null,0,0,80,92,89,0,84,null,96,96,null,0,0,0,0,0,0,null,0,0,0,0,0,0,0,0,0,0,0,0,0,0,0,0,0,0,0,0,0,0]
[215,1,"2010-09-11",75,94,107,0,0,0,0,0,85,null,0,0,84,87,106,0,0,null,0,90,null,96,0,0,0,0,0,null,0,0,0,0,0,0,0,0,0,0,0,0,0,0,0,0,0,0,0,0,0,0]
[214,1,"2010-09-04",83,95,0,83,0,0,0,0,96,null,0,0,0,0,90,0,82,null,91,0,null,0,0,0,0,0,0,null,0,0,0,0,0,0,0,0,0,0,0,0,0,0,0,0,0,0,0,0,0,0]
[213,0,"2010-08-30",85,94,96,0,0,0,0,0,88,null,0,0,0,88,0,0,0,null,90,0,null,0,0,0,0,0,0,null,0,0,0,0,0,0,0,0,0,0,0,0,0,0,0,0,0,0,0,0,0,0]
[212,0,"2010-08-28",0,0,0,0,0,0,0,0,0,null,0,0,95,0,102,0,0,null,0,90,null,0,0,0,0,0,0,null,0,0,0,0,0,0,0,0,0,0,0,0,0,0,0,0,0,0,0,0,0,0]
[211,1,"2010-08-21",79,0,96,85,0,0,0,0,86,null,0,0,83,0,0,0,82,null,91,89,null,0,0,0,0,0,0,null,0,0,0,0,0,0,0,0,0,0,0,0,0,0,0,0,0,0,0,0,0,0]
[210,1,"2010-08-14",86,103,94,0,0,0,0,0,0,null,0,0,94,0,91,0,0,null,0,91,null,0,0,0,0,0,0,null,0,0,0,0,0,0,0,0,0,0,0,0,0,0,0,0,0,0,0,0,0,0]
[209,1,"2010-08-07",80,0,0,84,0,0,0,0,0,null,0,0,89,92,96,0,91,null,92,0,null,0,0,0,0,0,0,null,0,0,0,0,0,0,0,0,0,0,0,0,0,0,0,0,0,0,0,0,0,0]
[208,1,"2010-07-31",78,106,105,88,0,0,0,0,0,null,0,0,93,0,105,0,0,null,0,0,null,0,0,0,0,0,0,null,0,0,0,0,0,0,0,0,0,0,0,0,0,0,0,0,0,0,0,0,0,0]
[207,0,"2010-07-24",82,0,109,0,0,0,0,0,88,null,0,0,0,88,0,0,90,null,0,95,null,0,0,0,0,0,0,null,0,0,0,0,0,0,0,0,0,0,0,0,0,0,0,0,0,0,0,0,0,0]
[206,1,"2010-07-17",73,0,102,0,0,0,0,0,95,null,0,0,0,0,102,0,82,null,97,0,null,0,0,0,0,0,0,null,0,0,0,0,0,0,0,0,0,0,0,0,0,0,0,0,0,0,0,0,0,0]
[205,1,"2010-07-10",88,95,0,85,0,0,0,0,0,null,0,0,90,0,0,0,0,null,95,103,null,0,0,0,0,0,0,null,0,0,0,0,0,0,0,0,0,0,0,0,0,0,0,0,0,0,0,0,0,0]
[204,1,"2010-07-03",79,101,114,88,102,0,0,0,89,null,0,0,91,94,98,0,88,null,95,86,null,0,0,0,0,0,0,null,0,0,0,0,0,0,0,0,0,0,0,0,0,0,0,0,0,0,0,0,0,0]
[203,0,"2010-06-26",84,92,0,0,0,0,0,0,89,null,0,0,94,0,96,0,0,null,88,0,null,0,0,0,0,0,0,null,0,0,0,0,0,0,0,0,0,0,0,0,0,0,0,0,0,0,0,0,0,0]
[202,1,"2010-06-19",81,0,0,100,0,0,0,0,0,null,0,0,92,0,0,0,0,null,91,0,null,0,0,0,0,0,0,null,0,0,0,0,0,0,0,0,0,0,0,0,0,0,0,0,0,0,0,0,0,0]
[201,1,"2010-06-12",0,0,0,0,0,0,0,0,0,null,0,0,0,85,102,0,0,null,102,88,null,101,0,0,0,0,0,null,0,0,0,0,0,0,0,0,0,0,0,0,0,0,0,0,0,0,0,0,0,0]
[200,1,"2010-06-05",0,100,0,0,0,0,0,0,0,null,0,0,91,0,0,0,82,null,89,86,null,93,0,0,0,0,0,null,0,0,0,0,0,0,0,0,0,0,0,0,0,0,0,0,0,0,0,0,0,0]
[199,1,"2010-05-29",84,103,0,90,0,0,0,0,0,null,0,0,87,95,92,0,86,null,101,96,null,0,0,0,0,0,0,null,0,0,0,0,0,0,0,0,0,0,0,0,0,0,0,0,0,0,0,0,0,0]
[198,0,"2010-05-22",86,96,0,0,0,0,0,0,97,null,0,100,96,87,95,0,86,null,92,0,null,0,0,0,0,0,0,null,0,0,0,0,0,0,0,0,0,0,0,0,0,0,0,0,0,0,0,0,0,0]
[197,1,"2010-05-15",80,0,100,0,0,0,0,0,89,null,0,0,0,0,96,0,0,null,0,0,null,0,0,0,0,0,0,null,0,0,0,0,0,0,0,0,0,0,0,0,0,0,0,0,0,0,0,0,0,0]
[196,1,"2010-05-08",87,96,0,89,0,0,0,0,83,null,0,0,96,0,102,0,84,null,85,0,null,0,0,0,0,0,0,null,0,0,0,0,0,0,0,0,0,0,0,0,0,0,0,0,0,0,0,0,0,0]
[195,1,"2010-05-01",84,103,98,0,0,0,0,0,87,null,0,95,0,0,0,0,0,null,89,91,null,0,0,0,0,0,0,null,0,0,0,0,0,0,0,0,0,0,0,0,0,0,0,0,0,0,0,0,0,0]
[194,0,"2010-04-24",85,100,108,93,0,94,0,0,0,null,0,0,95,96,92,0,96,null,0,99,null,112,0,0,0,0,0,null,0,0,0,0,0,0,0,0,0,0,0,0,0,0,0,0,0,0,0,0,0,0]
[193,1,"2010-04-17",84,0,0,0,0,0,0,0,0,null,0,0,93,0,98,0,0,null,92,0,null,0,0,0,0,0,0,null,0,0,0,0,0,0,0,0,0,0,0,0,0,0,0,0,0,0,0,0,0,0]
[192,1,"2010-04-10",83,100,105,92,0,0,0,0,96,null,0,0,95,90,98,0,95,null,97,0,null,103,0,0,0,0,0,null,0,0,0,0,0,0,0,0,0,0,0,0,0,0,0,0,0,0,0,0,0,0]
[191,1,"2010-04-03",80,104,0,0,0,0,0,0,0,null,0,0,93,0,92,0,84,null,87,104,null,99,0,0,0,0,0,null,0,0,0,0,0,0,0,0,0,0,0,0,0,0,0,0,0,0,0,0,0,0]
[190,1,"2010-03-27",89,0,93,99,0,0,0,0,0,null,0,0,93,0,109,0,0,null,93,0,null,107,0,0,0,0,0,null,0,0,0,0,0,0,0,0,0,0,0,0,0,0,0,0,0,0,0,0,0,0]
[189,0,"2010-03-20",95,0,0,97,0,0,0,0,0,null,0,0,107,93,104,0,0,null,107,0,null,0,0,0,0,0,0,null,0,0,0,0,0,0,0,0,0,0,0,0,0,0,0,0,0,0,0,0,0,0]
[188,1,"2010-03-13",0,103,0,0,0,0,0,0,93,null,0,0,97,95,110,0,0,null,95,104,null,0,0,0,0,0,0,null,0,0,0,0,0,0,0,0,0,0,0,0,0,0,0,0,0,0,0,0,0,0]
[187,1,"2010-02-20",77,0,102,0,0,0,0,0,0,null,0,0,0,97,101,0,88,null,96,98,null,106,0,0,0,0,0,null,0,0,0,0,0,0,0,0,0,0,0,0,0,0,0,0,0,0,0,0,0,0]
[186,1,"2010-02-06",89,95,102,0,0,0,0,0,0,null,0,0,90,98,0,0,90,null,0,101,null,110,0,0,0,0,0,null,0,0,0,0,0,0,0,0,0,0,0,0,0,0,0,0,0,0,0,0,0,0]
[185,0,"2010-01-30",0,0,0,0,0,0,0,0,96,null,0,0,97,0,0,0,0,null,0,96,null,0,0,0,0,0,0,null,0,0,0,0,0,0,0,0,0,0,0,0,0,0,0,0,0,0,0,0,0,0]
[184,1,"2010-01-23",83,0,96,103,0,0,0,0,0,null,0,101,0,95,100,0,88,null,88,88,null,96,0,0,0,0,0,null,0,0,0,0,0,0,0,0,0,0,0,0,0,0,0,0,0,0,0,0,0,0]
[183,1,"2010-01-16",88,95,104,0,0,0,0,0,93,null,0,92,94,0,105,0,0,null,92,0,null,102,0,0,0,0,0,null,0,0,0,0,0,0,0,0,0,0,0,0,0,0,0,0,0,0,0,0,0,0]
[182,1,"2010-01-09",83,95,97,90,0,94,0,0,91,null,0,98,96,90,0,0,87,null,88,95,null,103,0,0,0,0,0,null,0,0,0,0,0,0,0,0,0,0,0,0,0,0,0,0,0,0,0,0,0,0]
[181,0,"2009-12-26",85,97,100,0,104,89,0,0,94,null,0,0,97,94,101,0,94,null,93,90,null,107,0,0,0,0,0,null,0,0,0,0,0,0,0,0,0,0,0,0,0,0,0,0,0,0,0,0,0,0]
[180,1,"2009-12-12",91,95,104,91,0,0,0,0,83,null,0,93,95,0,91,0,87,null,97,0,null,100,0,0,0,0,0,null,0,0,0,0,0,0,0,0,0,0,0,0,0,0,0,0,0,0,0,0,0,0]
[179,1,"2009-12-05",86,97,93,0,0,0,0,0,81,null,0,0,92,98,0,0,86,null,100,92,null,95,0,0,0,0,0,null,0,0,0,0,0,0,0,0,0,0,0,0,0,0,0,0,0,0,0,0,0,0]
[178,0,"2009-11-28",90,95,0,0,0,0,0,0,95,null,0,0,100,96,105,0,0,null,102,97,null,105,0,0,0,0,0,null,0,0,0,0,0,0,0,0,0,0,0,0,0,0,0,0,0,0,0,0,0,0]
[177,1,"2009-11-21",80,0,97,93,0,93,0,0,91,null,0,99,0,0,93,0,84,null,96,97,null,100,0,0,0,0,0,null,0,0,0,0,0,0,0,0,0,0,0,0,0,0,0,0,0,0,0,0,0,0]
[176,1,"2009-11-07",81,100,0,91,0,0,0,0,89,null,0,0,97,0,94,0,0,null,88,0,null,0,0,0,0,0,0,null,0,0,0,0,0,0,0,0,0,0,0,0,0,0,0,0,0,0,0,0,0,0]
[175,0,"2009-10-31",0,0,101,0,0,0,0,0,86,null,0,0,89,0,0,0,0,null,0,96,null,99,0,0,0,0,0,null,0,0,0,0,0,0,0,0,0,0,0,0,0,0,0,0,0,0,0,0,0,0]
[174,1,"2009-10-24",84,0,0,0,0,0,0,0,0,null,0,0,0,0,99,0,0,null,0,0,null,108,0,0,0,0,0,null,0,0,0,0,0,0,0,0,0,0,0,0,0,0,0,0,0,0,0,0,0,0]
[173,1,"2009-10-17",78,0,100,0,0,0,0,0,89,null,0,0,85,0,94,0,88,null,0,83,null,0,0,0,0,0,0,null,0,0,0,0,0,0,0,0,0,0,0,0,0,0,0,0,0,0,0,0,0,0]
[172,1,"2009-10-10",81,0,0,94,0,0,0,0,0,null,0,0,82,0,95,0,0,null,83,93,null,96,0,0,0,0,0,null,0,0,0,0,0,0,0,0,0,0,0,0,0,0,0,0,0,0,0,0,0,0]
[171,0,"2009-09-26",0,0,0,88,0,92,0,0,88,null,0,0,92,0,0,0,0,null,95,87,null,0,0,0,0,0,0,null,0,0,0,0,0,0,0,0,0,0,0,0,0,0,0,0,0,0,0,0,0,0]
[170,1,"2009-09-19",78,0,89,0,0,0,null,null,86,null,0,0,0,0,97,0,0,null,0,91,null,0,0,0,0,0,0,null,0,0,0,0,0,0,0,0,0,0,0,0,0,0,0,0,0,0,0,0,0,0]
[169,1,"2009-09-12",78,92,0,86,0,0,null,null,0,null,0,0,92,0,0,0,88,null,95,0,null,98,0,0,0,0,0,null,0,0,0,0,0,0,0,0,0,0,0,0,0,0,0,0,0,0,0,0,0,0]
[168,1,"2009-09-05",0,87,97,0,0,0,null,null,86,null,0,0,89,0,93,0,87,null,88,0,null,0,0,0,0,0,0,null,0,0,0,0,0,0,0,0,0,0,0,0,0,0,0,0,0,0,0,0,0,0]
[167,0,"2009-08-29",87,87,94,85,0,0,null,null,0,null,0,0,92,0,93,0,0,null,91,0,null,0,0,0,0,0,0,null,0,0,0,0,0,0,0,0,0,0,0,0,0,0,0,0,0,0,0,0,0,0]
[166,1,"2009-08-22",76,85,0,0,0,94,null,null,0,null,0,0,98,0,0,0,0,null,92,0,null,100,0,0,0,0,0,null,0,0,0,0,0,0,0,0,0,0,0,0,0,0,0,0,0,0,0,0,0,0]
[165,1,"2009-08-15",87,0,98,0,0,91,null,null,90,null,0,0,0,85,98,0,0,null,0,92,null,97,0,0,0,0,0,null,0,0,0,0,0,0,0,0,0,0,0,0,0,0,0,0,0,0,0,0,0,0]
[164,1,"2009-08-08",77,90,0,85,0,0,null,null,90,null,0,0,84,89,0,0,0,null,90,90,null,0,0,0,0,0,0,null,0,0,0,0,0,0,0,0,0,0,0,0,0,0,0,0,0,0,0,0,0,0]
[163,1,"2009-08-01",73,96,0,0,0,0,null,null,84,null,0,0,94,0,86,0,0,null,95,88,null,0,0,0,0,0,0,null,0,0,0,0,0,0,0,0,0,0,0,0,0,0,0,0,0,0,0,0,0,0]
[162,0,"2009-07-25",0,98,96,0,0,0,null,null,0,null,0,0,0,88,0,0,84,null,0,0,null,100,0,0,0,0,0,null,0,0,0,0,0,0,0,0,0,0,0,0,0,0,0,0,0,0,0,0,0,0]
[161,1,"2009-07-18",0,0,100,82,0,86,null,null,90,null,0,0,94,86,92,0,0,null,0,96,null,0,0,0,0,0,0,null,0,0,0,0,0,0,0,0,0,0,0,0,0,0,0,0,0,0,0,0,0,0]
[160,1,"2009-07-11",83,90,95,80,0,0,null,null,0,null,0,0,95,83,98,0,0,null,0,90,null,0,0,0,0,0,0,null,0,0,0,0,0,0,0,0,0,0,0,0,0,0,0,0,0,0,0,0,0,0]
[159,1,"2009-07-04",83,92,105,0,102,0,null,null,86,null,0,0,93,87,96,0,85,null,87,90,null,105,0,0,0,0,0,null,0,0,0,0,0,0,0,0,0,0,0,0,0,0,0,0,0,0,0,0,0,0]
[158,0,"2009-06-27",79,105,101,0,0,0,null,null,0,null,0,0,0,0,0,0,0,null,97,0,null,108,0,0,0,0,0,null,0,0,0,0,0,0,0,0,0,0,0,0,0,0,0,0,0,0,0,0,0,0]
[157,1,"2009-06-20",84,0,98,0,0,0,null,null,93,null,0,0,96,84,0,0,83,null,93,0,null,0,0,0,0,0,0,null,0,0,0,0,0,0,0,0,0,0,0,0,0,0,0,0,0,0,0,0,0,0]
[156,1,"2009-06-13",85,99,0,0,0,0,null,null,0,null,0,0,90,87,89,0,0,null,0,86,null,98,0,0,0,0,0,null,0,0,0,0,0,0,0,0,0,0,0,0,0,0,0,0,0,0,0,0,0,0]
[155,0,"2009-05-30",82,98,0,91,0,0,null,null,0,null,0,0,0,0,0,0,94,null,90,98,null,0,0,0,0,0,0,null,0,0,0,0,0,0,0,0,0,0,0,0,0,0,0,0,0,0,0,0,0,0]
[154,1,"2009-05-23",83,92,89,0,0,0,null,null,87,null,0,0,83,0,86,0,78,null,0,0,null,0,0,0,0,0,0,null,0,0,0,0,0,0,0,0,0,0,0,0,0,0,0,0,0,0,0,0,0,0]
[153,1,"2009-05-16",83,0,87,79,0,0,null,null,0,null,0,0,94,85,88,0,89,null,0,0,null,95,0,0,0,0,0,null,0,0,0,0,0,0,0,0,0,0,0,0,0,0,0,0,0,0,0,0,0,0]
[152,1,"2009-05-09",0,100,99,0,0,0,null,null,88,null,0,0,89,94,97,0,0,null,86,100,null,98,0,0,0,0,0,null,0,0,0,0,0,0,0,0,0,0,0,0,0,0,0,0,0,0,0,0,0,0]
[151,1,"2009-05-02",90,97,0,0,0,0,null,null,89,null,0,0,91,0,0,0,0,null,96,95,null,102,0,0,0,0,0,null,0,0,0,0,0,0,0,0,0,0,0,0,0,0,0,0,0,0,0,0,0,0]
[150,1,"2009-04-18",85,0,98,94,0,0,null,null,86,null,0,0,98,83,94,0,0,null,85,96,null,0,0,0,0,0,0,null,0,0,0,0,0,0,0,0,0,0,0,0,0,0,0,0,0,0,0,0,0,0]
[149,1,"2009-04-11",89,107,95,84,0,0,null,null,0,null,0,0,104,0,0,0,86,null,0,0,null,97,0,0,0,0,0,null,0,0,0,0,0,0,0,0,0,0,0,0,0,0,0,0,0,0,0,0,0,0]
[148,1,"2009-04-04",80,97,98,0,0,0,null,null,0,null,0,0,101,103,100,0,0,null,92,99,null,103,0,0,0,0,0,null,0,0,0,0,0,0,0,0,0,0,0,0,0,0,0,0,0,0,0,0,0,0]
[147,1,"2009-03-28",0,0,90,89,0,0,null,null,93,null,0,0,92,0,100,0,0,null,0,95,null,0]
[146,0,"2009-03-21",0,0,0,104,0,0,null,null,0,null,0,0,0,0,0,0,0,null,100,0,null,0]
[145,1,"2009-03-07",84,102,100,0,0,0,null,null,0,null,0,0,104,101,96,0,92,null,93,110,null,91]
[144,0,"2009-02-28",87,105,102,0,0,0,null,null,103,null,0,0,109,105,0,0,95,null,94,101,null,97]
[143,1,"2009-02-21",0,0,104,0,0,0,null,null,0,null,0,0,0,91,99,0,96,null,93,93,null,0]
[142,1,"2009-02-14",0,0,0,0,0,0,null,null,0,null,0,0,96,97,98,0,0,null,0,0,null,0]
[141,1,"2009-02-07",83,102,99,0,0,0,null,null,0,null,0,0,96,0,95,0,0,null,98,0,null,101]
[140,1,"2009-01-24",86,105,101,0,0,0,null,null,93,null,0,0,94,92,100,0,98,null,102,101,null,98]
[139,1,"2009-01-17",84,0,110,0,0,0,null,null,99,null,0,0,98,83,96,0,0,null,0,95,null,0]
[138,1,"2009-01-10",78,104,96,92,0,0,null,null,95,null,0,97,0,0,0,0,90,null,99,0,null,101]
[137,0,"2008-12-27",91,105,105,0,0,0,null,null,94,null,0,106,0,0,99,0,0,null,0,110,null,99]
[136,1,"2008-12-20",0,0,92,87,0,0,null,null,92,null,0,0,103,96,0,0,85,null,0,0,null,0]
[135,1,"2008-12-13",82,105,92,94,0,0,null,null,90,null,0,88,95,86,93,0,92,null,91,0,null,91]
[134,1,"2008-12-06",91,112,0,0,0,0,null,null,95,null,0,0,92,0,100,0,0,null,0,0,null,105]
[133,1,"2008-11-29",78,93,0,0,0,0,null,null,91,null,0,94,94,0,0,0,90,null,95,0,null,103]
[132,1,"2008-11-27",0,0,0,0,0,0,null,null,93,null,0,0,0,0,0,0,87,null,0,0,null,0]
[131,1,"2008-11-22",90,0,99,0,0,0,null,null,0,null,0,0,87,0,96,0,0,null,0,99,null,0]
[130,0,"2008-11-15",78,0,89,90,0,99,null,null,91,null,0,0,90,0,97,0,0,null,0,0,null,0]
[129,1,"2008-11-08",0,96,99,0,0,0,null,null,0,null,0,0,89,92,100,0,0,null,0,0,null,96]
[128,1,"2008-11-01",0,93,97,0,0,0,null,null,89,null,0,0,95,87,0,0,0,null,87,99,null,0]
[127,0,"2008-10-25",88,104,0,0,0,101,null,null,90,null,0,0,0,91,0,0,85,null,96,94,null,99]
[126,1,"2008-10-18",80,0,95,84,0,0,null,null,91,null,0,0,97,0,90,0,85,null,97,0,null,104]
[125,1,"2008-10-11",78,0,99,84,0,89,null,null,84,null,0,0,0,85,0,0,0,null,0,0,null,93]
[124,1,"2008-10-04",0,92,112,0,0,0,null,null,85,null,0,0,93,90,94,0,0,null,87,102,null,94]
[123,0,"2008-09-27",81,111,0,0,0,0,null,null,91,null,0,0,99,85,0,0,82,null,96,93,null,0]
[122,1,"2008-09-20",0,0,93,0,0,0,null,null,83,null,0,0,0,89,92,0,0,null,86,0,null,99]
[121,1,"2008-09-13",80,94,88,83,0,87,null,null,0,null,0,96,90,86,93,0,80,null,86,0,null,0]
[120,1,"2008-09-06",85,92,97,89,0,0,null,null,86,null,0,0,95,0,102,0,88,null,0,0,null,90]
[119,0,"2008-08-30",0,98,88,0,0,0,null,null,0,null,0,0,0,0,0,0,0,null,0,90,null,0]
[118,1,"2008-08-23",78,96,92,0,0,0,null,null,86,null,0,94,0,0,92,0,0,null,0,0,null,0]
[117,1,"2008-08-16",0,0,95,0,0,0,null,null,84,null,0,91,93,0,91,0,85,null,89,0,null,0]
[116,1,"2008-08-09",78,0,0,86,0,0,null,null,81,null,0,0,95,76,90,0,0,null,0,0,null,0]
[115,1,"2008-08-02",82,94,91,98,0,0,null,null,84,null,0,0,0,86,88,0,83,null,85,90,null,93]
[114,1,"2008-07-26",81,101,0,0,0,89,null,null,0,null,0,0,0,81,90,0,0,null,0,0,null,0]
[113,0,"2008-07-19",0,0,90,0,0,0,null,null,84,null,0,94,92,86,0,0,0,null,87,0,null,0]
[112,1,"2008-07-12",82,95,0,92,0,0,null,null,84,null,0,94,90,89,88,0,91,null,91,0,null,100]
[111,1,"2008-07-05",0,100,95,0,0,0,null,null,85,null,0,0,102,0,86,0,86,null,91,94,null,0]
[110,0,"2008-06-28",79,0,103,87,99,0,null,null,84,null,0,97,0,90,95,0,89,null,90,91,null,103]
[109,1,"2008-06-14",77,0,88,86,0,0,null,null,91,null,0,0,102,0,82,0,0,null,0,0,null,0]
[108,1,"2008-06-07",83,0,0,93,0,0,null,null,0,null,0,0,0,87,99,0,81,null,0,0,null,0]
[107,0,"2008-05-24",87,0,96,94,0,0,null,null,0,null,0,103,0,92,92,0,0,null,94,95,null,97]
[106,1,"2008-05-17",85,0,0,0,0,0,null,null,88,null,0,0,0,87,91,0,90,null,0,0,null,102]
[105,0,"2008-04-26",84,110,98,0,0,0,null,null,88,null,0,0,0,0,0,0,85,null,96,100,null,0]
[104,1,"2008-04-19",90,0,99,0,0,0,null,null,92,null,0,0,0,94,91,0,0,null,0,0,null,101]
[103,1,"2008-04-12",79,96,98,95,0,0,null,null,101,null,0,100,0,0,93,0,83,null,88,0,null,0]
[102,1,"2008-04-05",79,98,101,0,0,0,null,null,0,null,0,93,0,0,104,0,0,null,88,0,null,93]
[101,1,"2008-03-29",79,0,0,88,0,0,null,null,93,null,0,99,0,89,0,0,0,null,92,110,null,97]
[100,0,"2008-03-22",84,108,94,88,0,0,null,null,93,null,0,0,0,88,95,0,0,null,92,0,null,0]
[99,1,"2008-03-15",0,0,94,95,0,0,null,null,0,null,0,96,0,0,0,0,92,null,101,0,null,95]
[98,1,"2008-03-08",0,105,107,91,0,0,null,null,86,null,0,91,0,0,0,0,96,null,89,0,null,0]
[97,1,"2008-03-01",86,107,0,0,0,0,null,null,0,null,0,108,0,97,0,0,0,null,0,0,null,0]
[96,1,"2008-02-23",92,105,102,104,0,0,null,null,0,null,0,0,0,0,105,0,89,null,96,98,null,97]
[95,1,"2008-02-16",83,96,98,0,0,0,null,null,84,null,0,93,0,87,95,0,0,null,0,0,null,0]
[94,1,"2008-02-02",0,108,94,0,0,0,null,null,91,null,0,0,0,87,0,0,0,null,0,0,null,0]
[93,1,"2008-01-26",0,0,96,0,0,0,null,null,90,null,0,0,0,0,91,0,0,null,93,94,null,0]
[92,1,"2008-01-19",88,0,96,97,0,0,null,null,93,null,0,0,0,0,0,0,95,null,98,0,null,0]
[91,1,"2008-01-05",82,89,88,0,0,0,null,null,0,null,0,0,0,0,0,0,0,null,93,0,null,0]
[90,0,"2007-12-22",88,102,103,0,0,0,null,null,95,null,0,0,100,94,0,0,0,null,0,0,null,0]
[89,1,"2007-12-15",0,110,102,0,0,0,null,null,0,null,0,0,0,0,0,0,0,null,0,0,null,101]
[88,1,"2007-12-08",0,0,0,91,0,0,null,null,92,null,0,100,85,0,0,0,0,null,94,0,null,0]
[87,1,"2007-11-24",81,102,93,88,0,0,null,null,93,null,0,89,0,0,0,0,0,null,0,0,null,100]
[86,1,"2007-11-17",84,101,0,0,0,0,null,null,0,null,0,0,0,86,98,0,0,null,0,0,null,0]
[85,1,"2007-11-12",88,0,0,0,0,0,null,null,0,null,0,97,0,0,0,0,0,null,96,0,null,0]
[84,1,"2007-10-31",0,102,0,86,0,0,null,null,0,null,0,0,0,85,0,0,0,null,0,0,null,103]
[83,1,"2007-10-20",82,94,0,83,0,0,null,null,0,null,0,92,90,80,98,0,0,null,0,0,null,0]
[82,1,"2007-10-13",82,98,97,0,0,0,null,null,89,null,0,92,95,85,0,0,0,null,0,0,null,0]
[81,1,"2007-10-06",81,0,92,94,0,0,null,null,90,null,0,94,92,0,86,0,0,null,96,0,null,93]
[80,1,"2007-09-22",0,95,91,102,0,0,null,null,0,null,0,87,0,0,0,0,0,null,105,0,null,0]
[79,1,"2007-09-15",83,94,96,85,0,0,null,null,86,null,0,84,95,84,88,0,0,null,0,0,null,0]
[78,1,"2007-09-08",80,91,104,84,0,0,null,null,93,null,0,94,97,80,92,0,0,null,89,0,null,0]
[77,1,"2007-09-01",0,0,0,0,0,0,null,null,0,null,0,0,0,87,0,0,0,null,0,0,null,93]
[76,1,"2007-08-25",0,91,0,0,0,0,null,null,90,null,0,0,0,85,98,0,0,null,90,0,null,0]
[75,1,"2007-08-18",0,0,100,0,0,89,null,null,0,null,0,0,89,75,100,0,0,null,0,0,null,0]
[74,1,"2007-08-11",0,0,0,93,0,0,null,null,85,null,0,0,0,80,0,0,0,null,89,0,null,0]
[73,1,"2007-08-04",0,93,92,95,0,0,null,null,87,null,0,0,0,0,96,0,0,null,93,0,null,95]
[72,1,"2007-07-28",0,0,0,0,0,0,null,null,94,null,0,0,94,83,0,0,0,null,90,0,null,0]
[71,1,"2007-07-21",0,0,0,0,0,0,null,null,91,null,0,0,0,93,101,0,0,null,0,0,null,0]
[70,1,"2007-07-07",0,0,91,0,0,0,null,null,89,null,0,92,0,81,87,0,0,null,84,0,null,95]
[69,1,"2007-06-30",0,96,96,0,0,0,null,null,0,null,0,0,0,0,0,0,0,null,88,0,null,0]
[68,1,"2007-06-23",0,93,0,0,0,0,null,null,0,null,0,92,88,78,0,0,0,null,0,0,null,94]
[67,1,"2007-06-09",0,94,89,86,0,0,null,null,82,null,0,88,0,80,100,0,0,null,0,0,null,87]
[66,1,"2007-06-02",0,89,96,0,0,0,null,null,0,null,0,95,100,0,0,0,0,null,92,0,null,101]
[65,1,"2007-05-26",0,0,94,93,0,0,null,null,89,null,0,93,0,88,98,0,0,null,92,0,null,94]
[64,1,"2007-05-19",0,98,98,0,0,0,null,null,86,null,0,95,98,0,103,0,0,null,0,0,null,0]
[63,1,"2007-05-12",0,99,0,88,0,0,null,null,89,null,0,93,96,88,98,0,0,null,92,0,null,94]
[62,1,"2007-04-28",0,96,102,0,0,0,null,null,93,null,0,94,106,0,0,0,0,null,0,0,null,0]
[61,1,"2007-04-21",0,95,99,0,0,0,null,null,0,null,0,95,95,89,98,0,0,null,92,0,null,93]
[60,1,"2007-04-14",0,106,92,87,0,0,null,null,88,null,0,0,0,82,101,0,0,null,98,0,null,92]
[59,1,"2007-04-07",0,90,0,0,0,0,null,null,0,null,0,0,0,0,88,0,0,null,0,0,null,93]
[58,1,"2007-03-31",0,96,92,0,0,0,null,null,0,null,0,0,0,0,0,0,0,null,0,0,null,0]
[57,1,"2007-03-24",0,91,94,0,0,0,null,null,92,null,0,96,0,0,94,0,0,null,96,0,null,0]
[56,1,"2007-03-17",0,100,98,0,0,0,null,null,0,null,0,94,88,90,0,0,0,null,89,0,null,0]
[55,1,"2007-03-10",83,0,0,0,0,0,null,null,0,null,0,0,0,97,0,0,0,null,94,0,null,97]
[54,1,"2007-03-03",0,95,104,0,0,0,null,null,0,null,0,101,96,0,0,0,0,null,0,0,null,101]
[53,1,"2007-02-24",0,107,0,0,0,0,null,null,0,null,0,96,0,94,0,0,0,null,0,0,null,0]
[52,1,"2007-02-17",86,109,97,0,0,0,null,null,0,null,0,0,0,83,99,0,0,null,90,0,null,0]
[51,1,"2007-02-10",0,94,107,0,0,0,null,null,0,null,0,0,99,87,89,0,0,null,90,0,null,0]
[50,1,"2007-02-03",0,99,102,0,0,0,null,null,97,null,0,0,0,0,0,0,0,null,0,0,null,0]
[49,1,"2007-01-27",0,0,0,0,0,0,null,null,0,null,0,0,96,89,98,0,0,null,92,0,null,0]
[48,1,"2007-01-20",0,106,99,0,0,0,null,null,98,null,0,100,95,83,94,0,0,null,97,0,null,96]
[47,1,"2007-01-13",0,101,96,86,0,0,null,null,93,null,0,98,100,84,89,0,0,null,95,0,null,99]
[46,1,"2006-12-30",0,0,96,0,0,0,null,null,0,null,0,0,0,0,92,0,0,null,0,0,null,0]
[45,1,"2006-12-28",0,105,0,0,0,0,null,null,0,null,0,0,0,99,0,0,0,null,0,0,null,0]
[44,1,"2006-12-16",0,96,0,88,0,0,null,null,90,null,0,111,89,87,95,0,0,null,92,0,null,0]
[43,1,"2006-12-09",0,0,103,0,0,0,null,null,96,null,0,0,102,0,0,0,0,null,94,0,null,0]
[42,1,"2006-12-02",0,107,0,96,0,0,null,null,97,null,0,0,0,0,101,0,0,null,92,0,null,0]
[41,1,"2006-11-25",0,96,95,0,0,0,null,null,89,null,0,0,0,94,95,0,0,null,87,0,null,94]
[40,1,"2006-11-18",0,100,95,0,0,0,null,null,0,null,0,0,94,84,98,0,0,null,0,0,null,0]
[39,1,"2006-11-04",0,102,0,92,0,0,null,null,0,null,0,0,0,0,0,0,0,null,87,0,null,0]
[38,1,"2006-10-28",79,89,91,88,0,0,null,null,0,null,0,97,86,87,87,0,0,null,96,0,null,101]
[37,1,"2006-10-21",0,88,102,92,0,0,null,null,0,null,0,94,97,0,96,0,0,null,91,0,null,99]
[36,1,"2006-10-14",0,0,0,0,0,0,null,null,0,null,0,0,101,95,97,0,0,null,107,0,null,98]
[35,1,"2006-10-07",0,96,97,92,0,0,null,null,0,null,0,93,0,89,90,0,0,null,0,0,null,0]
[34,1,"2006-09-30",0,97,97,0,0,0,null,null,0,null,0,94,86,82,92,0,0,null,96,0,null,88]
[33,1,"2006-09-16",0,90,87,0,0,96,null,null,86,null,0,0,98,85,97,0,0,null,0,0,null,108]
[32,1,"2006-09-09",0,0,0,91,0,0,null,null,96,null,0,0,0,90,90,0,0,null,0,0,null,0]
[31,1,"2006-09-02",0,86,87,88,0,0,null,null,90,null,0,0,92,0,92,0,0,null,91,0,null,0]
[30,1,"2006-08-26",0,83,98,0,0,0,null,null,0,null,0,0,94,83,91,0,0,null,91,0,null,0]
[29,1,"2006-08-19",0,0,0,0,0,0,null,null,0,null,0,0,102,83,87,0,0,null,0,0,null,0]
[28,1,"2006-08-12",0,92,95,82,0,0,null,null,85,null,0,0,0,0,0,0,0,null,0,0,null,0]
[27,0,"2006-08-05",81,90,95,88,0,0,null,null,89,null,0,95,91,83,91,0,0,null,92,0,null,99]
[26,1,"2006-07-29",0,0,101,84,0,0,null,null,78,null,0,97,0,86,0,0,0,null,0,0,null,91]
[25,1,"2006-07-22",0,0,0,0,0,91,null,null,87,null,0,96,0,0,0,0,0,null,0,0,null,0]
[24,1,"2006-07-15",0,87,95,0,0,0,null,null,0,null,0,0,0,0,0,0,0,null,90,0,null,91]
[23,1,"2006-07-08",0,102,0,0,0,0,null,null,0,null,0,0,92,81,102,0,0,null,0,0,null,0]
[22,1,"2006-07-01",0,88,0,0,0,0,null,null,91,null,0,96,101,85,90,0,0,null,90,0,null,0]
[21,1,"2006-06-24",0,0,95,92,0,0,null,null,94,null,0,0,106,0,89,0,0,null,92,0,null,95]
[20,1,"2006-06-17",0,96,95,91,0,0,null,null,0,null,0,0,0,86,0,0,0,null,97,0,null,0]
[19,1,"2006-06-10",0,96,86,0,0,0,null,null,0,null,0,102,93,0,90,0,0,null,0,0,null,0]
[18,1,"2006-06-03",0,101,106,88,0,0,null,null,89,null,0,96,0,0,102,0,0,null,97,0,null,89]
[17,1,"2006-05-27",0,0,100,92,0,0,null,null,0,null,0,99,102,101,96,0,0,null,0,0,null,0]
[16,1,"2006-05-20",86,113,98,0,0,0,null,null,98,null,0,95,110,0,94,0,0,null,0,0,null,0]
[15,1,"2006-05-13",0,0,0,95,0,0,null,null,0,null,0,0,0,98,96,0,0,null,0,0,null,103]
[14,1,"2006-05-06",0,96,98,91,0,96,null,null,102,null,0,0,99,88,0,0,0,null,94,0,null,0]
[13,1,"2006-04-22",84,93,102,0,0,0,null,null,95,null,0,90,91,88,0,0,0,null,89,0,null,90]
[12,1,"2006-04-15",81,100,0,88,0,0,null,null,0,null,0,0,0,0,98,0,0,null,96,0,null,90]
[11,1,"2006-04-08",79,0,95,91,0,0,null,null,91,null,0,86,0,0,0,0,0,null,84,0,null,97]
[10,1,"2006-04-01",0,99,90,0,0,0,null,null,93,null,0,98,0,0,0,0,0,null,0,0,null,95]
[9,1,"2006-03-25",88,95,92,91,0,0,null,null,0,null,0,90,0,0,96,0,0,null,86,0,null,91]
[8,1,"2006-03-18",86,92,99,88,0,0,null,null,94,null,0,0,0,77,0,0,0,null,86,0,null,99]
[7,1,"2006-03-11",0,0,96,0,0,0,null,null,0,null,0,0,93,87,0,0,0,null,94,0,null,100]
[6,1,"2006-03-04",0,95,104,0,0,0,null,null,98,null,0,98,103,88,0,0,0,null,84,0,null,104]
[5,1,"2006-02-25",0,98,0,0,0,0,null,null,0,null,0,99,96,90,0,0,0,null,100,0,null,97]
[4,1,"2006-02-18",84,89,95,0,0,0,null,null,0,null,0,0,0,90,0,0,0,null,92,0,null,0]
[3,1,"2006-02-04",80,104,95,94,0,0,null,null,0,null,0,95,0,86,103,0,0,null,93,0,null,98]
[2,1,"2006-01-14",0,0,102,90,0,0,null,null,0,null,0,0,0,0,0,0,0,null,0,0,null,0]
[1,1,"2006-01-07",88,96,93,96,0,0,null,null,89,null,0,99,103,91,0,0,0,null,85,0,null,100]

{"sheet":"スコア報告","index":4,"n_rows":13,"n_cols":9,"rows_kept":13,"cut":false,"hidden":false,"merged":[]}
[null,null,"１．本日のスコア"]
[null,null,"プレー日：","2025-12-19",null,null,"コース：","ダイヤモンド"]
[null,null,"Player","Out","In","Gross","HDCP","Net"]
[29,"いわはし","岩橋　厚",41,40,81,12.3,68.7,1]
[11,"たなべ","田辺庄司",37,39,76,7,69,1]
[8,"まつのぶ","松延洋昭",39,37,76,4.8,71.2,1]
[18,"さかい","酒井里子",42,47,89,15.9,73.099999999999994,1]
[31,"たかお","高雄　徹",38,44,82,6.3,75.7,1]
[13,"すじゃく","朱雀　健",46,48,94,17.7,76.3,1]
[17,"さとう","佐藤英彦",45,48,93,15.9,77.099999999999994,1]
[15,"なかおか","中岡　信",50,46,96,18.2,77.8,1]
[1,"あべ","阿部三郎",51,48,99,16.899999999999999,82.1,1]
[14,"たかぎ","高木克三",49,54,103,20.5,82.5,1]

{"sheet":"組合せ報告","index":5,"n_rows":9,"n_cols":13,"rows_kept":9,"cut":false,"hidden":false,"merged":[]}
[]
["コース提出用組合せ"]
[null,"プレー日","2025-12-27",null,null,null,null,null,null,null,"作成日","2025-12-19"]
[null,"参加人数",9,null,"時間","氏名","HDCP","氏名","HDCP","氏名","HDCP","氏名","HDCP"]
[null,"第１組","エメ","in","08:19:00","田辺庄司",7,"松延洋昭",4.8,"星山　隆",14.2,"（１名空き）"]
[null,"第２組","エメ","in","08:26:00","海原範隆",31.7,"高雄　徹",6.3,"尾野本哲廣",17.100000000000001,"（１名空き）"]
[null,"第３組","エメ","in","08:33:00","中岡　信",18.2,"阿部三郎",16.899999999999999,"高木克三",20.5,"（１名空き）"]
[null,"第４組","エメ","in","08:40:00"]
[null,"第５組","エメ","in","08:47:00"]

{"sheet":"MVP","index":6,"n_rows":69,"n_cols":248,"rows_kept":69,"cut":false,"hidden":false,"merged":[]}
[null,null,"月間MVP計算シート"]
[]
["ID","ふりがな","姓名","合計PNT","RNK",null,"2025-12-19","2025-12-13","2025-12-06"]
[1,"あべ","阿部三郎",{"$f":"SUM(F4:YZ4)","v":15},{"$f":"IF(D4=0,\"\",RANK(D4,pointttl,0))","v":8},null,5,5,5]
[2,null,null,0,{"$f":"IF(D5=0,\"\",RANK(D5,pointttl,0))","v":""}]
[3,"いちげ","市毛弘文",0,{"$f":"IF(D6=0,\"\",RANK(D6,pointttl,0))","v":""}]
[4,"いわもと","岩本　隆",5,14,null,null,null,5]
[5,"わたせ","渡瀬敬子",0,""]
[6,"おおやま","大山光男",5,14,null,null,null,5]
[7,null,null,0,""]
[8,"まつのぶ","松延洋昭",26.600000381469727,5,null,16.600000381469727,5,5]
[9,null,null,0,""]
[10,null,null,{"$f":"SUM(F13:YZ13)","v":0},{"$f":"IF(D13=0,\"\",RANK(D13,pointttl,0))","v":""}]
[11,"たなべ","田辺庄司",68.5,1,null,26,20.5,22]
[12,null,null,0,""]
[13,"すじゃく","朱雀　健",57.200000762939453,2,null,5,5,47.200000762939453]
[14,"たかぎ","高木克三",10,11,null,5,null,5]
[15,"なかおか","中岡　信",15,8,null,5,5,5]
[16,"さとう","佐藤瑠美",0,""]
[17,"さとう","佐藤英彦",22,6,null,5,null,17]
[18,"さかい","酒井里子",10,11,null,5,5]
[19,"ほんだ","本田　務",0,""]
[20,"まつなが","松永光夫",0,""]
[21,null,null,0,""]
[22,"よねはら","米原　治",5,14,null,null,null,5]
[23,"むらかみ","村上欣永",0,""]
[24,"いわもと","岩本圭五",{"$f":"SUM(F27:YZ27)","v":0},{"$f":"IF(D27=0,\"\",RANK(D27,pointttl,0))","v":""}]
[25,"おのもと","尾野本哲廣",10,11,null,null,5,5]
[26,null,null,5,14,null,null,null,null,null,null,null,null,null,null,null,null,null,null,null,null,null,null,null,null,null,null,null,null,null,null,null,null,null,null,null,null,null,null,null,null,null,null,null,null,null,null,null,null,null,null,null,null,null,null,null,null,null,null,null,null,null,null,null,null,null,null,null,null,null,null,null,null,null,null,null,null,null,null,null,null,null,null,null,null,null,null,null,null,null,null,null,null,null,null,null,null,null,null,null,null,null,null,null,null,null,null,null,null,null,null,null,null,null,null,null,null,null,null,null,null,null,null,null,null,null,null,null,null,null,null,null,null,null,null,null,null,null,null,null,null,null,null,null,null,null,null,null,null,null,null,null,null,null,null,null,null,null,null,null,null,null,null,null,null,null,null,null,null,null,null,null,null,null,null,null,null,null,null,null,null,null,null,null,null,null,null,null,null,null,null,null,null,null,null,null,null,null,null,null,null,null,null,null,null,null,null,null,null,null,null,null,null,null,null,null,null,null,null,null,null,null,null,null,null,null,null,null,null,null,null,null,null,null,null,null,null,null,null,null,null,null,null,null,null,null,null,5]
[27,"つのだ","角田啓三郎",5,14,null,null,null,5]
[28,"いわはし","岩橋みどり",44.200000762939453,4,null,null,44.200000762939453]
[29,"いわはし","岩橋厚",46.599998474121094,3,null,41.599998474121094,null,5]
[30,"ほしやま","星山　隆",15.5,7,null,null,15.5]
[31,"たかお","高雄　徹",15,8,null,5,5,5]
[32,"かいはら","海原範隆",0,""]
[33,"ごとう","後藤聡志",5,{"$f":"IF(D36=0,\"\",RANK(D36,pointttl,0))","v":14},null,null,5]
[34,null,null,0,""]
[35,null,null,0,""]
[36,null,null,0,""]
[37,null,null,0,""]
[38,null,null,0,""]
[39,null,null,0,""]
[40,null,null,0,""]
[41,null,null,0,""]
[42,null,null,0,""]
[43,null,null,0,""]
[44,null,null,0,""]
[45,null,null,0,""]
[46,null,null,0,""]
[47,null,null,0,""]
[48,null,null,0,""]
[49,null,null,0,""]
[50,null,null,0,""]
[]
[null,"月が新しくなったら、G列より右側のデータを削除してから、スコア報告の集計をする。"]
[]
[]
[null,"<MVPポイント計算ルール>"]
[null,"１．基本ポイント"]
[null,"　１位：25"]
[null,"　2位：15"]
[null,"　3位：10"]
[null,"　４位以下の参加者：5"]
[null,"２．アンダーパー加算ポイント"]
[null,"　アンダーパー×２"]
[null,"３．参加者加算ポイント"]
[null,"　１位：参加人数"]
[null,"　2位：参加人数×0.5"]
[null,"　3位：参加人数×0.5"]

{"sheet":"HDCP","index":7,"n_rows":112,"n_cols":24,"rows_kept":112,"cut":false,"hidden":false,"merged":[[8,14,8,23],[9,14,9,23],[10,7,11,7],[10,8,11,8],[10,9,10,13],[10,14,10,23]]}
[]
[null,"基準日を入力して、「HDCP計算開始ボタン」を押してください"]
[null,"ボタンを押す前に(本シートをHDCP_oldという名前のシートにコピーしておくこ！！！"]
[null,null,"開始行",8,null,"・プレーした最近のスコアカード10枚中のベストディファレンシャルカード5枚を用いる。",null,null,null,null,null,null,null,null,null,null,"優勝者は２０％カットを６ヶ月間、その後の６ヶ月間を１０％カットとする。（例：ＳＰ戦で優勝した場合次のＳＰ戦完了まで２０％カット、その次のＳＰ戦完了まで１０％カット）とする。"]
[null,null,"開始列",14,null,"･上記５回の平均値×0.96をHDCPとする（ストロークコントロールは考慮していない）",null,null,null,null,null,null,null,null,null,null,"（例：ＳＰ戦で優勝した場合次のＳＰ戦まで２０％カット、その次のＳＰ戦まで１０％カット）とする。"]
[null,null,null,null,null,"・但し、前回大会の順位により、カットをする。カット率は右の通り(09年7月より）",null,null,null,null,null,null,null,null,null,null,"更に、優勝者のカットは優勝した翌週から実施する。カットは前回（６月）のSP戦、マッチ戦に遡って実施する。"]
[null,"基準日↓：その日までのスコアでHDCPを計算する"]
[null,"2025-11-29"]
[null,null,null,"１位",0.2,null,null,"掛け率",null,null,null,null,null,null,"最近１０回のスコア"]
[null,null,null,"２位",0,null,null,0.96,null,null,null,null,null,null,"上段：スコア（オーバーパー）"]
[null,null,null,"３位",0,"前々回適用率",0.5,"計算\nHDCP","５回の\n平均","５回分の最小スコア",null,null,null,null,"下段（プレー日）"]
["ID","氏名","今回のHDCP","前回\n順位","カット率","前々回\n順位","カット率",null,null,1,2,3,4,5,1,2,3,4,5,6,7,8,9,10]
[]
[1,{"$f":"VLOOKUP(A14,namelist,3)","v":"阿部三郎"},{"$f":"ROUND((1-E14-G14)*H14,1)","v":16.899999999999999},0,{"$f":"IF(D14=0,0,CHOOSE(D14,$E$9,$E$10,$E$11))","v":0},1,{"$f":"IF(F14=0,0,(CHOOSE(F14,$E$9,$E$10,$E$11))*$G$11)","v":0.1},{"$f":"ROUND(I14*wariai,1)","v":18.8},{"$f":"AVERAGE(J14:N14)","v":19.600000000000001},{"$f":"SMALL(O14:X14,1)","v":16},{"$f":"SMALL(O14:X14,2)","v":17},{"$f":"SMALL(O14:X14,3)","v":21},{"$f":"SMALL(O14:X14,4)","v":21},{"$f":"SMALL(O14:X14,5)","v":23},31,24,21,23,26,25,27,16,21,17]
[null,null,null,null,null,null,null,null,null,null,null,null,null,null,"2025-11-29","2025-11-21","2025-11-15","2025-11-08","2025-11-01","2025-10-17","2025-10-04","2025-09-27","2025-09-19","2025-09-06"]
[2,{"$f":"VLOOKUP(A16,namelist,3)","v":0},{"$f":"ROUND((1-E16-G16)*H16,1)","v":31.5},null,{"$f":"IF(D16=0,0,CHOOSE(D16,$E$9,$E$10,$E$11))","v":0},null,{"$f":"IF(F16=0,0,(CHOOSE(F16,$E$9,$E$10,$E$11))*$G$11)","v":0},{"$f":"ROUND(I16*wariai,1)","v":31.5},{"$f":"AVERAGE(J16:N16)","v":32.799999999999997},{"$f":"SMALL(O16:X16,1)","v":23},{"$f":"SMALL(O16:X16,2)","v":34},{"$f":"SMALL(O16:X16,3)","v":35},{"$f":"SMALL(O16:X16,4)","v":36},{"$f":"SMALL(O16:X16,5)","v":36},37,37,36,36,35,36,34,36,23,39]
[null,null,null,null,null,null,null,null,null,null,null,null,null,null,"2020-11-28","2020-11-14","2020-10-31","2020-10-12","2020-09-26","2020-08-03","2020-06-27","2020-06-20","2020-05-30","2020-04-06"]
[3,{"$f":"VLOOKUP(A18,namelist,3)","v":"市毛弘文"},{"$f":"ROUND((1-E18-G18)*H18,1)","v":36.700000000000003},null,{"$f":"IF(D18=0,0,CHOOSE(D18,$E$9,$E$10,$E$11))","v":0},null,{"$f":"IF(F18=0,0,(CHOOSE(F18,$E$9,$E$10,$E$11))*$G$11)","v":0},{"$f":"ROUND(I18*wariai,1)","v":36.700000000000003},{"$f":"AVERAGE(J18:N18)","v":38.200000000000003},{"$f":"SMALL(O18:X18,1)","v":31},{"$f":"SMALL(O18:X18,2)","v":36},{"$f":"SMALL(O18:X18,3)","v":40},{"$f":"SMALL(O18:X18,4)","v":40},{"$f":"SMALL(O18:X18,5)","v":44},47,45,40,51,56,40,36,44,31,47]
[null,null,null,null,null,null,null,null,null,null,null,null,null,null,"2025-04-26","2025-03-01","2025-02-21","2025-02-01","2025-01-25","2024-10-18","2024-10-12","2024-10-05","2024-09-14","2024-09-07"]
[4,{"$f":"VLOOKUP(A20,namelist,3)","v":"岩本　隆"},{"$f":"ROUND((1-E20-G20)*H20,1)","v":14},0,{"$f":"IF(D20=0,0,CHOOSE(D20,$E$9,$E$10,$E$11))","v":0},1,{"$f":"IF(F20=0,0,(CHOOSE(F20,$E$9,$E$10,$E$11))*$G$11)","v":0.1},{"$f":"ROUND(I20*wariai,1)","v":15.6},{"$f":"AVERAGE(J20:N20)","v":16.2},{"$f":"SMALL(O20:X20,1)","v":14},{"$f":"SMALL(O20:X20,2)","v":15},{"$f":"SMALL(O20:X20,3)","v":16},{"$f":"SMALL(O20:X20,4)","v":17},{"$f":"SMALL(O20:X20,5)","v":19},24,20,22,19,17,22,20,15,16,14]
[null,null,null,null,null,null,null,null,null,null,null,null,null,null,"2025-11-15","2025-11-08","2025-11-01","2025-10-17","2025-09-19","2025-09-13","2025-08-30","2025-08-23","2025-08-15","2025-08-09"]
[5,{"$f":"VLOOKUP(A22,namelist,3)","v":0},{"$f":"ROUND((1-E22-G22)*H22,1)","v":26.7},null,{"$f":"IF(D22=0,0,CHOOSE(D22,$E$9,$E$10,$E$11))","v":0},null,{"$f":"IF(F22=0,0,(CHOOSE(F22,$E$9,$E$10,$E$11))*$G$11)","v":0},{"$f":"ROUND(I22*wariai,1)","v":26.7},{"$f":"AVERAGE(J22:N22)","v":27.8},{"$f":"SMALL(O22:X22,1)","v":25},{"$f":"SMALL(O22:X22,2)","v":25},{"$f":"SMALL(O22:X22,3)","v":29},{"$f":"SMALL(O22:X22,4)","v":30},{"$f":"SMALL(O22:X22,5)","v":30},30,31,31,29,25,31,30,37,25,41]
[null,null,null,null,null,null,null,null,null,null,null,null,null,null,"2019-11-30","2018-12-22","2018-06-30","2017-12-16","2017-07-08","2016-12-17","2016-07-02","2014-12-20","2014-06-21","2013-12-21"]
[6,{"$f":"VLOOKUP(A24,namelist,3)","v":"大山光男"},{"$f":"ROUND((1-E24-G24)*H24,1)","v":27.1},null,{"$f":"IF(D24=0,0,CHOOSE(D24,$E$9,$E$10,$E$11))","v":0},null,{"$f":"IF(F24=0,0,(CHOOSE(F24,$E$9,$E$10,$E$11))*$G$11)","v":0},{"$f":"ROUND(I24*wariai,1)","v":27.1},{"$f":"AVERAGE(J24:N24)","v":28.2},{"$f":"SMALL(O24:X24,1)","v":25},{"$f":"SMALL(O24:X24,2)","v":27},{"$f":"SMALL(O24:X24,3)","v":28},{"$f":"SMALL(O24:X24,4)","v":30},{"$f":"SMALL(O24:X24,5)","v":31},39,28,25,31,30,31,37,36,40,27]
[null,null,null,null,null,null,null,null,null,null,null,null,null,null,"2025-11-29","2025-10-17","2025-09-19","2025-08-02","2025-06-07","2025-04-26","2025-04-18","2024-12-07","2024-11-30","2024-07-27"]
[7,{"$f":"VLOOKUP(A26,namelist,3)","v":0},{"$f":"ROUND((1-E26-G26)*H26,1)","v":32.6},null,{"$f":"IF(D26=0,0,CHOOSE(D26,$E$9,$E$10,$E$11))","v":0},null,{"$f":"IF(F26=0,0,(CHOOSE(F26,$E$9,$E$10,$E$11))*$G$11)","v":0},{"$f":"ROUND(I26*wariai,1)","v":32.6},{"$f":"AVERAGE(J26:N26)","v":34},{"$f":"SMALL(O26:X26,1)","v":29},{"$f":"SMALL(O26:X26,2)","v":32},{"$f":"SMALL(O26:X26,3)","v":34},{"$f":"SMALL(O26:X26,4)","v":37},{"$f":"SMALL(O26:X26,5)","v":38},49,41,48,32,42,38,44,34,37,29]
[null,null,null,null,null,null,null,null,null,null,null,null,null,null,"2020-08-22","2020-08-15","2020-08-08","2020-07-25","2020-07-11","2020-06-27","2020-06-20","2020-05-30","2020-05-23","2020-05-02"]
[8,{"$f":"VLOOKUP(A28,namelist,3)","v":"松延洋昭"},{"$f":"ROUND((1-E28-G28)*H28,1)","v":4.8},null,{"$f":"IF(D28=0,0,CHOOSE(D28,$E$9,$E$10,$E$11))","v":0},null,{"$f":"IF(F28=0,0,(CHOOSE(F28,$E$9,$E$10,$E$11))*$G$11)","v":0},{"$f":"ROUND(I28*wariai,1)","v":4.8},{"$f":"AVERAGE(J28:N28)","v":5},{"$f":"SMALL(O28:X28,1)","v":2},{"$f":"SMALL(O28:X28,2)","v":4},{"$f":"SMALL(O28:X28,3)","v":5},{"$f":"SMALL(O28:X28,4)","v":6},{"$f":"SMALL(O28:X28,5)","v":8},13,14,8,9,13,5,2,10,6,4]
[null,null,null,null,null,null,null,null,null,null,null,null,null,null,"2025-11-29","2025-11-21","2025-11-15","2025-11-08","2025-10-17","2025-10-04","2025-09-27","2025-09-19","2025-09-13","2025-09-06"]
[9,{"$f":"VLOOKUP(A30,namelist,3)","v":0},{"$f":"ROUND((1-E30-G30)*H30,1)","v":16.100000000000001},null,{"$f":"IF(D30=0,0,CHOOSE(D30,$E$9,$E$10,$E$11))","v":0},null,{"$f":"IF(F30=0,0,(CHOOSE(F30,$E$9,$E$10,$E$11))*$G$11)","v":0},{"$f":"ROUND(I30*wariai,1)","v":16.100000000000001},{"$f":"AVERAGE(J30:N30)","v":16.8},{"$f":"SMALL(O30:X30,1)","v":12},{"$f":"SMALL(O30:X30,2)","v":15},{"$f":"SMALL(O30:X30,3)","v":16},{"$f":"SMALL(O30:X30,4)","v":20},{"$f":"SMALL(O30:X30,5)","v":21},27,16,26,21,21,20,26,15,12,23]
[null,null,null,null,null,null,null,null,null,null,null,null,null,null,"2019-11-18","2019-05-07","2019-04-13","2019-04-06","2018-12-08","2018-11-24","2018-11-10","2018-10-20","2018-10-13","2018-09-08"]
[10,null,0,null,{"$f":"IF(D32=0,0,CHOOSE(D32,$E$9,$E$10,$E$11))","v":0},null,{"$f":"IF(F32=0,0,(CHOOSE(F32,$E$9,$E$10,$E$11))*$G$11)","v":0},{"$f":"ROUND(I32*wariai,1)","v":{"$error":"#NUM!"}},{"$f":"AVERAGE(J32:N32)","v":{"$error":"#NUM!"}},{"$f":"SMALL(O32:X32,1)","v":{"$error":"#NUM!"}},{"$f":"SMALL(O32:X32,2)","v":{"$error":"#NUM!"}},{"$f":"SMALL(O32:X32,3)","v":{"$error":"#NUM!"}},{"$f":"SMALL(O32:X32,4)","v":{"$error":"#NUM!"}},{"$f":"SMALL(O32:X32,5)","v":{"$error":"#NUM!"}}]
[]
[11,{"$f":"VLOOKUP(A34,namelist,3)","v":"田辺庄司"},{"$f":"ROUND((1-E34)*(1-G34)*H34,1)","v":7},null,{"$f":"IF(D34=0,0,CHOOSE(D34,$E$9,$E$10,$E$11))","v":0},null,{"$f":"IF(F34=0,0,(CHOOSE(F34,$E$9,$E$10,$E$11))*$G$11)","v":0},{"$f":"ROUND(I34*wariai,1)","v":7},{"$f":"AVERAGE(J34:N34)","v":7.3},9.5,{"$f":"SMALL(O34:X34,2)","v":6},{"$f":"SMALL(O34:X34,3)","v":6},{"$f":"SMALL(O34:X34,4)","v":7},{"$f":"SMALL(O34:X34,5)","v":8},12,8,9,13,8,6,6,12,7,6]
[null,null,null,null,null,null,null,null,null,null,null,null,null,null,"2025-11-29","2025-11-21","2025-11-15","2025-11-01","2025-10-25","2025-10-17","2025-09-27","2025-09-19","2025-09-06","2025-08-30"]
[12,{"$f":"VLOOKUP(A36,namelist,3)","v":0},{"$f":"ROUND((1-E36-G36)*H36,1)","v":24},null,{"$f":"IF(D36=0,0,CHOOSE(D36,$E$9,$E$10,$E$11))","v":0},null,{"$f":"IF(F36=0,0,(CHOOSE(F36,$E$9,$E$10,$E$11))*$G$11)","v":0},{"$f":"ROUND(I36*wariai,1)","v":24},{"$f":"AVERAGE(J36:N36)","v":25},{"$f":"SMALL(O36:X36,1)","v":20},{"$f":"SMALL(O36:X36,2)","v":24},{"$f":"SMALL(O36:X36,3)","v":26},{"$f":"SMALL(O36:X36,4)","v":27},{"$f":"SMALL(O36:X36,5)","v":28},20,26,24,33,28,32,32,29,27,33]
[null,null,null,null,null,null,null,null,null,null,null,null,null,null,"2020-11-09","2020-10-31","2020-08-15","2020-08-08","2020-07-11","2020-06-27","2020-03-21","2019-11-16","2019-11-02","2019-08-03"]
[13,{"$f":"VLOOKUP(A38,namelist,3)","v":"朱雀　健"},{"$f":"ROUND((1-E38-G38)*H38,1)","v":17.7},1,{"$f":"IF(D38=0,0,CHOOSE(D38,$E$9,$E$10,$E$11))","v":0.2},null,{"$f":"IF(F38=0,0,(CHOOSE(F38,$E$9,$E$10,$E$11))*$G$11)","v":0},{"$f":"ROUND(I38*wariai,1)","v":22.1},{"$f":"AVERAGE(J38:N38)","v":23},{"$f":"SMALL(O38:X38,1)","v":16},{"$f":"SMALL(O38:X38,2)","v":23},{"$f":"SMALL(O38:X38,3)","v":24},{"$f":"SMALL(O38:X38,4)","v":26},{"$f":"SMALL(O38:X38,5)","v":26},47,32,26,28,33,40,26,23,16,24]
[null,null,null,null,null,null,null,null,null,null,null,null,null,null,"2025-11-29","2025-11-08","2025-10-04","2025-09-19","2025-09-13","2025-08-30","2025-07-18","2025-07-12","2025-07-05","2025-06-28"]
[14,{"$f":"VLOOKUP(A40,namelist,3)","v":"高木克三"},{"$f":"ROUND((1-E40-G40)*H40,1)","v":20.5},null,{"$f":"IF(D40=0,0,CHOOSE(D40,$E$9,$E$10,$E$11))","v":0},0,{"$f":"IF(F40=0,0,(CHOOSE(F40,$E$9,$E$10,$E$11))*$G$11)","v":0},{"$f":"ROUND(I40*wariai,1)","v":20.5},{"$f":"AVERAGE(J40:N40)","v":21.4},{"$f":"SMALL(O40:X40,1)","v":19},{"$f":"SMALL(O40:X40,2)","v":19},{"$f":"SMALL(O40:X40,3)","v":21},{"$f":"SMALL(O40:X40,4)","v":24},{"$f":"SMALL(O40:X40,5)","v":24},32,31,24,24,27,19,27,27,19,21]
[null,null,null,null,null,null,null,null,null,null,null,null,null,null,"2025-11-21","2025-11-15","2025-11-01","2025-10-17","2025-10-11","2025-10-04","2025-09-19","2025-09-06","2025-08-15","2025-08-09"]
[15,{"$f":"VLOOKUP(A42,namelist,3)","v":"中岡　信"},{"$f":"ROUND((1-E42-G42)*H42,1)","v":18.2},1,{"$f":"IF(D42=0,0,CHOOSE(D42,$E$9,$E$10,$E$11))","v":0.2},null,{"$f":"IF(F42=0,0,(CHOOSE(F42,$E$9,$E$10,$E$11))*$G$11)","v":0},{"$f":"ROUND(I42*wariai,1)","v":22.8},{"$f":"AVERAGE(J42:N42)","v":23.8},{"$f":"SMALL(O42:X42,1)","v":19},{"$f":"SMALL(O42:X42,2)","v":21},{"$f":"SMALL(O42:X42,3)","v":23},{"$f":"SMALL(O42:X42,4)","v":25},{"$f":"SMALL(O42:X42,5)","v":31},31,48,31,32,19,32,35,21,23,25]
[null,null,null,null,null,null,null,null,null,null,null,null,null,null,"2025-11-21","2025-11-08","2025-11-01","2025-10-17","2025-10-11","2025-10-04","2025-09-27","2025-09-13","2025-09-06","2025-08-30"]
[16,{"$f":"VLOOKUP(A44,namelist,3)","v":"佐藤瑠美"},40.4,null,{"$f":"IF(D44=0,0,CHOOSE(D44,$E$9,$E$10,$E$11))","v":0},null,{"$f":"IF(F44=0,0,(CHOOSE(F44,$E$9,$E$10,$E$11))*$G$11)","v":0},{"$f":"ROUND(I44*wariai,1)","v":47.8},{"$f":"AVERAGE(J44:N44)","v":49.8},{"$f":"SMALL(O44:X44,1)","v":43},{"$f":"SMALL(O44:X44,2)","v":50},{"$f":"SMALL(O44:X44,3)","v":51},{"$f":"SMALL(O44:X44,4)","v":51},{"$f":"SMALL(O44:X44,5)","v":54},65,51,55,57,43,50,56,54,51,58]
[null,null,null,null,null,null,null,null,null,null,null,null,null,null,"2018-05-26","2018-04-21","2018-03-24","2018-03-10","2018-03-03","2018-02-10","2018-01-20","2018-01-13","2018-01-06","2017-12-16"]
[17,{"$f":"VLOOKUP(A46,namelist,3)","v":"佐藤英彦"},{"$f":"ROUND((1-E46-G46)*H46,1)","v":15.9},null,{"$f":"IF(D46=0,0,CHOOSE(D46,$E$9,$E$10,$E$11))","v":0},1,{"$f":"IF(F46=0,0,(CHOOSE(F46,$E$9,$E$10,$E$11))*$G$11)","v":0.1},{"$f":"ROUND(I46*wariai,1)","v":17.7},{"$f":"AVERAGE(J46:N46)","v":18.399999999999999},{"$f":"SMALL(O46:X46,1)","v":12},{"$f":"SMALL(O46:X46,2)","v":17},{"$f":"SMALL(O46:X46,3)","v":19},{"$f":"SMALL(O46:X46,4)","v":22},{"$f":"SMALL(O46:X46,5)","v":22},24,25,19,26,22,23,22,24,12,17]
[null,null,null,null,null,null,null,null,null,null,null,null,null,null,"2025-11-29","2025-11-21","2025-11-08","2025-10-04","2025-09-27","2025-09-19","2025-09-06","2025-08-30","2025-08-23","2025-08-15"]
[18,{"$f":"VLOOKUP(A48,namelist,3)","v":"酒井里子"},{"$f":"ROUND((1-E48-G48)*H48,1)","v":15.9},null,{"$f":"IF(D48=0,0,CHOOSE(D48,$E$9,$E$10,$E$11))","v":0},null,{"$f":"IF(F48=0,0,(CHOOSE(F48,$E$9,$E$10,$E$11))*$G$11)","v":0},{"$f":"ROUND(I48*wariai,1)","v":15.9},{"$f":"AVERAGE(J48:N48)","v":16.600000000000001},{"$f":"SMALL(O48:X48,1)","v":14},{"$f":"SMALL(O48:X48,2)","v":14},{"$f":"SMALL(O48:X48,3)","v":16},{"$f":"SMALL(O48:X48,4)","v":18},{"$f":"SMALL(O48:X48,5)","v":21},23,14,21,23,22,14,16,18,21,23]
[null,null,null,null,null,null,null,null,null,null,null,null,null,null,"2025-10-17","2025-09-27","2025-09-19","2025-08-23","2025-08-15","2025-08-09","2025-05-24","2025-05-16","2025-03-21","2025-01-25"]
[19,{"$f":"VLOOKUP(A50,namelist,3)","v":0},{"$f":"ROUND((1-E50-G50)*H50,1)","v":20.399999999999999},null,{"$f":"IF(D50=0,0,CHOOSE(D50,$E$9,$E$10,$E$11))","v":0},null,{"$f":"IF(F50=0,0,(CHOOSE(F50,$E$9,$E$10,$E$11))*$G$11)","v":0},{"$f":"ROUND(I50*wariai,1)","v":20.399999999999999},{"$f":"AVERAGE(J50:N50)","v":21.2},{"$f":"SMALL(O50:X50,1)","v":18},{"$f":"SMALL(O50:X50,2)","v":18},{"$f":"SMALL(O50:X50,3)","v":21},{"$f":"SMALL(O50:X50,4)","v":23},{"$f":"SMALL(O50:X50,5)","v":26},26,30,35,21,18,38,27,35,18,23]
[null,null,null,null,null,null,null,null,null,null,null,null,null,null,"2021-03-06","2021-02-27","2021-02-20","2021-02-13","2021-02-08","2021-01-30","2021-01-16","2021-01-09","2021-01-04","2020-12-26"]
[20,{"$f":"VLOOKUP(A52,namelist,3)","v":0},{"$f":"ROUND((1-E52-G52)*H52,1)","v":25.2},null,{"$f":"IF(D52=0,0,CHOOSE(D52,$E$9,$E$10,$E$11))","v":0},null,{"$f":"IF(F52=0,0,(CHOOSE(F52,$E$9,$E$10,$E$11))*$G$11)","v":0},{"$f":"ROUND(I52*wariai,1)","v":25.2},{"$f":"AVERAGE(J52:N52)","v":26.2},{"$f":"SMALL(O52:X52,1)","v":21},{"$f":"SMALL(O52:X52,2)","v":22},{"$f":"SMALL(O52:X52,3)","v":25},{"$f":"SMALL(O52:X52,4)","v":31},{"$f":"SMALL(O52:X52,5)","v":32},46,33,37,33,25,21,39,32,31,22]
[null,null,null,null,null,null,null,null,null,null,null,null,null,null,"2021-04-17","2021-04-10","2021-03-27","2021-02-20","2020-12-19","2020-12-07","2020-11-28","2020-11-21","2020-11-09","2020-09-19"]
[21,{"$f":"VLOOKUP(A54,namelist,3)","v":0},{"$f":"ROUND((1-E54-G54)*H54,1)","v":25},null,{"$f":"IF(D54=0,0,CHOOSE(D54,$E$9,$E$10,$E$11))","v":0},null,{"$f":"IF(F54=0,0,(CHOOSE(F54,$E$9,$E$10,$E$11))*$G$11)","v":0},{"$f":"ROUND(I54*wariai,1)","v":25},{"$f":"AVERAGE(J54:N54)","v":26},{"$f":"SMALL(O54:X54,1)","v":21},{"$f":"SMALL(O54:X54,2)","v":25},{"$f":"SMALL(O54:X54,3)","v":27},{"$f":"SMALL(O54:X54,4)","v":28},{"$f":"SMALL(O54:X54,5)","v":29},41,32,27,32,28,21,29,29,30,25]
[null,null,null,null,null,null,null,null,null,null,null,null,null,null,"2020-12-07","2020-10-24","2020-10-03","2020-09-19","2020-05-11","2020-04-11","2020-03-28","2020-03-21","2020-01-25","2019-12-28"]
[22,{"$f":"VLOOKUP(A56,namelist,3)","v":"米原　治"},36.4,null,{"$f":"IF(D56=0,0,CHOOSE(D56,$E$9,$E$10,$E$11))","v":0},null,{"$f":"IF(F56=0,0,(CHOOSE(F56,$E$9,$E$10,$E$11))*$G$11)","v":0},{"$f":"ROUND(I56*wariai,1)","v":37.799999999999997},{"$f":"AVERAGE(J56:N56)","v":39.4},{"$f":"SMALL(O56:X56,1)","v":35},{"$f":"SMALL(O56:X56,2)","v":38},{"$f":"SMALL(O56:X56,3)","v":39},{"$f":"SMALL(O56:X56,4)","v":41},{"$f":"SMALL(O56:X56,5)","v":44},53,35,38,41,39,61,49,45,44,57]
[null,null,null,null,null,null,null,null,null,null,null,null,null,null,"2025-11-21","2025-11-08","2025-06-07","2025-05-24","2025-03-15","2024-12-07","2024-11-30","2024-11-09","2024-04-13","2023-12-09"]
[23,{"$f":"VLOOKUP(A58,namelist,3)","v":"村上欣永"},36.4,null,{"$f":"IF(D58=0,0,CHOOSE(D58,$E$9,$E$10,$E$11))","v":0},null,{"$f":"IF(F58=0,0,(CHOOSE(F58,$E$9,$E$10,$E$11))*$G$11)","v":0},{"$f":"ROUND(I58*wariai,1)","v":42.6},{"$f":"AVERAGE(J58:N58)","v":44.4},{"$f":"SMALL(O58:X58,1)","v":36},{"$f":"SMALL(O58:X58,2)","v":43},{"$f":"SMALL(O58:X58,3)","v":46},{"$f":"SMALL(O58:X58,4)","v":48},{"$f":"SMALL(O58:X58,5)","v":49},36,43,48,65,49,54,46,52,54,49]
[null,null,null,null,null,null,null,null,null,null,null,null,null,null,"2025-04-05","2025-03-21","2025-03-15","2025-03-08","2025-03-01","2024-12-07","2024-11-15","2024-11-09","2024-10-18","2024-10-12"]
[24,{"$f":"VLOOKUP(A60,namelist,3)","v":0},{"$f":"ROUND((1-E60-G60)*H60,1)","v":20.5},null,{"$f":"IF(D60=0,0,CHOOSE(D60,$E$9,$E$10,$E$11))","v":0},null,{"$f":"IF(F60=0,0,(CHOOSE(F60,$E$9,$E$10,$E$11))*$G$11)","v":0},{"$f":"ROUND(I60*wariai,1)","v":20.5},{"$f":"AVERAGE(J60:N60)","v":21.4},{"$f":"SMALL(O60:X60,1)","v":19},{"$f":"SMALL(O60:X60,2)","v":21},{"$f":"SMALL(O60:X60,3)","v":21},{"$f":"SMALL(O60:X60,4)","v":22},{"$f":"SMALL(O60:X60,5)","v":24},29,28,22,21,19,32,24,26,30,21]
[null,null,null,null,null,null,null,null,null,null,null,null,null,null,"2020-12-26","2020-10-03","2020-09-26","2020-08-22","2020-08-15","2020-08-08","2020-07-25","2020-07-11","2020-06-27","2020-06-20"]
[25,{"$f":"VLOOKUP(A62,namelist,3)","v":"尾野本哲廣"},{"$f":"ROUND((1-E62-G62)*H62,1)-2.5","v":19.600000000000001},null,{"$f":"IF(D62=0,0,CHOOSE(D62,$E$9,$E$10,$E$11))","v":0},null,{"$f":"IF(F62=0,0,(CHOOSE(F62,$E$9,$E$10,$E$11))*$G$11)","v":0},{"$f":"ROUND(I62*wariai,1)","v":22.1},{"$f":"AVERAGE(J62:N62)","v":23},{"$f":"SMALL(O62:X62,1)","v":22},{"$f":"SMALL(O62:X62,2)","v":22},{"$f":"SMALL(O62:X62,3)","v":23},{"$f":"SMALL(O62:X62,4)","v":24},{"$f":"SMALL(O62:X62,5)","v":24},22,24,27,35,33,34,22,24,23,27]
[null,null,null,null,null,null,null,null,null,null,null,null,null,null,"2025-11-29","2025-11-21","2025-11-15","2025-11-08","2025-11-01","2025-10-17","2025-10-04","2025-09-27","2025-09-06","2025-08-23"]
[26,{"$f":"VLOOKUP(A64,namelist,3)","v":0},{"$f":"ROUND((1-E64-G64)*H64,1)","v":27.1},null,{"$f":"IF(D64=0,0,CHOOSE(D64,$E$9,$E$10,$E$11))","v":0},null,{"$f":"IF(F64=0,0,(CHOOSE(F64,$E$9,$E$10,$E$11))*$G$11)","v":0},{"$f":"ROUND(I64*wariai,1)","v":27.1},{"$f":"AVERAGE(J64:N64)","v":28.2},{"$f":"SMALL(O64:X64,1)","v":23},{"$f":"SMALL(O64:X64,2)","v":23},{"$f":"SMALL(O64:X64,3)","v":26},{"$f":"SMALL(O64:X64,4)","v":34},{"$f":"SMALL(O64:X64,5)","v":35},26,23,36,36,35,36,34,36,23,39]
[null,null,null,null,null,null,null,null,null,null,null,null,null,null,"2021-02-27","2020-10-31","2020-10-31","2020-10-12","2020-09-26","2020-08-03","2020-06-27","2020-06-20","2020-05-30","2020-04-06"]
[27,{"$f":"VLOOKUP(A66,namelist,3)","v":"角田啓三郎"},{"$f":"ROUND((1-E66-G66)*H66,1)","v":12.9},null,{"$f":"IF(D66=0,0,CHOOSE(D66,$E$9,$E$10,$E$11))","v":0},null,{"$f":"IF(F66=0,0,(CHOOSE(F66,$E$9,$E$10,$E$11))*$G$11)","v":0},{"$f":"ROUND(I66*wariai,1)","v":12.9},{"$f":"AVERAGE(J66:N66)","v":13.4},{"$f":"SMALL(O66:X66,1)","v":11},{"$f":"SMALL(O66:X66,2)","v":13},{"$f":"SMALL(O66:X66,3)","v":14},{"$f":"SMALL(O66:X66,4)","v":14},{"$f":"SMALL(O66:X66,5)","v":15},25,13,23,20,23,14,15,11,14,16]
[null,null,null,null,null,null,null,null,null,null,null,null,null,null,"2025-11-15","2025-11-08","2025-11-01","2025-10-04","2025-09-13","2025-09-06","2025-08-09","2025-08-02","2025-07-12","2025-07-05"]
[28,{"$f":"VLOOKUP(A68,namelist,3)","v":"岩橋みどり"},{"$f":"ROUND((1-E68-G68)*H68,1)","v":11.1},null,{"$f":"IF(D68=0,0,CHOOSE(D68,$E$9,$E$10,$E$11))","v":0},null,{"$f":"IF(F68=0,0,(CHOOSE(F68,$E$9,$E$10,$E$11))*$G$11)","v":0},{"$f":"ROUND(I68*wariai,1)","v":11.1},{"$f":"AVERAGE(J68:N68)","v":11.6},{"$f":"SMALL(O68:X68,1)","v":10},{"$f":"SMALL(O68:X68,2)","v":11},{"$f":"SMALL(O68:X68,3)","v":12},{"$f":"SMALL(O68:X68,4)","v":12},{"$f":"SMALL(O68:X68,5)","v":13},20,13,16,12,20,10,15,12,11,13]
[null,null,null,null,null,null,null,null,null,null,null,null,null,null,"2025-11-29","2025-10-25","2025-10-11","2025-09-27","2025-09-06","2025-08-30","2025-08-23","2025-08-02","2025-07-26","2025-07-12"]
[29,{"$f":"VLOOKUP(A70,namelist,3)","v":"岩橋　厚"},{"$f":"ROUND((1-E70-G70)*H70,1)","v":12.3},null,{"$f":"IF(D70=0,0,CHOOSE(D70,$E$9,$E$10,$E$11))","v":0},null,{"$f":"IF(F70=0,0,(CHOOSE(F70,$E$9,$E$10,$E$11))*$G$11)","v":0},{"$f":"ROUND(I70*wariai,1)","v":12.3},{"$f":"AVERAGE(J70:N70)","v":12.8},{"$f":"SMALL(O70:X70,1)","v":9},{"$f":"SMALL(O70:X70,2)","v":12},{"$f":"SMALL(O70:X70,3)","v":14},{"$f":"SMALL(O70:X70,4)","v":14},{"$f":"SMALL(O70:X70,5)","v":15},14,15,9,17,14,18,16,26,24,12]
[null,null,null,null,null,null,null,null,null,null,null,null,null,null,"2025-10-17","2025-10-11","2025-10-04","2025-09-06","2025-08-15","2025-06-20","2025-05-16","2024-12-14","2024-12-07","2024-11-30"]
[30,{"$f":"VLOOKUP(A72,namelist,3)","v":"星山　隆"},{"$f":"ROUND((1-E72-G72)*H72,1)","v":14.2},null,{"$f":"IF(D72=0,0,CHOOSE(D72,$E$9,$E$10,$E$11))","v":0},null,{"$f":"IF(F72=0,0,(CHOOSE(F72,$E$9,$E$10,$E$11))*$G$11)","v":0},{"$f":"ROUND(I72*wariai,1)","v":14.2},{"$f":"AVERAGE(J72:N72)","v":14.8},{"$f":"SMALL(O72:X72,1)","v":10},{"$f":"SMALL(O72:X72,2)","v":15},{"$f":"SMALL(O72:X72,3)","v":15},{"$f":"SMALL(O72:X72,4)","v":17},{"$f":"SMALL(O72:X72,5)","v":17},22,30,15,21,18,22,15,17,17,10]
[null,null,null,null,null,null,null,null,null,null,null,null,null,null,"2025-11-29","2025-11-15","2025-11-01","2025-10-17","2025-10-11","2025-10-04","2025-09-19","2025-09-06","2025-08-23","2025-08-15"]
[31,{"$f":"VLOOKUP(A74,namelist,3)","v":"高雄　徹"},{"$f":"ROUND((1-E74-G74)*H74,1)","v":6.3},null,{"$f":"IF(D74=0,0,CHOOSE(D74,$E$9,$E$10,$E$11))","v":0},null,{"$f":"IF(F74=0,0,(CHOOSE(F74,$E$9,$E$10,$E$11))*$G$11)","v":0},{"$f":"ROUND(I74*wariai,1)","v":6.3},{"$f":"AVERAGE(J74:N74)","v":6.6},{"$f":"SMALL(O74:X74,1)","v":5},{"$f":"SMALL(O74:X74,2)","v":7},{"$f":"SMALL(O74:X74,3)","v":7},{"$f":"SMALL(P74:Y74,3)","v":7},{"$f":"SMALL(Q74:Z74,3)","v":7},16,23,8,14,9,18,12,7,7,5]
[null,null,null,null,null,null,null,null,null,null,null,null,null,null,"2025-11-29","2025-11-21","2025-11-15","2025-11-08","2025-11-01","2025-10-25","2025-10-17","2025-10-11","2025-10-04","2025-09-27"]
[32,{"$f":"VLOOKUP(A76,namelist,3)","v":"海原範隆"},31.7,null,{"$f":"IF(D76=0,0,CHOOSE(D76,$E$9,$E$10,$E$11))","v":0},null,{"$f":"IF(F76=0,0,(CHOOSE(F76,$E$9,$E$10,$E$11))*$G$11)","v":0},{"$f":"ROUND(I76*wariai,1)","v":32.4},{"$f":"AVERAGE(J76:N76)","v":33.799999999999997},{"$f":"SMALL(O76:X76,1)","v":31},{"$f":"SMALL(O76:X76,2)","v":33},{"$f":"SMALL(O76:X76,3)","v":35},{"$f":"SMALL(O76:X76,4)","v":35},{"$f":"SMALL(O76:X76,5)","v":35},35,35,33,35,31,40]
[null,null,null,null,null,null,null,null,null,null,null,null,null,null,"2025-11-29","2025-11-08","2025-10-04","2025-09-27","2025-09-13","2025-06-20"]
[33,{"$f":"VLOOKUP(A78,namelist,3)","v":"後藤聡志"},21.4,null,{"$f":"IF(D78=0,0,CHOOSE(D78,$E$9,$E$10,$E$11))","v":0},null,{"$f":"IF(F78=0,0,(CHOOSE(F78,$E$9,$E$10,$E$11))*$G$11)","v":0},{"$f":"ROUND(I78*wariai,1)","v":23.8},{"$f":"AVERAGE(J78:N78)","v":24.8},{"$f":"SMALL(O78:X78,1)","v":18},{"$f":"SMALL(O78:X78,2)","v":24},{"$f":"SMALL(O78:X78,3)","v":25},{"$f":"SMALL(O78:X78,4)","v":28},{"$f":"SMALL(O78:X78,5)","v":29},29,25,18,31,28,24]
[null,null,null,null,null,null,null,null,null,null,null,null,null,null,"2025-11-29","2025-11-15","2025-10-25","2025-10-11","2025-10-04","2025-09-27"]
[34,{"$f":"VLOOKUP(A80,namelist,3)","v":0},{"$f":"H80","v":0},null,{"$f":"IF(D80=0,0,CHOOSE(D80,$E$9,$E$10,$E$11))","v":0},null,{"$f":"IF(F80=0,0,(CHOOSE(F80,$E$9,$E$10,$E$11))*$G$11)","v":0},{"$f":"ROUND(I80*wariai,1)","v":0},{"$f":"AVERAGE(J80:N80)","v":0},{"$f":"SMALL(O80:X80,1)","v":0},{"$f":"SMALL(O80:X80,2)","v":0},{"$f":"SMALL(O80:X80,3)","v":0},{"$f":"SMALL(O80:X80,4)","v":0},{"$f":"SMALL(O80:X80,5)","v":0},null,0,0,0,0,0]
[]
[35,{"$f":"VLOOKUP(A82,namelist,3)","v":0},{"$f":"ROUND((1-E82-G82)*H82,1)","v":{"$error":"#NUM!"}},null,{"$f":"IF(D82=0,0,CHOOSE(D82,$E$9,$E$10,$E$11))","v":0},null,{"$f":"IF(F82=0,0,(CHOOSE(F82,$E$9,$E$10,$E$11))*$G$11)","v":0},{"$f":"ROUND(I82*wariai,1)","v":{"$error":"#NUM!"}},{"$f":"AVERAGE(J82:N82)","v":{"$error":"#NUM!"}},{"$f":"SMALL(O82:X82,1)","v":{"$error":"#NUM!"}},{"$f":"SMALL(O82:X82,2)","v":{"$error":"#NUM!"}},{"$f":"SMALL(O82:X82,3)","v":{"$error":"#NUM!"}},{"$f":"SMALL(O82:X82,4)","v":{"$error":"#NUM!"}},{"$f":"SMALL(O82:X82,5)","v":{"$error":"#NUM!"}}]
[]
[36,{"$f":"VLOOKUP(A84,namelist,3)","v":0},{"$f":"ROUND((1-E84-G84)*H84,1)","v":{"$error":"#NUM!"}},null,{"$f":"IF(D84=0,0,CHOOSE(D84,$E$9,$E$10,$E$11))","v":0},null,{"$f":"IF(F84=0,0,(CHOOSE(F84,$E$9,$E$10,$E$11))*$G$11)","v":0},{"$f":"ROUND(I84*wariai,1)","v":{"$error":"#NUM!"}},{"$f":"AVERAGE(J84:N84)","v":{"$error":"#NUM!"}},{"$f":"SMALL(O84:X84,1)","v":{"$error":"#NUM!"}},{"$f":"SMALL(O84:X84,2)","v":{"$error":"#NUM!"}},{"$f":"SMALL(O84:X84,3)","v":{"$error":"#NUM!"}},{"$f":"SMALL(O84:X84,4)","v":{"$error":"#NUM!"}},{"$f":"SMALL(O84:X84,5)","v":{"$error":"#NUM!"}}]
[]
[37,{"$f":"VLOOKUP(A86,namelist,3)","v":0},{"$f":"ROUND((1-E86-G86)*H86,1)","v":{"$error":"#NUM!"}},null,{"$f":"IF(D86=0,0,CHOOSE(D86,$E$9,$E$10,$E$11))","v":0},null,{"$f":"IF(F86=0,0,(CHOOSE(F86,$E$9,$E$10,$E$11))*$G$11)","v":0},{"$f":"ROUND(I86*wariai,1)","v":{"$error":"#NUM!"}},{"$f":"AVERAGE(J86:N86)","v":{"$error":"#NUM!"}},{"$f":"SMALL(O86:X86,1)","v":{"$error":"#NUM!"}},{"$f":"SMALL(O86:X86,2)","v":{"$error":"#NUM!"}},{"$f":"SMALL(O86:X86,3)","v":{"$error":"#NUM!"}},{"$f":"SMALL(O86:X86,4)","v":{"$error":"#NUM!"}},{"$f":"SMALL(O86:X86,5)","v":{"$error":"#NUM!"}}]
[]
[38,{"$f":"VLOOKUP(A88,namelist,3)","v":0},{"$f":"ROUND((1-E88-G88)*H88,1)","v":{"$error":"#NUM!"}},null,{"$f":"IF(D88=0,0,CHOOSE(D88,$E$9,$E$10,$E$11))","v":0},null,{"$f":"IF(F88=0,0,(CHOOSE(F88,$E$9,$E$10,$E$11))*$G$11)","v":0},{"$f":"ROUND(I88*wariai,1)","v":{"$error":"#NUM!"}},{"$f":"AVERAGE(J88:N88)","v":{"$error":"#NUM!"}},{"$f":"SMALL(O88:X88,1)","v":{"$error":"#NUM!"}},{"$f":"SMALL(O88:X88,2)","v":{"$error":"#NUM!"}},{"$f":"SMALL(O88:X88,3)","v":{"$error":"#NUM!"}},{"$f":"SMALL(O88:X88,4)","v":{"$error":"#NUM!"}},{"$f":"SMALL(O88:X88,5)","v":{"$error":"#NUM!"}}]
[]
[39,{"$f":"VLOOKUP(A90,namelist,3)","v":0},{"$f":"ROUND((1-E90-G90)*H90,1)","v":{"$error":"#NUM!"}},null,{"$f":"IF(D90=0,0,CHOOSE(D90,$E$9,$E$10,$E$11))","v":0},null,{"$f":"IF(F90=0,0,(CHOOSE(F90,$E$9,$E$10,$E$11))*$G$11)","v":0},{"$f":"ROUND(I90*wariai,1)","v":{"$error":"#NUM!"}},{"$f":"AVERAGE(J90:N90)","v":{"$error":"#NUM!"}},{"$f":"SMALL(O90:X90,1)","v":{"$error":"#NUM!"}},{"$f":"SMALL(O90:X90,2)","v":{"$error":"#NUM!"}},{"$f":"SMALL(O90:X90,3)","v":{"$error":"#NUM!"}},{"$f":"SMALL(O90:X90,4)","v":{"$error":"#NUM!"}},{"$f":"SMALL(O90:X90,5)","v":{"$error":"#NUM!"}}]
[]
[40,{"$f":"VLOOKUP(A92,namelist,3)","v":0},{"$f":"ROUND((1-E92-G92)*H92,1)","v":{"$error":"#NUM!"}},null,{"$f":"IF(D92=0,0,CHOOSE(D92,$E$9,$E$10,$E$11))","v":0},null,{"$f":"IF(F92=0,0,(CHOOSE(F92,$E$9,$E$10,$E$11))*$G$11)","v":0},{"$f":"ROUND(I92*wariai,1)","v":{"$error":"#NUM!"}},{"$f":"AVERAGE(J92:N92)","v":{"$error":"#NUM!"}},{"$f":"SMALL(O92:X92,1)","v":{"$error":"#NUM!"}},{"$f":"SMALL(O92:X92,2)","v":{"$error":"#NUM!"}},{"$f":"SMALL(O92:X92,3)","v":{"$error":"#NUM!"}},{"$f":"SMALL(O92:X92,4)","v":{"$error":"#NUM!"}},{"$f":"SMALL(O92:X92,5)","v":{"$error":"#NUM!"}}]
[]
[41,{"$f":"VLOOKUP(A94,namelist,3)","v":0},{"$f":"ROUND((1-E94-G94)*H94,1)","v":{"$error":"#NUM!"}},null,{"$f":"IF(D94=0,0,CHOOSE(D94,$E$9,$E$10,$E$11))","v":0},null,{"$f":"IF(F94=0,0,(CHOOSE(F94,$E$9,$E$10,$E$11))*$G$11)","v":0},{"$f":"ROUND(I94*wariai,1)","v":{"$error":"#NUM!"}},{"$f":"AVERAGE(J94:N94)","v":{"$error":"#NUM!"}},{"$f":"SMALL(O94:X94,1)","v":{"$error":"#NUM!"}},{"$f":"SMALL(O94:X94,2)","v":{"$error":"#NUM!"}},{"$f":"SMALL(O94:X94,3)","v":{"$error":"#NUM!"}},{"$f":"SMALL(O94:X94,4)","v":{"$error":"#NUM!"}},{"$f":"SMALL(O94:X94,5)","v":{"$error":"#NUM!"}}]
[]
[42,{"$f":"VLOOKUP(A96,namelist,3)","v":0},{"$f":"ROUND((1-E96-G96)*H96,1)","v":{"$error":"#NUM!"}},null,{"$f":"IF(D96=0,0,CHOOSE(D96,$E$9,$E$10,$E$11))","v":0},null,{"$f":"IF(F96=0,0,(CHOOSE(F96,$E$9,$E$10,$E$11))*$G$11)","v":0},{"$f":"ROUND(I96*wariai,1)","v":{"$error":"#NUM!"}},{"$f":"AVERAGE(J96:N96)","v":{"$error":"#NUM!"}},{"$f":"SMALL(O96:X96,1)","v":{"$error":"#NUM!"}},{"$f":"SMALL(O96:X96,2)","v":{"$error":"#NUM!"}},{"$f":"SMALL(O96:X96,3)","v":{"$error":"#NUM!"}},{"$f":"SMALL(O96:X96,4)","v":{"$error":"#NUM!"}},{"$f":"SMALL(O96:X96,5)","v":{"$error":"#NUM!"}}]
[]
[43,{"$f":"VLOOKUP(A98,namelist,3)","v":0},{"$f":"ROUND((1-E98-G98)*H98,1)","v":{"$error":"#NUM!"}},null,{"$f":"IF(D98=0,0,CHOOSE(D98,$E$9,$E$10,$E$11))","v":0},null,{"$f":"IF(F98=0,0,(CHOOSE(F98,$E$9,$E$10,$E$11))*$G$11)","v":0},{"$f":"ROUND(I98*wariai,1)","v":{"$error":"#NUM!"}},{"$f":"AVERAGE(J98:N98)","v":{"$error":"#NUM!"}},{"$f":"SMALL(O98:X98,1)","v":{"$error":"#NUM!"}},{"$f":"SMALL(O98:X98,2)","v":{"$error":"#NUM!"}},{"$f":"SMALL(O98:X98,3)","v":{"$error":"#NUM!"}},{"$f":"SMALL(O98:X98,4)","v":{"$error":"#NUM!"}},{"$f":"SMALL(O98:X98,5)","v":{"$error":"#NUM!"}}]
[]
[44,{"$f":"VLOOKUP(A100,namelist,3)","v":0},{"$f":"ROUND((1-E100-G100)*H100,1)","v":{"$error":"#NUM!"}},null,{"$f":"IF(D100=0,0,CHOOSE(D100,$E$9,$E$10,$E$11))","v":0},null,{"$f":"IF(F100=0,0,(CHOOSE(F100,$E$9,$E$10,$E$11))*$G$11)","v":0},{"$f":"ROUND(I100*wariai,1)","v":{"$error":"#NUM!"}},{"$f":"AVERAGE(J100:N100)","v":{"$error":"#NUM!"}},{"$f":"SMALL(O100:X100,1)","v":{"$error":"#NUM!"}},{"$f":"SMALL(O100:X100,2)","v":{"$error":"#NUM!"}},{"$f":"SMALL(O100:X100,3)","v":{"$error":"#NUM!"}},{"$f":"SMALL(O100:X100,4)","v":{"$error":"#NUM!"}},{"$f":"SMALL(O100:X100,5)","v":{"$error":"#NUM!"}}]
[]
[45,{"$f":"VLOOKUP(A102,namelist,3)","v":0},{"$f":"ROUND((1-E102-G102)*H102,1)","v":{"$error":"#NUM!"}},null,{"$f":"IF(D102=0,0,CHOOSE(D102,$E$9,$E$10,$E$11))","v":0},null,{"$f":"IF(F102=0,0,(CHOOSE(F102,$E$9,$E$10,$E$11))*$G$11)","v":0},{"$f":"ROUND(I102*wariai,1)","v":{"$error":"#NUM!"}},{"$f":"AVERAGE(J102:N102)","v":{"$error":"#NUM!"}},{"$f":"SMALL(O102:X102,1)","v":{"$error":"#NUM!"}},{"$f":"SMALL(O102:X102,2)","v":{"$error":"#NUM!"}},{"$f":"SMALL(O102:X102,3)","v":{"$error":"#NUM!"}},{"$f":"SMALL(O102:X102,4)","v":{"$error":"#NUM!"}},{"$f":"SMALL(O102:X102,5)","v":{"$error":"#NUM!"}}]
[]
[46,{"$f":"VLOOKUP(A104,namelist,3)","v":0},{"$f":"ROUND((1-E104-G104)*H104,1)","v":{"$error":"#NUM!"}},null,{"$f":"IF(D104=0,0,CHOOSE(D104,$E$9,$E$10,$E$11))","v":0},null,{"$f":"IF(F104=0,0,(CHOOSE(F104,$E$9,$E$10,$E$11))*$G$11)","v":0},{"$f":"ROUND(I104*wariai,1)","v":{"$error":"#NUM!"}},{"$f":"AVERAGE(J104:N104)","v":{"$error":"#NUM!"}},{"$f":"SMALL(O104:X104,1)","v":{"$error":"#NUM!"}},{"$f":"SMALL(O104:X104,2)","v":{"$error":"#NUM!"}},{"$f":"SMALL(O104:X104,3)","v":{"$error":"#NUM!"}},{"$f":"SMALL(O104:X104,4)","v":{"$error":"#NUM!"}},{"$f":"SMALL(O104:X104,5)","v":{"$error":"#NUM!"}}]
[]
[47,{"$f":"VLOOKUP(A106,namelist,3)","v":0},{"$f":"ROUND((1-E106-G106)*H106,1)","v":{"$error":"#NUM!"}},null,{"$f":"IF(D106=0,0,CHOOSE(D106,$E$9,$E$10,$E$11))","v":0},null,{"$f":"IF(F106=0,0,(CHOOSE(F106,$E$9,$E$10,$E$11))*$G$11)","v":0},{"$f":"ROUND(I106*wariai,1)","v":{"$error":"#NUM!"}},{"$f":"AVERAGE(J106:N106)","v":{"$error":"#NUM!"}},{"$f":"SMALL(O106:X106,1)","v":{"$error":"#NUM!"}},{"$f":"SMALL(O106:X106,2)","v":{"$error":"#NUM!"}},{"$f":"SMALL(O106:X106,3)","v":{"$error":"#NUM!"}},{"$f":"SMALL(O106:X106,4)","v":{"$error":"#NUM!"}},{"$f":"SMALL(O106:X106,5)","v":{"$error":"#NUM!"}}]
[]
[48,{"$f":"VLOOKUP(A108,namelist,3)","v":0},{"$f":"ROUND((1-E108-G108)*H108,1)","v":{"$error":"#NUM!"}},null,{"$f":"IF(D108=0,0,CHOOSE(D108,$E$9,$E$10,$E$11))","v":0},null,{"$f":"IF(F108=0,0,(CHOOSE(F108,$E$9,$E$10,$E$11))*$G$11)","v":0},{"$f":"ROUND(I108*wariai,1)","v":{"$error":"#NUM!"}},{"$f":"AVERAGE(J108:N108)","v":{"$error":"#NUM!"}},{"$f":"SMALL(O108:X108,1)","v":{"$error":"#NUM!"}},{"$f":"SMALL(O108:X108,2)","v":{"$error":"#NUM!"}},{"$f":"SMALL(O108:X108,3)","v":{"$error":"#NUM!"}},{"$f":"SMALL(O108:X108,4)","v":{"$error":"#NUM!"}},{"$f":"SMALL(O108:X108,5)","v":{"$error":"#NUM!"}}]
[]
[49,{"$f":"VLOOKUP(A110,namelist,3)","v":0},{"$f":"ROUND((1-E110-G110)*H110,1)","v":{"$error":"#NUM!"}},null,{"$f":"IF(D110=0,0,CHOOSE(D110,$E$9,$E$10,$E$11))","v":0},null,{"$f":"IF(F110=0,0,(CHOOSE(F110,$E$9,$E$10,$E$11))*$G$11)","v":0},{"$f":"ROUND(I110*wariai,1)","v":{"$error":"#NUM!"}},{"$f":"AVERAGE(J110:N110)","v":{"$error":"#NUM!"}},{"$f":"SMALL(O110:X110,1)","v":{"$error":"#NUM!"}},{"$f":"SMALL(O110:X110,2)","v":{"$error":"#NUM!"}},{"$f":"SMALL(O110:X110,3)","v":{"$error":"#NUM!"}},{"$f":"SMALL(O110:X110,4)","v":{"$error":"#NUM!"}},{"$f":"SMALL(O110:X110,5)","v":{"$error":"#NUM!"}}]
[]
[50,{"$f":"VLOOKUP(A112,namelist,3)","v":0},{"$f":"ROUND((1-E112-G112)*H112,1)","v":{"$error":"#NUM!"}},null,{"$f":"IF(D112=0,0,CHOOSE(D112,$E$9,$E$10,$E$11))","v":0},null,{"$f":"IF(F112=0,0,(CHOOSE(F112,$E$9,$E$10,$E$11))*$G$11)","v":0},{"$f":"ROUND(I112*wariai,1)","v":{"$error":"#NUM!"}},{"$f":"AVERAGE(J112:N112)","v":{"$error":"#NUM!"}},{"$f":"SMALL(O112:X112,1)","v":{"$error":"#NUM!"}},{"$f":"SMALL(O112:X112,2)","v":{"$error":"#NUM!"}},{"$f":"SMALL(O112:X112,3)","v":{"$error":"#NUM!"}},{"$f":"SMALL(O112:X112,4)","v":{"$error":"#NUM!"}},{"$f":"SMALL(O112:X112,5)","v":{"$error":"#NUM!"}}]

{"sheet":"HDCP_old","index":8,"n_rows":112,"n_cols":24,"rows_kept":112,"cut":false,"hidden":false,"merged":[[8,14,8,23],[9,14,9,23],[10,7,11,7],[10,8,11,8],[10,9,10,13],[10,14,10,23]]}
[]
[null,"基準日を入力して、「HDCP計算開始ボタン」を押してください"]
[null,"ボタンを押す前に(本シートをHDCP_oldという名前のシートにコピーしておくこ！！！"]
[null,null,"開始行",8,null,"・プレーした最近のスコアカード10枚中のベストディファレンシャルカード5枚を用いる。",null,null,null,null,null,null,null,null,null,null,"優勝者は２０％カットを６ヶ月間、その後の６ヶ月間を１０％カットとする。（例：ＳＰ戦で優勝した場合次のＳＰ戦完了まで２０％カット、その次のＳＰ戦完了まで１０％カット）とする。"]
[null,null,"開始列",14,null,"･上記５回の平均値×0.96をHDCPとする（ストロークコントロールは考慮していない）",null,null,null,null,null,null,null,null,null,null,"（例：ＳＰ戦で優勝した場合次のＳＰ戦まで２０％カット、その次のＳＰ戦まで１０％カット）とする。"]
[null,null,null,null,null,"・但し、前回大会の順位により、カットをする。カット率は右の通り(09年7月より）",null,null,null,null,null,null,null,null,null,null,"更に、優勝者のカットは優勝した翌週から実施する。カットは前回（６月）のSP戦、マッチ戦に遡って実施する。"]
[null,"基準日↓：その日までのスコアでHDCPを計算する"]
[null,"2025-08-30"]
[null,null,null,"１位",0.2,null,null,"掛け率",null,null,null,null,null,null,"最近１０回のスコア"]
[null,null,null,"２位",0,null,null,0.96,null,null,null,null,null,null,"上段：スコア（オーバーパー）"]
[null,null,null,"３位",0,"前々回適用率",0.5,"計算\nHDCP","５回の\n平均","５回分の最小スコア",null,null,null,null,"下段（プレー日）"]
["ID","氏名","今回のHDCP","前回\n順位","カット率","前々回\n順位","カット率",null,null,1,2,3,4,5,1,2,3,4,5,6,7,8,9,10]
[]
[1,{"$f":"VLOOKUP(A14,namelist,3)","v":"阿部三郎"},13.1,1,{"$f":"IF(D14=0,0,CHOOSE(D14,$E$9,$E$10,$E$11))","v":0.2},0,{"$f":"IF(F14=0,0,(CHOOSE(F14,$E$9,$E$10,$E$11))*$G$11)","v":0},{"$f":"ROUND(I14*wariai,1)","v":13.2},{"$f":"AVERAGE(J14:N14)","v":13.8},{"$f":"SMALL(O14:X14,1)","v":5},{"$f":"SMALL(O14:X14,2)","v":6},{"$f":"SMALL(O14:X14,3)","v":19},{"$f":"SMALL(O14:X14,4)","v":19},{"$f":"SMALL(O14:X14,5)","v":20},23,19,25,29,22,20,6,5,20,19]
[null,null,null,null,null,null,null,null,null,null,null,null,null,null,"2025-08-30","2025-08-23","2025-08-15","2025-08-09","2025-08-02","2025-07-26","2025-07-18","2025-07-12","2025-07-05","2025-06-28"]
[2,{"$f":"VLOOKUP(A16,namelist,3)","v":0},{"$f":"ROUND((1-E16-G16)*H16,1)","v":31.5},null,{"$f":"IF(D16=0,0,CHOOSE(D16,$E$9,$E$10,$E$11))","v":0},null,{"$f":"IF(F16=0,0,(CHOOSE(F16,$E$9,$E$10,$E$11))*$G$11)","v":0},{"$f":"ROUND(I16*wariai,1)","v":31.5},{"$f":"AVERAGE(J16:N16)","v":32.799999999999997},{"$f":"SMALL(O16:X16,1)","v":23},{"$f":"SMALL(O16:X16,2)","v":34},{"$f":"SMALL(O16:X16,3)","v":35},{"$f":"SMALL(O16:X16,4)","v":36},{"$f":"SMALL(O16:X16,5)","v":36},37,37,36,36,35,36,34,36,23,39]
[null,null,null,null,null,null,null,null,null,null,null,null,null,null,"2020-11-28","2020-11-14","2020-10-31","2020-10-12","2020-09-26","2020-08-03","2020-06-27","2020-06-20","2020-05-30","2020-04-06"]
[3,{"$f":"VLOOKUP(A18,namelist,3)","v":"市毛弘文"},36.4,null,{"$f":"IF(D18=0,0,CHOOSE(D18,$E$9,$E$10,$E$11))","v":0},null,{"$f":"IF(F18=0,0,(CHOOSE(F18,$E$9,$E$10,$E$11))*$G$11)","v":0},{"$f":"ROUND(I18*wariai,1)","v":36.700000000000003},{"$f":"AVERAGE(J18:N18)","v":38.200000000000003},{"$f":"SMALL(O18:X18,1)","v":31},{"$f":"SMALL(O18:X18,2)","v":36},{"$f":"SMALL(O18:X18,3)","v":40},{"$f":"SMALL(O18:X18,4)","v":40},{"$f":"SMALL(O18:X18,5)","v":44},47,45,40,51,56,40,36,44,31,47]
[null,null,null,null,null,null,null,null,null,null,null,null,null,null,"2025-04-26","2025-03-01","2025-02-21","2025-02-01","2025-01-25","2024-10-18","2024-10-12","2024-10-05","2024-09-14","2024-09-07"]
[4,{"$f":"VLOOKUP(A20,namelist,3)","v":"岩本　隆"},{"$f":"ROUND((1-E20-G20)*H20,1)","v":11.7},1,{"$f":"IF(D20=0,0,CHOOSE(D20,$E$9,$E$10,$E$11))","v":0.2},null,{"$f":"IF(F20=0,0,(CHOOSE(F20,$E$9,$E$10,$E$11))*$G$11)","v":0},{"$f":"ROUND(I20*wariai,1)","v":14.6},{"$f":"AVERAGE(J20:N20)","v":15.2},{"$f":"SMALL(O20:X20,1)","v":14},{"$f":"SMALL(O20:X20,2)","v":14},{"$f":"SMALL(O20:X20,3)","v":15},{"$f":"SMALL(O20:X20,4)","v":16},{"$f":"SMALL(O20:X20,5)","v":17},20,15,16,14,21,17,22,30,14,27]
[null,null,null,null,null,null,null,null,null,null,null,null,null,null,"2025-08-30","2025-08-23","2025-08-15","2025-08-09","2025-08-02","2025-07-26","2025-07-18","2025-06-28","2025-06-07","2025-04-26"]
[5,{"$f":"VLOOKUP(A22,namelist,3)","v":0},{"$f":"ROUND((1-E22-G22)*H22,1)","v":26.7},null,{"$f":"IF(D22=0,0,CHOOSE(D22,$E$9,$E$10,$E$11))","v":0},null,{"$f":"IF(F22=0,0,(CHOOSE(F22,$E$9,$E$10,$E$11))*$G$11)","v":0},{"$f":"ROUND(I22*wariai,1)","v":26.7},{"$f":"AVERAGE(J22:N22)","v":27.8},{"$f":"SMALL(O22:X22,1)","v":25},{"$f":"SMALL(O22:X22,2)","v":25},{"$f":"SMALL(O22:X22,3)","v":29},{"$f":"SMALL(O22:X22,4)","v":30},{"$f":"SMALL(O22:X22,5)","v":30},30,31,31,29,25,31,30,37,25,41]
[null,null,null,null,null,null,null,null,null,null,null,null,null,null,"2019-11-30","2018-12-22","2018-06-30","2017-12-16","2017-07-08","2016-12-17","2016-07-02","2014-12-20","2014-06-21","2013-12-21"]
[6,{"$f":"VLOOKUP(A24,namelist,3)","v":"大山光男"},{"$f":"ROUND((1-E24-G24)*H24,1)","v":28.6},null,{"$f":"IF(D24=0,0,CHOOSE(D24,$E$9,$E$10,$E$11))","v":0},null,{"$f":"IF(F24=0,0,(CHOOSE(F24,$E$9,$E$10,$E$11))*$G$11)","v":0},{"$f":"ROUND(I24*wariai,1)","v":28.6},{"$f":"AVERAGE(J24:N24)","v":29.8},{"$f":"SMALL(O24:X24,1)","v":27},{"$f":"SMALL(O24:X24,2)","v":30},{"$f":"SMALL(O24:X24,3)","v":30},{"$f":"SMALL(O24:X24,4)","v":31},{"$f":"SMALL(O24:X24,5)","v":31},31,30,31,37,36,40,27,30,33,35]
[null,null,null,null,null,null,null,null,null,null,null,null,null,null,"2025-08-02","2025-06-07","2025-04-26","2025-04-18","2024-12-07","2024-11-30","2024-07-27","2024-06-22","2024-06-01","2024-05-11"]
[7,{"$f":"VLOOKUP(A26,namelist,3)","v":0},{"$f":"ROUND((1-E26-G26)*H26,1)","v":32.6},null,{"$f":"IF(D26=0,0,CHOOSE(D26,$E$9,$E$10,$E$11))","v":0},null,{"$f":"IF(F26=0,0,(CHOOSE(F26,$E$9,$E$10,$E$11))*$G$11)","v":0},{"$f":"ROUND(I26*wariai,1)","v":32.6},{"$f":"AVERAGE(J26:N26)","v":34},{"$f":"SMALL(O26:X26,1)","v":29},{"$f":"SMALL(O26:X26,2)","v":32},{"$f":"SMALL(O26:X26,3)","v":34},{"$f":"SMALL(O26:X26,4)","v":37},{"$f":"SMALL(O26:X26,5)","v":38},49,41,48,32,42,38,44,34,37,29]
[null,null,null,null,null,null,null,null,null,null,null,null,null,null,"2020-08-22","2020-08-15","2020-08-08","2020-07-25","2020-07-11","2020-06-27","2020-06-20","2020-05-30","2020-05-23","2020-05-02"]
[8,{"$f":"VLOOKUP(A28,namelist,3)","v":"松延洋昭"},{"$f":"ROUND((1-E28-G28)*H28,1)","v":6.9},null,{"$f":"IF(D28=0,0,CHOOSE(D28,$E$9,$E$10,$E$11))","v":0},null,{"$f":"IF(F28=0,0,(CHOOSE(F28,$E$9,$E$10,$E$11))*$G$11)","v":0},{"$f":"ROUND(I28*wariai,1)","v":6.9},{"$f":"AVERAGE(J28:N28)","v":7.2},{"$f":"SMALL(O28:X28,1)","v":6},{"$f":"SMALL(O28:X28,2)","v":6},{"$f":"SMALL(O28:X28,3)","v":7},{"$f":"SMALL(O28:X28,4)","v":7},{"$f":"SMALL(O28:X28,5)","v":10},7,10,6,10,12,7,13,6,16,13]
[null,null,null,null,null,null,null,null,null,null,null,null,null,null,"2025-08-23","2025-08-15","2025-08-09","2025-08-02","2025-07-26","2025-07-12","2025-07-05","2025-06-28","2025-06-20","2025-06-14"]
[9,{"$f":"VLOOKUP(A30,namelist,3)","v":0},{"$f":"ROUND((1-E30-G30)*H30,1)","v":16.100000000000001},null,{"$f":"IF(D30=0,0,CHOOSE(D30,$E$9,$E$10,$E$11))","v":0},null,{"$f":"IF(F30=0,0,(CHOOSE(F30,$E$9,$E$10,$E$11))*$G$11)","v":0},{"$f":"ROUND(I30*wariai,1)","v":16.100000000000001},{"$f":"AVERAGE(J30:N30)","v":16.8},{"$f":"SMALL(O30:X30,1)","v":12},{"$f":"SMALL(O30:X30,2)","v":15},{"$f":"SMALL(O30:X30,3)","v":16},{"$f":"SMALL(O30:X30,4)","v":20},{"$f":"SMALL(O30:X30,5)","v":21},27,16,26,21,21,20,26,15,12,23]
[null,null,null,null,null,null,null,null,null,null,null,null,null,null,"2019-11-18","2019-05-07","2019-04-13","2019-04-06","2018-12-08","2018-11-24","2018-11-10","2018-10-20","2018-10-13","2018-09-08"]
[10,null,0,null,{"$f":"IF(D32=0,0,CHOOSE(D32,$E$9,$E$10,$E$11))","v":0},null,{"$f":"IF(F32=0,0,(CHOOSE(F32,$E$9,$E$10,$E$11))*$G$11)","v":0},{"$f":"ROUND(I32*wariai,1)","v":{"$error":"#NUM!"}},{"$f":"AVERAGE(J32:N32)","v":{"$error":"#NUM!"}},{"$f":"SMALL(O32:X32,1)","v":{"$error":"#NUM!"}},{"$f":"SMALL(O32:X32,2)","v":{"$error":"#NUM!"}},{"$f":"SMALL(O32:X32,3)","v":{"$error":"#NUM!"}},{"$f":"SMALL(O32:X32,4)","v":{"$error":"#NUM!"}},{"$f":"SMALL(O32:X32,5)","v":{"$error":"#NUM!"}}]
[]
[11,{"$f":"VLOOKUP(A34,namelist,3)","v":"田辺庄司"},{"$f":"ROUND((1-E34)*(1-G34)*H34,1)","v":6},null,{"$f":"IF(D34=0,0,CHOOSE(D34,$E$9,$E$10,$E$11))","v":0},null,{"$f":"IF(F34=0,0,(CHOOSE(F34,$E$9,$E$10,$E$11))*$G$11)","v":0},{"$f":"ROUND(I34*wariai,1)","v":6},{"$f":"AVERAGE(J34:N34)","v":6.3},9.5,{"$f":"SMALL(O34:X34,2)","v":3},{"$f":"SMALL(O34:X34,3)","v":6},{"$f":"SMALL(O34:X34,4)","v":6},{"$f":"SMALL(O34:X34,5)","v":7},6,8,8,8,13,3,7,6,2,9]
[null,null,null,null,null,null,null,null,null,null,null,null,null,null,"2025-08-30","2025-08-23","2025-08-15","2025-08-09","2025-08-02","2025-07-26","2025-07-18","2025-07-12","2025-07-05","2025-06-28"]
[12,{"$f":"VLOOKUP(A36,namelist,3)","v":0},{"$f":"ROUND((1-E36-G36)*H36,1)","v":24},null,{"$f":"IF(D36=0,0,CHOOSE(D36,$E$9,$E$10,$E$11))","v":0},null,{"$f":"IF(F36=0,0,(CHOOSE(F36,$E$9,$E$10,$E$11))*$G$11)","v":0},{"$f":"ROUND(I36*wariai,1)","v":24},{"$f":"AVERAGE(J36:N36)","v":25},{"$f":"SMALL(O36:X36,1)","v":20},{"$f":"SMALL(O36:X36,2)","v":24},{"$f":"SMALL(O36:X36,3)","v":26},{"$f":"SMALL(O36:X36,4)","v":27},{"$f":"SMALL(O36:X36,5)","v":28},20,26,24,33,28,32,32,29,27,33]
[null,null,null,null,null,null,null,null,null,null,null,null,null,null,"2020-11-09","2020-10-31","2020-08-15","2020-08-08","2020-07-11","2020-06-27","2020-03-21","2019-11-16","2019-11-02","2019-08-03"]
[13,{"$f":"VLOOKUP(A38,namelist,3)","v":"朱雀　健"},{"$f":"ROUND((1-E38-G38)*H38,1)","v":21.1},null,{"$f":"IF(D38=0,0,CHOOSE(D38,$E$9,$E$10,$E$11))","v":0},null,{"$f":"IF(F38=0,0,(CHOOSE(F38,$E$9,$E$10,$E$11))*$G$11)","v":0},{"$f":"ROUND(I38*wariai,1)","v":21.1},{"$f":"AVERAGE(J38:N38)","v":22},{"$f":"SMALL(O38:X38,1)","v":16},{"$f":"SMALL(O38:X38,2)","v":21},{"$f":"SMALL(O38:X38,3)","v":23},{"$f":"SMALL(O38:X38,4)","v":24},{"$f":"SMALL(O38:X38,5)","v":26},40,26,23,16,24,26,37,21,31,31]
[null,null,null,null,null,null,null,null,null,null,null,null,null,null,"2025-08-30","2025-07-18","2025-07-12","2025-07-05","2025-06-28","2025-06-20","2025-06-07","2025-05-24","2025-05-10","2025-04-26"]
[14,{"$f":"VLOOKUP(A40,namelist,3)","v":"高木克三"},{"$f":"ROUND((1-E40-G40)*H40,1)","v":19},null,{"$f":"IF(D40=0,0,CHOOSE(D40,$E$9,$E$10,$E$11))","v":0},1,{"$f":"IF(F40=0,0,(CHOOSE(F40,$E$9,$E$10,$E$11))*$G$11)","v":0.1},{"$f":"ROUND(I40*wariai,1)","v":21.1},{"$f":"AVERAGE(J40:N40)","v":22},{"$f":"SMALL(O40:X40,1)","v":19},{"$f":"SMALL(O40:X40,2)","v":21},{"$f":"SMALL(O40:X40,3)","v":22},{"$f":"SMALL(O40:X40,4)","v":24},{"$f":"SMALL(O40:X40,5)","v":24},19,21,26,24,28,24,22,30,27,27]
[null,null,null,null,null,null,null,null,null,null,null,null,null,null,"2025-08-15","2025-08-09","2025-07-18","2025-07-12","2025-07-05","2025-06-28","2025-06-20","2025-06-14","2025-06-07","2025-05-24"]
[15,{"$f":"VLOOKUP(A42,namelist,3)","v":"中岡　信"},{"$f":"ROUND((1-E42-G42)*H42,1)","v":23.2},null,{"$f":"IF(D42=0,0,CHOOSE(D42,$E$9,$E$10,$E$11))","v":0},null,{"$f":"IF(F42=0,0,(CHOOSE(F42,$E$9,$E$10,$E$11))*$G$11)","v":0},{"$f":"ROUND(I42*wariai,1)","v":23.2},{"$f":"AVERAGE(J42:N42)","v":24.2},{"$f":"SMALL(O42:X42,1)","v":21},{"$f":"SMALL(O42:X42,2)","v":22},{"$f":"SMALL(O42:X42,3)","v":25},{"$f":"SMALL(O42:X42,4)","v":26},{"$f":"SMALL(O42:X42,5)","v":27},25,33,32,21,22,27,28,29,26,28]
[null,null,null,null,null,null,null,null,null,null,null,null,null,null,"2025-08-30","2025-08-23","2025-08-09","2025-08-02","2025-07-12","2025-07-05","2025-06-28","2025-06-20","2025-06-14","2025-06-07"]
[16,{"$f":"VLOOKUP(A44,namelist,3)","v":"佐藤瑠美"},40.4,null,{"$f":"IF(D44=0,0,CHOOSE(D44,$E$9,$E$10,$E$11))","v":0},null,{"$f":"IF(F44=0,0,(CHOOSE(F44,$E$9,$E$10,$E$11))*$G$11)","v":0},{"$f":"ROUND(I44*wariai,1)","v":47.8},{"$f":"AVERAGE(J44:N44)","v":49.8},{"$f":"SMALL(O44:X44,1)","v":43},{"$f":"SMALL(O44:X44,2)","v":50},{"$f":"SMALL(O44:X44,3)","v":51},{"$f":"SMALL(O44:X44,4)","v":51},{"$f":"SMALL(O44:X44,5)","v":54},65,51,55,57,43,50,56,54,51,58]
[null,null,null,null,null,null,null,null,null,null,null,null,null,null,"2018-05-26","2018-04-21","2018-03-24","2018-03-10","2018-03-03","2018-02-10","2018-01-20","2018-01-13","2018-01-06","2017-12-16"]
[17,{"$f":"VLOOKUP(A46,namelist,3)","v":"佐藤英彦"},{"$f":"ROUND((1-E46-G46)*H46,1)","v":14.1},null,{"$f":"IF(D46=0,0,CHOOSE(D46,$E$9,$E$10,$E$11))","v":0},1,{"$f":"IF(F46=0,0,(CHOOSE(F46,$E$9,$E$10,$E$11))*$G$11)","v":0.1},{"$f":"ROUND(I46*wariai,1)","v":15.7},{"$f":"AVERAGE(J46:N46)","v":16.399999999999999},{"$f":"SMALL(O46:X46,1)","v":12},{"$f":"SMALL(O46:X46,2)","v":16},{"$f":"SMALL(O46:X46,3)","v":17},{"$f":"SMALL(O46:X46,4)","v":18},{"$f":"SMALL(O46:X46,5)","v":19},24,12,17,20,24,18,21,25,16,19]
[null,null,null,null,null,null,null,null,null,null,null,null,null,null,"2025-08-30","2025-08-23","2025-08-15","2025-08-02","2025-07-26","2025-06-20","2025-06-14","2025-06-07","2025-05-24","2025-05-10"]
[18,{"$f":"VLOOKUP(A48,namelist,3)","v":"酒井里子"},{"$f":"ROUND((1-E48-G48)*H48,1)","v":16.5},null,{"$f":"IF(D48=0,0,CHOOSE(D48,$E$9,$E$10,$E$11))","v":0},null,{"$f":"IF(F48=0,0,(CHOOSE(F48,$E$9,$E$10,$E$11))*$G$11)","v":0},{"$f":"ROUND(I48*wariai,1)","v":16.5},{"$f":"AVERAGE(J48:N48)","v":17.2},{"$f":"SMALL(O48:X48,1)","v":14},{"$f":"SMALL(O48:X48,2)","v":16},{"$f":"SMALL(O48:X48,3)","v":17},{"$f":"SMALL(O48:X48,4)","v":18},{"$f":"SMALL(O48:X48,5)","v":21},23,22,14,16,18,21,23,24,25,17]
[null,null,null,null,null,null,null,null,null,null,null,null,null,null,"2025-08-23","2025-08-15","2025-08-09","2025-05-24","2025-05-16","2025-03-21","2025-01-25","2024-12-28","2024-12-07","2024-09-28"]
[19,{"$f":"VLOOKUP(A50,namelist,3)","v":0},{"$f":"ROUND((1-E50-G50)*H50,1)","v":20.399999999999999},null,{"$f":"IF(D50=0,0,CHOOSE(D50,$E$9,$E$10,$E$11))","v":0},null,{"$f":"IF(F50=0,0,(CHOOSE(F50,$E$9,$E$10,$E$11))*$G$11)","v":0},{"$f":"ROUND(I50*wariai,1)","v":20.399999999999999},{"$f":"AVERAGE(J50:N50)","v":21.2},{"$f":"SMALL(O50:X50,1)","v":18},{"$f":"SMALL(O50:X50,2)","v":18},{"$f":"SMALL(O50:X50,3)","v":21},{"$f":"SMALL(O50:X50,4)","v":23},{"$f":"SMALL(O50:X50,5)","v":26},26,30,35,21,18,38,27,35,18,23]
[null,null,null,null,null,null,null,null,null,null,null,null,null,null,"2021-03-06","2021-02-27","2021-02-20","2021-02-13","2021-02-08","2021-01-30","2021-01-16","2021-01-09","2021-01-04","2020-12-26"]
[20,{"$f":"VLOOKUP(A52,namelist,3)","v":0},{"$f":"ROUND((1-E52-G52)*H52,1)","v":25.2},null,{"$f":"IF(D52=0,0,CHOOSE(D52,$E$9,$E$10,$E$11))","v":0},null,{"$f":"IF(F52=0,0,(CHOOSE(F52,$E$9,$E$10,$E$11))*$G$11)","v":0},{"$f":"ROUND(I52*wariai,1)","v":25.2},{"$f":"AVERAGE(J52:N52)","v":26.2},{"$f":"SMALL(O52:X52,1)","v":21},{"$f":"SMALL(O52:X52,2)","v":22},{"$f":"SMALL(O52:X52,3)","v":25},{"$f":"SMALL(O52:X52,4)","v":31},{"$f":"SMALL(O52:X52,5)","v":32},46,33,37,33,25,21,39,32,31,22]
[null,null,null,null,null,null,null,null,null,null,null,null,null,null,"2021-04-17","2021-04-10","2021-03-27","2021-02-20","2020-12-19","2020-12-07","2020-11-28","2020-11-21","2020-11-09","2020-09-19"]
[21,{"$f":"VLOOKUP(A54,namelist,3)","v":0},{"$f":"ROUND((1-E54-G54)*H54,1)","v":25},null,{"$f":"IF(D54=0,0,CHOOSE(D54,$E$9,$E$10,$E$11))","v":0},null,{"$f":"IF(F54=0,0,(CHOOSE(F54,$E$9,$E$10,$E$11))*$G$11)","v":0},{"$f":"ROUND(I54*wariai,1)","v":25},{"$f":"AVERAGE(J54:N54)","v":26},{"$f":"SMALL(O54:X54,1)","v":21},{"$f":"SMALL(O54:X54,2)","v":25},{"$f":"SMALL(O54:X54,3)","v":27},{"$f":"SMALL(O54:X54,4)","v":28},{"$f":"SMALL(O54:X54,5)","v":29},41,32,27,32,28,21,29,29,30,25]
[null,null,null,null,null,null,null,null,null,null,null,null,null,null,"2020-12-07","2020-10-24","2020-10-03","2020-09-19","2020-05-11","2020-04-11","2020-03-28","2020-03-21","2020-01-25","2019-12-28"]
[22,{"$f":"VLOOKUP(A56,namelist,3)","v":"米原　治"},36.4,null,{"$f":"IF(D56=0,0,CHOOSE(D56,$E$9,$E$10,$E$11))","v":0},null,{"$f":"IF(F56=0,0,(CHOOSE(F56,$E$9,$E$10,$E$11))*$G$11)","v":0},{"$f":"ROUND(I56*wariai,1)","v":39.6},{"$f":"AVERAGE(J56:N56)","v":41.2},{"$f":"SMALL(O56:X56,1)","v":38},{"$f":"SMALL(O56:X56,2)","v":39},{"$f":"SMALL(O56:X56,3)","v":41},{"$f":"SMALL(O56:X56,4)","v":44},{"$f":"SMALL(O56:X56,5)","v":44},38,41,39,61,49,45,44,57,50,44]
[null,null,null,null,null,null,null,null,null,null,null,null,null,null,"2025-06-07","2025-05-24","2025-03-15","2024-12-07","2024-11-30","2024-11-09","2024-04-13","2023-12-09","2023-12-02","2023-11-11"]
[23,{"$f":"VLOOKUP(A58,namelist,3)","v":"村上欣永"},36.4,null,{"$f":"IF(D58=0,0,CHOOSE(D58,$E$9,$E$10,$E$11))","v":0},null,{"$f":"IF(F58=0,0,(CHOOSE(F58,$E$9,$E$10,$E$11))*$G$11)","v":0},{"$f":"ROUND(I58*wariai,1)","v":42.6},{"$f":"AVERAGE(J58:N58)","v":44.4},{"$f":"SMALL(O58:X58,1)","v":36},{"$f":"SMALL(O58:X58,2)","v":43},{"$f":"SMALL(O58:X58,3)","v":46},{"$f":"SMALL(O58:X58,4)","v":48},{"$f":"SMALL(O58:X58,5)","v":49},36,43,48,65,49,54,46,52,54,49]
[null,null,null,null,null,null,null,null,null,null,null,null,null,null,"2025-04-05","2025-03-21","2025-03-15","2025-03-08","2025-03-01","2024-12-07","2024-11-15","2024-11-09","2024-10-18","2024-10-12"]
[24,{"$f":"VLOOKUP(A60,namelist,3)","v":0},{"$f":"ROUND((1-E60-G60)*H60,1)","v":20.5},null,{"$f":"IF(D60=0,0,CHOOSE(D60,$E$9,$E$10,$E$11))","v":0},null,{"$f":"IF(F60=0,0,(CHOOSE(F60,$E$9,$E$10,$E$11))*$G$11)","v":0},{"$f":"ROUND(I60*wariai,1)","v":20.5},{"$f":"AVERAGE(J60:N60)","v":21.4},{"$f":"SMALL(O60:X60,1)","v":19},{"$f":"SMALL(O60:X60,2)","v":21},{"$f":"SMALL(O60:X60,3)","v":21},{"$f":"SMALL(O60:X60,4)","v":22},{"$f":"SMALL(O60:X60,5)","v":24},29,28,22,21,19,32,24,26,30,21]
[null,null,null,null,null,null,null,null,null,null,null,null,null,null,"2020-12-26","2020-10-03","2020-09-26","2020-08-22","2020-08-15","2020-08-08","2020-07-25","2020-07-11","2020-06-27","2020-06-20"]
[25,{"$f":"VLOOKUP(A62,namelist,3)","v":"尾野本哲廣"},{"$f":"ROUND((1-E62-G62)*H62,1)","v":22.1},null,{"$f":"IF(D62=0,0,CHOOSE(D62,$E$9,$E$10,$E$11))","v":0},null,{"$f":"IF(F62=0,0,(CHOOSE(F62,$E$9,$E$10,$E$11))*$G$11)","v":0},{"$f":"ROUND(I62*wariai,1)","v":22.1},{"$f":"AVERAGE(J62:N62)","v":23},{"$f":"SMALL(O62:X62,1)","v":22},{"$f":"SMALL(O62:X62,2)","v":23},{"$f":"SMALL(O62:X62,3)","v":23},{"$f":"SMALL(O62:X62,4)","v":23},{"$f":"SMALL(O62:X62,5)","v":24},27,26,23,29,23,24,24,22,32,23]
[null,null,null,null,null,null,null,null,null,null,null,null,null,null,"2025-08-23","2025-08-15","2025-08-09","2025-08-02","2025-07-26","2025-07-18","2025-07-12","2025-07-05","2025-06-28","2025-06-20"]
[26,{"$f":"VLOOKUP(A64,namelist,3)","v":0},{"$f":"ROUND((1-E64-G64)*H64,1)","v":27.1},null,{"$f":"IF(D64=0,0,CHOOSE(D64,$E$9,$E$10,$E$11))","v":0},null,{"$f":"IF(F64=0,0,(CHOOSE(F64,$E$9,$E$10,$E$11))*$G$11)","v":0},{"$f":"ROUND(I64*wariai,1)","v":27.1},{"$f":"AVERAGE(J64:N64)","v":28.2},{"$f":"SMALL(O64:X64,1)","v":23},{"$f":"SMALL(O64:X64,2)","v":23},{"$f":"SMALL(O64:X64,3)","v":26},{"$f":"SMALL(O64:X64,4)","v":34},{"$f":"SMALL(O64:X64,5)","v":35},26,23,36,36,35,36,34,36,23,39]
[null,null,null,null,null,null,null,null,null,null,null,null,null,null,"2021-02-27","2020-10-31","2020-10-31","2020-10-12","2020-09-26","2020-08-03","2020-06-27","2020-06-20","2020-05-30","2020-04-06"]
[27,{"$f":"VLOOKUP(A66,namelist,3)","v":"角田啓三郎"},{"$f":"ROUND((1-E66-G66)*H66,1)","v":14},null,{"$f":"IF(D66=0,0,CHOOSE(D66,$E$9,$E$10,$E$11))","v":0},null,{"$f":"IF(F66=0,0,(CHOOSE(F66,$E$9,$E$10,$E$11))*$G$11)","v":0},{"$f":"ROUND(I66*wariai,1)","v":14},{"$f":"AVERAGE(J66:N66)","v":14.6},{"$f":"SMALL(O66:X66,1)","v":11},{"$f":"SMALL(O66:X66,2)","v":14},{"$f":"SMALL(O66:X66,3)","v":15},{"$f":"SMALL(O66:X66,4)","v":16},{"$f":"SMALL(O66:X66,5)","v":17},15,11,14,16,20,17,23,23,21,28]
[null,null,null,null,null,null,null,null,null,null,null,null,null,null,"2025-08-09","2025-08-02","2025-07-12","2025-07-05","2025-06-14","2025-06-07","2025-04-12","2025-04-05","2025-03-15","2025-03-08"]
[28,{"$f":"VLOOKUP(A68,namelist,3)","v":"岩橋みどり"},{"$f":"ROUND((1-E68-G68)*H68,1)","v":11.3},null,{"$f":"IF(D68=0,0,CHOOSE(D68,$E$9,$E$10,$E$11))","v":0},null,{"$f":"IF(F68=0,0,(CHOOSE(F68,$E$9,$E$10,$E$11))*$G$11)","v":0},{"$f":"ROUND(I68*wariai,1)","v":11.3},{"$f":"AVERAGE(J68:N68)","v":11.8},{"$f":"SMALL(O68:X68,1)","v":10},{"$f":"SMALL(O68:X68,2)","v":11},{"$f":"SMALL(O68:X68,3)","v":12},{"$f":"SMALL(O68:X68,4)","v":13},{"$f":"SMALL(O68:X68,5)","v":13},10,15,12,11,13,13,31,24]
[null,null,null,null,null,null,null,null,null,null,null,null,null,null,"2025-08-30","2025-08-23","2025-08-02","2025-07-26","2025-07-12","2025-07-05","2024-11-09","2024-10-05"]
[29,{"$f":"VLOOKUP(A70,namelist,3)","v":"岩橋　厚"},{"$f":"ROUND((1-E70-G70)*H70,1)","v":13.6},null,{"$f":"IF(D70=0,0,CHOOSE(D70,$E$9,$E$10,$E$11))","v":0},null,{"$f":"IF(F70=0,0,(CHOOSE(F70,$E$9,$E$10,$E$11))*$G$11)","v":0},{"$f":"ROUND(I70*wariai,1)","v":13.6},{"$f":"AVERAGE(J70:N70)","v":14.2},{"$f":"SMALL(O70:X70,1)","v":12},{"$f":"SMALL(O70:X70,2)","v":14},{"$f":"SMALL(O70:X70,3)","v":14},{"$f":"SMALL(O70:X70,4)","v":15},{"$f":"SMALL(O70:X70,5)","v":16},14,18,16,26,24,12,15,24,14,16]
[null,null,null,null,null,null,null,null,null,null,null,null,null,null,"2025-08-15","2025-06-20","2025-05-16","2024-12-14","2024-12-07","2024-11-30","2024-11-15","2024-11-09","2024-10-18","2024-10-12"]
[30,{"$f":"VLOOKUP(A72,namelist,3)","v":"星山　隆"},{"$f":"ROUND((1-E72-G72)*H72,1)","v":12.3},null,{"$f":"IF(D72=0,0,CHOOSE(D72,$E$9,$E$10,$E$11))","v":0},null,{"$f":"IF(F72=0,0,(CHOOSE(F72,$E$9,$E$10,$E$11))*$G$11)","v":0},{"$f":"ROUND(I72*wariai,1)","v":12.3},{"$f":"AVERAGE(J72:N72)","v":12.8},{"$f":"SMALL(O72:X72,1)","v":10},{"$f":"SMALL(O72:X72,2)","v":11},{"$f":"SMALL(O72:X72,3)","v":13},{"$f":"SMALL(O72:X72,4)","v":14},{"$f":"SMALL(O72:X72,5)","v":16},17,10,11,21,16,14,13,19,20,20]
[null,null,null,null,null,null,null,null,null,null,null,null,null,null,"2025-08-23","2025-08-15","2025-08-09","2025-08-02","2025-07-18","2025-07-12","2025-07-05","2025-06-28","2025-06-20","2025-06-14"]
[31,{"$f":"VLOOKUP(A74,namelist,3)","v":"高雄　徹"},{"$f":"ROUND((1-E74-G74)*H74,1)","v":6.1},null,{"$f":"IF(D74=0,0,CHOOSE(D74,$E$9,$E$10,$E$11))","v":0},null,{"$f":"IF(F74=0,0,(CHOOSE(F74,$E$9,$E$10,$E$11))*$G$11)","v":0},{"$f":"ROUND(I74*wariai,1)","v":6.1},{"$f":"AVERAGE(J74:N74)","v":6.4},{"$f":"SMALL(O74:X74,1)","v":6},{"$f":"SMALL(O74:X74,2)","v":6},{"$f":"SMALL(O74:X74,3)","v":6},{"$f":"SMALL(P74:Y74,3)","v":7},{"$f":"SMALL(Q74:Z74,3)","v":7},6,12,12,12,10,6,7,6,9,24]
[null,null,null,null,null,null,null,null,null,null,null,null,null,null,"2025-08-23","2025-08-15","2025-08-09","2025-08-02","2025-07-26","2025-07-18","2025-07-12","2025-06-20","2025-06-14","2025-06-07"]
[32,{"$f":"VLOOKUP(A76,namelist,3)","v":"海原範隆"},31.7,null,{"$f":"IF(D76=0,0,CHOOSE(D76,$E$9,$E$10,$E$11))","v":0},null,{"$f":"IF(F76=0,0,(CHOOSE(F76,$E$9,$E$10,$E$11))*$G$11)","v":0},{"$f":"ROUND(I76*wariai,1)","v":0},{"$f":"AVERAGE(J76:N76)","v":0},{"$f":"SMALL(O76:X76,1)","v":0},{"$f":"SMALL(O76:X76,2)","v":0},{"$f":"SMALL(O76:X76,3)","v":0},{"$f":"SMALL(O76:X76,4)","v":0},{"$f":"SMALL(O76:X76,5)","v":0},40,0,0,0,0,0]
[null,null,null,null,null,null,null,null,null,null,null,null,null,null,"2025-06-20"]
[33,{"$f":"VLOOKUP(A78,namelist,3)","v":"後藤聡志"},21.4,null,{"$f":"IF(D78=0,0,CHOOSE(D78,$E$9,$E$10,$E$11))","v":0},null,{"$f":"IF(F78=0,0,(CHOOSE(F78,$E$9,$E$10,$E$11))*$G$11)","v":0},{"$f":"ROUND(I78*wariai,1)","v":0},{"$f":"AVERAGE(J78:N78)","v":0},{"$f":"SMALL(O78:X78,1)","v":0},{"$f":"SMALL(O78:X78,2)","v":0},{"$f":"SMALL(O78:X78,3)","v":0},{"$f":"SMALL(O78:X78,4)","v":0},{"$f":"SMALL(O78:X78,5)","v":0},0,0,0,0,0,0]
[]
[34,{"$f":"VLOOKUP(A80,namelist,3)","v":0},{"$f":"H80","v":0},null,{"$f":"IF(D80=0,0,CHOOSE(D80,$E$9,$E$10,$E$11))","v":0},null,{"$f":"IF(F80=0,0,(CHOOSE(F80,$E$9,$E$10,$E$11))*$G$11)","v":0},{"$f":"ROUND(I80*wariai,1)","v":0},{"$f":"AVERAGE(J80:N80)","v":0},{"$f":"SMALL(O80:X80,1)","v":0},{"$f":"SMALL(O80:X80,2)","v":0},{"$f":"SMALL(O80:X80,3)","v":0},{"$f":"SMALL(O80:X80,4)","v":0},{"$f":"SMALL(O80:X80,5)","v":0},null,0,0,0,0,0]
[]
[35,{"$f":"VLOOKUP(A82,namelist,3)","v":0},{"$f":"ROUND((1-E82-G82)*H82,1)","v":{"$error":"#NUM!"}},null,{"$f":"IF(D82=0,0,CHOOSE(D82,$E$9,$E$10,$E$11))","v":0},null,{"$f":"IF(F82=0,0,(CHOOSE(F82,$E$9,$E$10,$E$11))*$G$11)","v":0},{"$f":"ROUND(I82*wariai,1)","v":{"$error":"#NUM!"}},{"$f":"AVERAGE(J82:N82)","v":{"$error":"#NUM!"}},{"$f":"SMALL(O82:X82,1)","v":{"$error":"#NUM!"}},{"$f":"SMALL(O82:X82,2)","v":{"$error":"#NUM!"}},{"$f":"SMALL(O82:X82,3)","v":{"$error":"#NUM!"}},{"$f":"SMALL(O82:X82,4)","v":{"$error":"#NUM!"}},{"$f":"SMALL(O82:X82,5)","v":{"$error":"#NUM!"}}]
[]
[36,{"$f":"VLOOKUP(A84,namelist,3)","v":0},{"$f":"ROUND((1-E84-G84)*H84,1)","v":{"$error":"#NUM!"}},null,{"$f":"IF(D84=0,0,CHOOSE(D84,$E$9,$E$10,$E$11))","v":0},null,{"$f":"IF(F84=0,0,(CHOOSE(F84,$E$9,$E$10,$E$11))*$G$11)","v":0},{"$f":"ROUND(I84*wariai,1)","v":{"$error":"#NUM!"}},{"$f":"AVERAGE(J84:N84)","v":{"$error":"#NUM!"}},{"$f":"SMALL(O84:X84,1)","v":{"$error":"#NUM!"}},{"$f":"SMALL(O84:X84,2)","v":{"$error":"#NUM!"}},{"$f":"SMALL(O84:X84,3)","v":{"$error":"#NUM!"}},{"$f":"SMALL(O84:X84,4)","v":{"$error":"#NUM!"}},{"$f":"SMALL(O84:X84,5)","v":{"$error":"#NUM!"}}]
[]
[37,{"$f":"VLOOKUP(A86,namelist,3)","v":0},{"$f":"ROUND((1-E86-G86)*H86,1)","v":{"$error":"#NUM!"}},null,{"$f":"IF(D86=0,0,CHOOSE(D86,$E$9,$E$10,$E$11))","v":0},null,{"$f":"IF(F86=0,0,(CHOOSE(F86,$E$9,$E$10,$E$11))*$G$11)","v":0},{"$f":"ROUND(I86*wariai,1)","v":{"$error":"#NUM!"}},{"$f":"AVERAGE(J86:N86)","v":{"$error":"#NUM!"}},{"$f":"SMALL(O86:X86,1)","v":{"$error":"#NUM!"}},{"$f":"SMALL(O86:X86,2)","v":{"$error":"#NUM!"}},{"$f":"SMALL(O86:X86,3)","v":{"$error":"#NUM!"}},{"$f":"SMALL(O86:X86,4)","v":{"$error":"#NUM!"}},{"$f":"SMALL(O86:X86,5)","v":{"$error":"#NUM!"}}]
[]
[38,{"$f":"VLOOKUP(A88,namelist,3)","v":0},{"$f":"ROUND((1-E88-G88)*H88,1)","v":{"$error":"#NUM!"}},null,{"$f":"IF(D88=0,0,CHOOSE(D88,$E$9,$E$10,$E$11))","v":0},null,{"$f":"IF(F88=0,0,(CHOOSE(F88,$E$9,$E$10,$E$11))*$G$11)","v":0},{"$f":"ROUND(I88*wariai,1)","v":{"$error":"#NUM!"}},{"$f":"AVERAGE(J88:N88)","v":{"$error":"#NUM!"}},{"$f":"SMALL(O88:X88,1)","v":{"$error":"#NUM!"}},{"$f":"SMALL(O88:X88,2)","v":{"$error":"#NUM!"}},{"$f":"SMALL(O88:X88,3)","v":{"$error":"#NUM!"}},{"$f":"SMALL(O88:X88,4)","v":{"$error":"#NUM!"}},{"$f":"SMALL(O88:X88,5)","v":{"$error":"#NUM!"}}]
[]
[39,{"$f":"VLOOKUP(A90,namelist,3)","v":0},{"$f":"ROUND((1-E90-G90)*H90,1)","v":{"$error":"#NUM!"}},null,{"$f":"IF(D90=0,0,CHOOSE(D90,$E$9,$E$10,$E$11))","v":0},null,{"$f":"IF(F90=0,0,(CHOOSE(F90,$E$9,$E$10,$E$11))*$G$11)","v":0},{"$f":"ROUND(I90*wariai,1)","v":{"$error":"#NUM!"}},{"$f":"AVERAGE(J90:N90)","v":{"$error":"#NUM!"}},{"$f":"SMALL(O90:X90,1)","v":{"$error":"#NUM!"}},{"$f":"SMALL(O90:X90,2)","v":{"$error":"#NUM!"}},{"$f":"SMALL(O90:X90,3)","v":{"$error":"#NUM!"}},{"$f":"SMALL(O90:X90,4)","v":{"$error":"#NUM!"}},{"$f":"SMALL(O90:X90,5)","v":{"$error":"#NUM!"}}]
[]
[40,{"$f":"VLOOKUP(A92,namelist,3)","v":0},{"$f":"ROUND((1-E92-G92)*H92,1)","v":{"$error":"#NUM!"}},null,{"$f":"IF(D92=0,0,CHOOSE(D92,$E$9,$E$10,$E$11))","v":0},null,{"$f":"IF(F92=0,0,(CHOOSE(F92,$E$9,$E$10,$E$11))*$G$11)","v":0},{"$f":"ROUND(I92*wariai,1)","v":{"$error":"#NUM!"}},{"$f":"AVERAGE(J92:N92)","v":{"$error":"#NUM!"}},{"$f":"SMALL(O92:X92,1)","v":{"$error":"#NUM!"}},{"$f":"SMALL(O92:X92,2)","v":{"$error":"#NUM!"}},{"$f":"SMALL(O92:X92,3)","v":{"$error":"#NUM!"}},{"$f":"SMALL(O92:X92,4)","v":{"$error":"#NUM!"}},{"$f":"SMALL(O92:X92,5)","v":{"$error":"#NUM!"}}]
[]
[41,{"$f":"VLOOKUP(A94,namelist,3)","v":0},{"$f":"ROUND((1-E94-G94)*H94,1)","v":{"$error":"#NUM!"}},null,{"$f":"IF(D94=0,0,CHOOSE(D94,$E$9,$E$10,$E$11))","v":0},null,{"$f":"IF(F94=0,0,(CHOOSE(F94,$E$9,$E$10,$E$11))*$G$11)","v":0},{"$f":"ROUND(I94*wariai,1)","v":{"$error":"#NUM!"}},{"$f":"AVERAGE(J94:N94)","v":{"$error":"#NUM!"}},{"$f":"SMALL(O94:X94,1)","v":{"$error":"#NUM!"}},{"$f":"SMALL(O94:X94,2)","v":{"$error":"#NUM!"}},{"$f":"SMALL(O94:X94,3)","v":{"$error":"#NUM!"}},{"$f":"SMALL(O94:X94,4)","v":{"$error":"#NUM!"}},{"$f":"SMALL(O94:X94,5)","v":{"$error":"#NUM!"}}]
[]
[42,{"$f":"VLOOKUP(A96,namelist,3)","v":0},{"$f":"ROUND((1-E96-G96)*H96,1)","v":{"$error":"#NUM!"}},null,{"$f":"IF(D96=0,0,CHOOSE(D96,$E$9,$E$10,$E$11))","v":0},null,{"$f":"IF(F96=0,0,(CHOOSE(F96,$E$9,$E$10,$E$11))*$G$11)","v":0},{"$f":"ROUND(I96*wariai,1)","v":{"$error":"#NUM!"}},{"$f":"AVERAGE(J96:N96)","v":{"$error":"#NUM!"}},{"$f":"SMALL(O96:X96,1)","v":{"$error":"#NUM!"}},{"$f":"SMALL(O96:X96,2)","v":{"$error":"#NUM!"}},{"$f":"SMALL(O96:X96,3)","v":{"$error":"#NUM!"}},{"$f":"SMALL(O96:X96,4)","v":{"$error":"#NUM!"}},{"$f":"SMALL(O96:X96,5)","v":{"$error":"#NUM!"}}]
[]
[43,{"$f":"VLOOKUP(A98,namelist,3)","v":0},{"$f":"ROUND((1-E98-G98)*H98,1)","v":{"$error":"#NUM!"}},null,{"$f":"IF(D98=0,0,CHOOSE(D98,$E$9,$E$10,$E$11))","v":0},null,{"$f":"IF(F98=0,0,(CHOOSE(F98,$E$9,$E$10,$E$11))*$G$11)","v":0},{"$f":"ROUND(I98*wariai,1)","v":{"$error":"#NUM!"}},{"$f":"AVERAGE(J98:N98)","v":{"$error":"#NUM!"}},{"$f":"SMALL(O98:X98,1)","v":{"$error":"#NUM!"}},{"$f":"SMALL(O98:X98,2)","v":{"$error":"#NUM!"}},{"$f":"SMALL(O98:X98,3)","v":{"$error":"#NUM!"}},{"$f":"SMALL(O98:X98,4)","v":{"$error":"#NUM!"}},{"$f":"SMALL(O98:X98,5)","v":{"$error":"#NUM!"}}]
[]
[44,{"$f":"VLOOKUP(A100,namelist,3)","v":0},{"$f":"ROUND((1-E100-G100)*H100,1)","v":{"$error":"#NUM!"}},null,{"$f":"IF(D100=0,0,CHOOSE(D100,$E$9,$E$10,$E$11))","v":0},null,{"$f":"IF(F100=0,0,(CHOOSE(F100,$E$9,$E$10,$E$11))*$G$11)","v":0},{"$f":"ROUND(I100*wariai,1)","v":{"$error":"#NUM!"}},{"$f":"AVERAGE(J100:N100)","v":{"$error":"#NUM!"}},{"$f":"SMALL(O100:X100,1)","v":{"$error":"#NUM!"}},{"$f":"SMALL(O100:X100,2)","v":{"$error":"#NUM!"}},{"$f":"SMALL(O100:X100,3)","v":{"$error":"#NUM!"}},{"$f":"SMALL(O100:X100,4)","v":{"$error":"#NUM!"}},{"$f":"SMALL(O100:X100,5)","v":{"$error":"#NUM!"}}]
[]
[45,{"$f":"VLOOKUP(A102,namelist,3)","v":0},{"$f":"ROUND((1-E102-G102)*H102,1)","v":{"$error":"#NUM!"}},null,{"$f":"IF(D102=0,0,CHOOSE(D102,$E$9,$E$10,$E$11))","v":0},null,{"$f":"IF(F102=0,0,(CHOOSE(F102,$E$9,$E$10,$E$11))*$G$11)","v":0},{"$f":"ROUND(I102*wariai,1)","v":{"$error":"#NUM!"}},{"$f":"AVERAGE(J102:N102)","v":{"$error":"#NUM!"}},{"$f":"SMALL(O102:X102,1)","v":{"$error":"#NUM!"}},{"$f":"SMALL(O102:X102,2)","v":{"$error":"#NUM!"}},{"$f":"SMALL(O102:X102,3)","v":{"$error":"#NUM!"}},{"$f":"SMALL(O102:X102,4)","v":{"$error":"#NUM!"}},{"$f":"SMALL(O102:X102,5)","v":{"$error":"#NUM!"}}]
[]
[46,{"$f":"VLOOKUP(A104,namelist,3)","v":0},{"$f":"ROUND((1-E104-G104)*H104,1)","v":{"$error":"#NUM!"}},null,{"$f":"IF(D104=0,0,CHOOSE(D104,$E$9,$E$10,$E$11))","v":0},null,{"$f":"IF(F104=0,0,(CHOOSE(F104,$E$9,$E$10,$E$11))*$G$11)","v":0},{"$f":"ROUND(I104*wariai,1)","v":{"$error":"#NUM!"}},{"$f":"AVERAGE(J104:N104)","v":{"$error":"#NUM!"}},{"$f":"SMALL(O104:X104,1)","v":{"$error":"#NUM!"}},{"$f":"SMALL(O104:X104,2)","v":{"$error":"#NUM!"}},{"$f":"SMALL(O104:X104,3)","v":{"$error":"#NUM!"}},{"$f":"SMALL(O104:X104,4)","v":{"$error":"#NUM!"}},{"$f":"SMALL(O104:X104,5)","v":{"$error":"#NUM!"}}]
[]
[47,{"$f":"VLOOKUP(A106,namelist,3)","v":0},{"$f":"ROUND((1-E106-G106)*H106,1)","v":{"$error":"#NUM!"}},null,{"$f":"IF(D106=0,0,CHOOSE(D106,$E$9,$E$10,$E$11))","v":0},null,{"$f":"IF(F106=0,0,(CHOOSE(F106,$E$9,$E$10,$E$11))*$G$11)","v":0},{"$f":"ROUND(I106*wariai,1)","v":{"$error":"#NUM!"}},{"$f":"AVERAGE(J106:N106)","v":{"$error":"#NUM!"}},{"$f":"SMALL(O106:X106,1)","v":{"$error":"#NUM!"}},{"$f":"SMALL(O106:X106,2)","v":{"$error":"#NUM!"}},{"$f":"SMALL(O106:X106,3)","v":{"$error":"#NUM!"}},{"$f":"SMALL(O106:X106,4)","v":{"$error":"#NUM!"}},{"$f":"SMALL(O106:X106,5)","v":{"$error":"#NUM!"}}]
[]
[48,{"$f":"VLOOKUP(A108,namelist,3)","v":0},{"$f":"ROUND((1-E108-G108)*H108,1)","v":{"$error":"#NUM!"}},null,{"$f":"IF(D108=0,0,CHOOSE(D108,$E$9,$E$10,$E$11))","v":0},null,{"$f":"IF(F108=0,0,(CHOOSE(F108,$E$9,$E$10,$E$11))*$G$11)","v":0},{"$f":"ROUND(I108*wariai,1)","v":{"$error":"#NUM!"}},{"$f":"AVERAGE(J108:N108)","v":{"$error":"#NUM!"}},{"$f":"SMALL(O108:X108,1)","v":{"$error":"#NUM!"}},{"$f":"SMALL(O108:X108,2)","v":{"$error":"#NUM!"}},{"$f":"SMALL(O108:X108,3)","v":{"$error":"#NUM!"}},{"$f":"SMALL(O108:X108,4)","v":{"$error":"#NUM!"}},{"$f":"SMALL(O108:X108,5)","v":{"$error":"#NUM!"}}]
[]
[49,{"$f":"VLOOKUP(A110,namelist,3)","v":0},{"$f":"ROUND((1-E110-G110)*H110,1)","v":{"$error":"#NUM!"}},null,{"$f":"IF(D110=0,0,CHOOSE(D110,$E$9,$E$10,$E$11))","v":0},null,{"$f":"IF(F110=0,0,(CHOOSE(F110,$E$9,$E$10,$E$11))*$G$11)","v":0},{"$f":"ROUND(I110*wariai,1)","v":{"$error":"#NUM!"}},{"$f":"AVERAGE(J110:N110)","v":{"$error":"#NUM!"}},{"$f":"SMALL(O110:X110,1)","v":{"$error":"#NUM!"}},{"$f":"SMALL(O110:X110,2)","v":{"$error":"#NUM!"}},{"$f":"SMALL(O110:X110,3)","v":{"$error":"#NUM!"}},{"$f":"SMALL(O110:X110,4)","v":{"$error":"#NUM!"}},{"$f":"SMALL(O110:X110,5)","v":{"$error":"#NUM!"}}]
[]
[50,{"$f":"VLOOKUP(A112,namelist,3)","v":0},{"$f":"ROUND((1-E112-G112)*H112,1)","v":{"$error":"#NUM!"}},null,{"$f":"IF(D112=0,0,CHOOSE(D112,$E$9,$E$10,$E$11))","v":0},null,{"$f":"IF(F112=0,0,(CHOOSE(F112,$E$9,$E$10,$E$11))*$G$11)","v":0},{"$f":"ROUND(I112*wariai,1)","v":{"$error":"#NUM!"}},{"$f":"AVERAGE(J112:N112)","v":{"$error":"#NUM!"}},{"$f":"SMALL(O112:X112,1)","v":{"$error":"#NUM!"}},{"$f":"SMALL(O112:X112,2)","v":{"$error":"#NUM!"}},{"$f":"SMALL(O112:X112,3)","v":{"$error":"#NUM!"}},{"$f":"SMALL(O112:X112,4)","v":{"$error":"#NUM!"}},{"$f":"SMALL(O112:X112,5)","v":{"$error":"#NUM!"}}]